{"text_format":"1","workbook":"xlsx","n_sheets":10,"sheets":["Sayfa1","Sayfa6","Sayfa5","Sayfa2","ANASAYFA","eokul","proje","dersiçiperformans","dersiçiperformans (2)","dersiçiperformans (3)"],"not_rendered":{"charts":0,"images":6,"macros":1,"external_links":0,"defined_names":4,"comments":1,"pivot_tables":0},"unopened":[],"bounds":{"document_bytes":16777216,"sheet_cells":100000,"rows_first":2000,"rows_last":500,"rows_between":2000,"halvings":0,"cell_chars":16384,"cell_head_chars":4096},"cells_cut":0,"cells_raw":0,"read":"whole","date_system":"1900"}

{"sheet":"Sayfa1","index":0,"n_rows":76,"n_cols":29,"rows_kept":76,"cut":false,"hidden":true,"merged":[]}
[]
[]
[]
[]
[null,null,null,{"$f":"proje!Z11","v":0},{"$f":"IF(D5=100,\"4\",IF(D5>80,\"4\",IF(D5>60,\"3\",IF(D5>40,\"2\",IF(D5>20,\"1\",IF(D5>0,0,\" \"))))))","v":" "},{"$f":"IF(D5=100,20,IF(D5>80,D5-80,IF(D5>60,D5-60,IF(D5>40,D5-40,IF(D5>20,D5-20,IF(D5>0,D5-0))))))","v":false},null,{"$f":"IF(F5-0>0,E5+1,E5)","v":" "},{"$f":"IF(F5-1>0,E5+1,E5)","v":" "},{"$f":"IF(F5-2>0,E5+1,E5)","v":" "},{"$f":"IF(F5-13>0,E5+1,E5)","v":" "},{"$f":"IF(F5-4>0,E5+1,E5)","v":" "},null,{"$f":"IF(F5-17>0,E5+1,E5)","v":" "},{"$f":"IF(F5-6>0,E5+1,E5)","v":" "},{"$f":"IF(F5-7>0,E5+1,E5)","v":" "},{"$f":"IF(F5-8>0,E5+1,E5)","v":" "},{"$f":"IF(F5-9>0,E5+1,E5)","v":" "},{"$f":"IF(F5-10>0,E5+1,E5)","v":" "},{"$f":"IF(F5-19>0,E5+1,E5)","v":" "},{"$f":"IF(F5-12>0,E5+1,E5)","v":" "},{"$f":"IF(F5-3>0,E5+1,E5)","v":" "},{"$f":"IF(F5-14>0,E5+1,E5)","v":" "},null,{"$f":"IF(F5-15>0,E5+1,E5)","v":" "},{"$f":"IF(F5-16>0,E5+1,E5)","v":" "},{"$f":"IF(F5-5>0,E5+1,E5)","v":" "},{"$f":"IF(F5-18>0,E5+1,E5)","v":" "},{"$f":"IF(F5-11>0,E5+1,E5)","v":" "}]
[null,null,null,{"$f":"proje!Z12","v":0},{"$f":"IF(D6=100,\"4\",IF(D6>80,\"4\",IF(D6>60,\"3\",IF(D6>40,\"2\",IF(D6>20,\"1\",IF(D6>0,0,\" \"))))))","v":" "},{"$f":"IF(D6=100,20,IF(D6>80,D6-80,IF(D6>60,D6-60,IF(D6>40,D6-40,IF(D6>20,D6-20,IF(D6>0,D6-0))))))","v":false},null,{"$f":"IF(F6-0>0,E6+1,E6)","v":" "},{"$f":"IF(F6-1>0,E6+1,E6)","v":" "},{"$f":"IF(F6-2>0,E6+1,E6)","v":" "},{"$f":"IF(F6-13>0,E6+1,E6)","v":" "},{"$f":"IF(F6-4>0,E6+1,E6)","v":" "},null,{"$f":"IF(F6-17>0,E6+1,E6)","v":" "},{"$f":"IF(F6-6>0,E6+1,E6)","v":" "},{"$f":"IF(F6-7>0,E6+1,E6)","v":" "},{"$f":"IF(F6-8>0,E6+1,E6)","v":" "},{"$f":"IF(F6-9>0,E6+1,E6)","v":" "},{"$f":"IF(F6-10>0,E6+1,E6)","v":" "},{"$f":"IF(F6-19>0,E6+1,E6)","v":" "},{"$f":"IF(F6-12>0,E6+1,E6)","v":" "},{"$f":"IF(F6-3>0,E6+1,E6)","v":" "},{"$f":"IF(F6-14>0,E6+1,E6)","v":" "},null,{"$f":"IF(F6-15>0,E6+1,E6)","v":" "},{"$f":"IF(F6-16>0,E6+1,E6)","v":" "},{"$f":"IF(F6-5>0,E6+1,E6)","v":" "},{"$f":"IF(F6-18>0,E6+1,E6)","v":" "},{"$f":"IF(F6-11>0,E6+1,E6)","v":" "}]
[null,null,null,{"$f":"proje!Z13","v":0}," ",false,null," "," "," "," "," ",null," "," "," "," "," "," "," "," "," "," ",null," "," "," "," "," "]
[null,null,null,{"$f":"proje!Z14","v":0}," ",false,null," "," "," "," "," ",null," "," "," "," "," "," "," "," "," "," ",null," "," "," "," "," "]
[null,null,null,{"$f":"proje!Z15","v":0}," ",false,null," "," "," "," "," ",null," "," "," "," "," "," "," "," "," "," ",null," "," "," "," "," "]
[null,null,null,{"$f":"proje!Z16","v":0}," ",false,null," "," "," "," "," ",null," "," "," "," "," "," "," "," "," "," ",null," "," "," "," "," "]
[null,null,null,{"$f":"proje!Z17","v":0}," ",false,null," "," "," "," "," ",null," "," "," "," "," "," "," "," "," "," ",null," "," "," "," "," "]
[null,null,null,{"$f":"proje!Z18","v":0}," ",false,null," "," "," "," "," ",null," "," "," "," "," "," "," "," "," "," ",null," "," "," "," "," "]
[null,null,null,{"$f":"proje!Z19","v":0}," ",false,null," "," "," "," "," ",null," "," "," "," "," "," "," "," "," "," ",null," "," "," "," "," "]
[null,null,null,{"$f":"proje!Z20","v":0}," ",false,null," "," "," "," "," ",null," "," "," "," "," "," "," "," "," "," ",null," "," "," "," "," "]
[null,null,null,{"$f":"proje!Z21","v":0}," ",false,null," "," "," "," "," ",null," "," "," "," "," "," "," "," "," "," ",null," "," "," "," "," "]
[null,null,null,{"$f":"proje!Z22","v":0}," ",false,null," "," "," "," "," ",null," "," "," "," "," "," "," "," "," "," ",null," "," "," "," "," "]
[null,null,null,{"$f":"proje!Z23","v":0}," ",false,null," "," "," "," "," ",null," "," "," "," "," "," "," "," "," "," ",null," "," "," "," "," "]
[null,null,null,{"$f":"proje!Z24","v":0}," ",false,null," "," "," "," "," ",null," "," "," "," "," "," "," "," "," "," ",null," "," "," "," "," "]
[null,null,null,{"$f":"proje!Z25","v":0}," ",false,null," "," "," "," "," ",null," "," "," "," "," "," "," "," "," "," ",null," "," "," "," "," "]
[null,null,null,{"$f":"proje!Z26","v":0}," ",false,null," "," "," "," "," ",null," "," "," "," "," "," "," "," "," "," ",null," "," "," "," "," "]
[null,null,null,{"$f":"proje!Z27","v":0}," ",false,null," "," "," "," "," ",null," "," "," "," "," "," "," "," "," "," ",null," "," "," "," "," "]
[null,null,null,{"$f":"proje!Z28","v":0}," ",false,null," "," "," "," "," ",null," "," "," "," "," "," "," "," "," "," ",null," "," "," "," "," "]
[null,null,null,{"$f":"proje!Z29","v":0}," ",false,null," "," "," "," "," ",null," "," "," "," "," "," "," "," "," "," ",null," "," "," "," "," "]
[null,null,null,{"$f":"proje!Z30","v":0}," ",false,null," "," "," "," "," ",null," "," "," "," "," "," "," "," "," "," ",null," "," "," "," "," "]
[null,null,null,{"$f":"proje!Z31","v":0}," ",false,null," "," "," "," "," ",null," "," "," "," "," "," "," "," "," "," ",null," "," "," "," "," "]
[null,null,null,{"$f":"proje!Z32","v":0}," ",false,null," "," "," "," "," ",null," "," "," "," "," "," "," "," "," "," ",null," "," "," "," "," "]
[null,null,null,{"$f":"proje!Z33","v":0}," ",false,null," "," "," "," "," ",null," "," "," "," "," "," "," "," "," "," ",null," "," "," "," "," "]
[null,null,null,{"$f":"proje!Z34","v":0}," ",false,null," "," "," "," "," ",null," "," "," "," "," "," "," "," "," "," ",null," "," "," "," "," "]
[null,null,null,{"$f":"proje!Z35","v":0}," ",false,null," "," "," "," "," ",null," "," "," "," "," "," "," "," "," "," ",null," "," "," "," "," "]
[null,null,null,{"$f":"proje!Z36","v":0}," ",false,null," "," "," "," "," ",null," "," "," "," "," "," "," "," "," "," ",null," "," "," "," "," "]
[null,null,null,{"$f":"proje!Z37","v":0}," ",false,null," "," "," "," "," ",null," "," "," "," "," "," "," "," "," "," ",null," "," "," "," "," "]
[null,null,null,{"$f":"proje!Z38","v":0}," ",false,null," "," "," "," "," ",null," "," "," "," "," "," "," "," "," "," ",null," "," "," "," "," "]
[null,null,null,{"$f":"proje!Z39","v":0}," ",false,null," "," "," "," "," ",null," "," "," "," "," "," "," "," "," "," ",null," "," "," "," "," "]
[null,null,null,{"$f":"proje!Z40","v":0}," ",false,null," "," "," "," "," ",null," "," "," "," "," "," "," "," "," "," ",null," "," "," "," "," "]
[null,null,null,{"$f":"proje!Z41","v":0}," ",false,null," "," "," "," "," ",null," "," "," "," "," "," "," "," "," "," ",null," "," "," "," "," "]
[null,null,null,{"$f":"proje!Z42","v":0}," ",false,null," "," "," "," "," ",null," "," "," "," "," "," "," "," "," "," ",null," "," "," "," "," "]
[null,null,null,{"$f":"proje!Z43","v":0}," ",false,null," "," "," "," "," ",null," "," "," "," "," "," "," "," "," "," ",null," "," "," "," "," "]
[null,null,null,{"$f":"proje!Z44","v":0}," ",false,null," "," "," "," "," ",null," "," "," "," "," "," "," "," "," "," ",null," "," "," "," "," "]
[null,null,null,{"$f":"proje!Z45","v":0}," ",false,null," "," "," "," "," ",null," "," "," "," "," "," "," "," "," "," ",null," "," "," "," "," "]
[null,null,null,{"$f":"proje!Z46","v":0}," ",false,null," "," "," "," "," ",null," "," "," "," "," "," "," "," "," "," ",null," "," "," "," "," "]
[null,null,null,{"$f":"proje!Z47","v":0}," ",false,null," "," "," "," "," ",null," "," "," "," "," "," "," "," "," "," ",null," "," "," "," "," "]
[null,null,null,{"$f":"proje!Z48","v":0}," ",false,null," "," "," "," "," ",null," "," "," "," "," "," "," "," "," "," ",null," "," "," "," "," "]
[null,null,null,{"$f":"proje!Z49","v":0}," ",false,null," "," "," "," "," ",null," "," "," "," "," "," "," "," "," "," ",null," "," "," "," "," "]
[null,null,null,{"$f":"proje!Z50","v":0}," ",false,null," "," "," "," "," ",null," "," "," "," "," "," "," "," "," "," ",null," "," "," "," "," "]
[null,null,null,{"$f":"proje!#REF!","v":{"$error":"#REF!"}},{"$error":"#REF!"},{"$error":"#REF!"},null,{"$error":"#REF!"},{"$error":"#REF!"},{"$error":"#REF!"},{"$error":"#REF!"},{"$error":"#REF!"},null,{"$error":"#REF!"},{"$error":"#REF!"},{"$error":"#REF!"},{"$error":"#REF!"},{"$error":"#REF!"},{"$error":"#REF!"},{"$error":"#REF!"},{"$error":"#REF!"},{"$error":"#REF!"},{"$error":"#REF!"},null,{"$error":"#REF!"},{"$error":"#REF!"},{"$error":"#REF!"},{"$error":"#REF!"},{"$error":"#REF!"}]
[null,null,null,{"$f":"proje!#REF!","v":{"$error":"#REF!"}},{"$error":"#REF!"},{"$error":"#REF!"},null,{"$error":"#REF!"},{"$error":"#REF!"},{"$error":"#REF!"},{"$error":"#REF!"},{"$error":"#REF!"},null,{"$error":"#REF!"},{"$error":"#REF!"},{"$error":"#REF!"},{"$error":"#REF!"},{"$error":"#REF!"},{"$error":"#REF!"},{"$error":"#REF!"},{"$error":"#REF!"},{"$error":"#REF!"},{"$error":"#REF!"},null,{"$error":"#REF!"},{"$error":"#REF!"},{"$error":"#REF!"},{"$error":"#REF!"},{"$error":"#REF!"}]
[null,null,null,{"$f":"proje!#REF!","v":{"$error":"#REF!"}},{"$error":"#REF!"},{"$error":"#REF!"},null,{"$error":"#REF!"},{"$error":"#REF!"},{"$error":"#REF!"},{"$error":"#REF!"},{"$error":"#REF!"},null,{"$error":"#REF!"},{"$error":"#REF!"},{"$error":"#REF!"},{"$error":"#REF!"},{"$error":"#REF!"},{"$error":"#REF!"},{"$error":"#REF!"},{"$error":"#REF!"},{"$error":"#REF!"},{"$error":"#REF!"},null,{"$error":"#REF!"},{"$error":"#REF!"},{"$error":"#REF!"},{"$error":"#REF!"},{"$error":"#REF!"}]
[null,null,null,{"$f":"proje!#REF!","v":{"$error":"#REF!"}},{"$error":"#REF!"},{"$error":"#REF!"},null,{"$error":"#REF!"},{"$error":"#REF!"},{"$error":"#REF!"},{"$error":"#REF!"},{"$error":"#REF!"},null,{"$error":"#REF!"},{"$error":"#REF!"},{"$error":"#REF!"},{"$error":"#REF!"},{"$error":"#REF!"},{"$error":"#REF!"},{"$error":"#REF!"},{"$error":"#REF!"},{"$error":"#REF!"},{"$error":"#REF!"},null,{"$error":"#REF!"},{"$error":"#REF!"},{"$error":"#REF!"},{"$error":"#REF!"},{"$error":"#REF!"}]
[null,null,null,{"$f":"proje!#REF!","v":{"$error":"#REF!"}},{"$error":"#REF!"},{"$error":"#REF!"},null,{"$error":"#REF!"},{"$error":"#REF!"},{"$error":"#REF!"},{"$error":"#REF!"},{"$error":"#REF!"},null,{"$error":"#REF!"},{"$error":"#REF!"},{"$error":"#REF!"},{"$error":"#REF!"},{"$error":"#REF!"},{"$error":"#REF!"},{"$error":"#REF!"},{"$error":"#REF!"},{"$error":"#REF!"},{"$error":"#REF!"},null,{"$error":"#REF!"},{"$error":"#REF!"},{"$error":"#REF!"},{"$error":"#REF!"},{"$error":"#REF!"}]
[null,null,null,{"$f":"proje!#REF!","v":{"$error":"#REF!"}},{"$error":"#REF!"},{"$error":"#REF!"},null,{"$error":"#REF!"},{"$error":"#REF!"},{"$error":"#REF!"},{"$error":"#REF!"},{"$error":"#REF!"},null,{"$error":"#REF!"},{"$error":"#REF!"},{"$error":"#REF!"},{"$error":"#REF!"},{"$error":"#REF!"},{"$error":"#REF!"},{"$error":"#REF!"},{"$error":"#REF!"},{"$error":"#REF!"},{"$error":"#REF!"},null,{"$error":"#REF!"},{"$error":"#REF!"},{"$error":"#REF!"},{"$error":"#REF!"},{"$error":"#REF!"}]
[null,null,null,{"$f":"proje!#REF!","v":{"$error":"#REF!"}},{"$error":"#REF!"},{"$error":"#REF!"},null,{"$error":"#REF!"},{"$error":"#REF!"},{"$error":"#REF!"},{"$error":"#REF!"},{"$error":"#REF!"},null,{"$error":"#REF!"},{"$error":"#REF!"},{"$error":"#REF!"},{"$error":"#REF!"},{"$error":"#REF!"},{"$error":"#REF!"},{"$error":"#REF!"},{"$error":"#REF!"},{"$error":"#REF!"},{"$error":"#REF!"},null,{"$error":"#REF!"},{"$error":"#REF!"},{"$error":"#REF!"},{"$error":"#REF!"},{"$error":"#REF!"}]
[null,null,null,{"$f":"proje!#REF!","v":{"$error":"#REF!"}},{"$error":"#REF!"},{"$error":"#REF!"},null,{"$error":"#REF!"},{"$error":"#REF!"},{"$error":"#REF!"},{"$error":"#REF!"},{"$error":"#REF!"},null,{"$error":"#REF!"},{"$error":"#REF!"},{"$error":"#REF!"},{"$error":"#REF!"},{"$error":"#REF!"},{"$error":"#REF!"},{"$error":"#REF!"},{"$error":"#REF!"},{"$error":"#REF!"},{"$error":"#REF!"},null,{"$error":"#REF!"},{"$error":"#REF!"},{"$error":"#REF!"},{"$error":"#REF!"},{"$error":"#REF!"}]
[null,null,null,{"$f":"proje!#REF!","v":{"$error":"#REF!"}},{"$error":"#REF!"},{"$error":"#REF!"},null,{"$error":"#REF!"},{"$error":"#REF!"},{"$error":"#REF!"},{"$error":"#REF!"},{"$error":"#REF!"},null,{"$error":"#REF!"},{"$error":"#REF!"},{"$error":"#REF!"},{"$error":"#REF!"},{"$error":"#REF!"},{"$error":"#REF!"},{"$error":"#REF!"},{"$error":"#REF!"},{"$error":"#REF!"},{"$error":"#REF!"},null,{"$error":"#REF!"},{"$error":"#REF!"},{"$error":"#REF!"},{"$error":"#REF!"},{"$error":"#REF!"}]
[null,null,null,{"$f":"proje!#REF!","v":{"$error":"#REF!"}},{"$error":"#REF!"},{"$error":"#REF!"},null,{"$error":"#REF!"},{"$error":"#REF!"},{"$error":"#REF!"},{"$error":"#REF!"},{"$error":"#REF!"},null,{"$error":"#REF!"},{"$error":"#REF!"},{"$error":"#REF!"},{"$error":"#REF!"},{"$error":"#REF!"},{"$error":"#REF!"},{"$error":"#REF!"},{"$error":"#REF!"},{"$error":"#REF!"},{"$error":"#REF!"},null,{"$error":"#REF!"},{"$error":"#REF!"},{"$error":"#REF!"},{"$error":"#REF!"},{"$error":"#REF!"}]
[null,null,null,{"$f":"proje!#REF!","v":{"$error":"#REF!"}},{"$error":"#REF!"},{"$error":"#REF!"},null,{"$error":"#REF!"},{"$error":"#REF!"},{"$error":"#REF!"},{"$error":"#REF!"},{"$error":"#REF!"},null,{"$error":"#REF!"},{"$error":"#REF!"},{"$error":"#REF!"},{"$error":"#REF!"},{"$error":"#REF!"},{"$error":"#REF!"},{"$error":"#REF!"},{"$error":"#REF!"},{"$error":"#REF!"},{"$error":"#REF!"},null,{"$error":"#REF!"},{"$error":"#REF!"},{"$error":"#REF!"},{"$error":"#REF!"},{"$error":"#REF!"}]
[null,null,null,{"$f":"proje!#REF!","v":{"$error":"#REF!"}},{"$error":"#REF!"},{"$error":"#REF!"},null,{"$error":"#REF!"},{"$error":"#REF!"},{"$error":"#REF!"},{"$error":"#REF!"},{"$error":"#REF!"},null,{"$error":"#REF!"},{"$error":"#REF!"},{"$error":"#REF!"},{"$error":"#REF!"},{"$error":"#REF!"},{"$error":"#REF!"},{"$error":"#REF!"},{"$error":"#REF!"},{"$error":"#REF!"},{"$error":"#REF!"},null,{"$error":"#REF!"},{"$error":"#REF!"},{"$error":"#REF!"},{"$error":"#REF!"},{"$error":"#REF!"}]
[null,null,null,{"$f":"proje!#REF!","v":{"$error":"#REF!"}},{"$error":"#REF!"},{"$error":"#REF!"},null,{"$error":"#REF!"},{"$error":"#REF!"},{"$error":"#REF!"},{"$error":"#REF!"},{"$error":"#REF!"},null,{"$error":"#REF!"},{"$error":"#REF!"},{"$error":"#REF!"},{"$error":"#REF!"},{"$error":"#REF!"},{"$error":"#REF!"},{"$error":"#REF!"},{"$error":"#REF!"},{"$error":"#REF!"},{"$error":"#REF!"},null,{"$error":"#REF!"},{"$error":"#REF!"},{"$error":"#REF!"},{"$error":"#REF!"},{"$error":"#REF!"}]
[null,null,null,{"$f":"proje!Z51","v":0}," ",false,null," "," "," "," "," ",null," "," "," "," "," "," "," "," "," "," ",null," "," "," "," "," "]
[null,null,null,{"$f":"proje!Z52","v":0}," ",false,null," "," "," "," "," ",null," "," "," "," "," "," "," "," "," "," ",null," "," "," "," "," "]
[null,null,null,{"$f":"proje!Z53","v":0}," ",false,null," "," "," "," "," ",null," "," "," "," "," "," "," "," "," "," ",null," "," "," "," "," "]
[null,null,null,{"$f":"proje!Z54","v":0}," ",false,null," "," "," "," "," ",null," "," "," "," "," "," "," "," "," "," ",null," "," "," "," "," "]
[null,null,null,{"$f":"proje!Z55","v":0}," ",false,null," "," "," "," "," ",null," "," "," "," "," "," "," "," "," "," ",null," "," "," "," "," "]
[null,null,null,{"$f":"proje!Z56","v":0}," ",false,null," "," "," "," "," ",null," "," "," "," "," "," "," "," "," "," ",null," "," "," "," "," "]
[null,null,null,{"$f":"proje!Z57","v":0}," ",false,null," "," "," "," "," ",null," "," "," "," "," "," "," "," "," "," ",null," "," "," "," "," "]
[null,null,null,{"$f":"proje!Z58","v":0}," ",false,null," "," "," "," "," ",null," "," "," "," "," "," "," "," "," "," ",null," "," "," "," "," "]
[null,null,null,{"$f":"proje!Z59","v":0}," ",false,null," "," "," "," "," ",null," "," "," "," "," "," "," "," "," "," ",null," "," "," "," "," "]
[null,null,null,{"$f":"proje!Z60","v":0}," ",false,null," "," "," "," "," ",null," "," "," "," "," "," "," "," "," "," ",null," "," "," "," "," "]
[null,null,null,{"$f":"proje!Z61","v":0}," ",false,null," "," "," "," "," ",null," "," "," "," "," "," "," "," "," "," ",null," "," "," "," "," "]
[null,null,null,{"$f":"proje!Z62","v":0}," ",false,null," "," "," "," "," ",null," "," "," "," "," "," "," "," "," "," ",null," "," "," "," "," "]
[null,null,null,{"$f":"proje!Z63","v":0},{"$f":"IF(D70=100,\"4\",IF(D70>80,\"4\",IF(D70>60,\"3\",IF(D70>40,\"2\",IF(D70>20,\"1\",IF(D70>0,0,\" \"))))))","v":" "},{"$f":"IF(D70=100,20,IF(D70>80,D70-80,IF(D70>60,D70-60,IF(D70>40,D70-40,IF(D70>20,D70-20,IF(D70>0,D70-0))))))","v":false},null,{"$f":"IF(F70-0>0,E70+1,E70)","v":" "},{"$f":"IF(F70-1>0,E70+1,E70)","v":" "},{"$f":"IF(F70-2>0,E70+1,E70)","v":" "},{"$f":"IF(F70-13>0,E70+1,E70)","v":" "},{"$f":"IF(F70-4>0,E70+1,E70)","v":" "},null,{"$f":"IF(F70-17>0,E70+1,E70)","v":" "},{"$f":"IF(F70-6>0,E70+1,E70)","v":" "},{"$f":"IF(F70-7>0,E70+1,E70)","v":" "},{"$f":"IF(F70-8>0,E70+1,E70)","v":" "},{"$f":"IF(F70-9>0,E70+1,E70)","v":" "},{"$f":"IF(F70-10>0,E70+1,E70)","v":" "},{"$f":"IF(F70-19>0,E70+1,E70)","v":" "},{"$f":"IF(F70-12>0,E70+1,E70)","v":" "},{"$f":"IF(F70-3>0,E70+1,E70)","v":" "},{"$f":"IF(F70-14>0,E70+1,E70)","v":" "},null,{"$f":"IF(F70-15>0,E70+1,E70)","v":" "},{"$f":"IF(F70-16>0,E70+1,E70)","v":" "},{"$f":"IF(F70-5>0,E70+1,E70)","v":" "},{"$f":"IF(F70-18>0,E70+1,E70)","v":" "},{"$f":"IF(F70-11>0,E70+1,E70)","v":" "}]
[null,null,null,{"$f":"proje!Z64","v":0}," ",false,null," "," "," "," "," ",null," "," "," "," "," "," "," "," "," "," ",null," "," "," "," "," "]
[null,null,null,{"$f":"proje!Z65","v":0}," ",false,null," "," "," "," "," ",null," "," "," "," "," "," "," "," "," "," ",null," "," "," "," "," "]
[null,null,null,{"$f":"proje!Z66","v":0}," ",false,null," "," "," "," "," ",null," "," "," "," "," "," "," "," "," "," ",null," "," "," "," "," "]
[null,null,null,{"$f":"proje!Z67","v":0}," ",false,null," "," "," "," "," ",null," "," "," "," "," "," "," "," "," "," ",null," "," "," "," "," "]
[null,null,null,{"$f":"proje!Z68","v":0}," ",false,null," "," "," "," "," ",null," "," "," "," "," "," "," "," "," "," ",null," "," "," "," "," "]
[null,null,null,{"$f":"proje!Z69","v":0}," ",false,null," "," "," "," "," ",null," "," "," "," "," "," "," "," "," "," ",null," "," "," "," "," "]

{"sheet":"Sayfa6","index":1,"n_rows":75,"n_cols":31,"rows_kept":75,"cut":false,"hidden":true,"merged":[]}
[]
[]
[]
[]
[null,null,null,{"$f":"'dersiçiperformans (3)'!Z11","v":0},{"$f":"IF(D5=100,\"4\",IF(D5>80,\"4\",IF(D5>60,\"3\",IF(D5>40,\"2\",IF(D5>20,\"1\",IF(D5>0,0,\" \"))))))","v":" "},{"$f":"IF(D5=100,20,IF(D5>80,D5-80,IF(D5>60,D5-60,IF(D5>40,D5-40,IF(D5>20,D5-20,IF(D5>0,D5-0))))))","v":false},null,{"$f":"IF(F5-0>0,E5+1,E5)","v":" "},{"$f":"IF(F5-1>0,E5+1,E5)","v":" "},{"$f":"IF(F5-2>0,E5+1,E5)","v":" "},{"$f":"IF(F5-13>0,E5+1,E5)","v":" "},{"$f":"IF(F5-4>0,E5+1,E5)","v":" "},null,{"$f":"IF(F5-17>0,E5+1,E5)","v":" "},{"$f":"IF(F5-6>0,E5+1,E5)","v":" "},{"$f":"IF(F5-7>0,E5+1,E5)","v":" "},{"$f":"IF(F5-8>0,E5+1,E5)","v":" "},{"$f":"IF(F5-9>0,E5+1,E5)","v":" "},null,{"$f":"IF(F5-10>0,E5+1,E5)","v":" "},{"$f":"IF(F5-19>0,E5+1,E5)","v":" "},{"$f":"IF(F5-12>0,E5+1,E5)","v":" "},{"$f":"IF(F5-3>0,E5+1,E5)","v":" "},{"$f":"IF(F5-14>0,E5+1,E5)","v":" "},null,{"$f":"IF(F5-15>0,E5+1,E5)","v":" "},{"$f":"IF(F5-16>0,E5+1,E5)","v":" "},null,{"$f":"IF(F5-5>0,E5+1,E5)","v":" "},{"$f":"IF(F5-18>0,E5+1,E5)","v":" "},{"$f":"IF(F5-11>0,E5+1,E5)","v":" "}]
[null,null,null,{"$f":"'dersiçiperformans (3)'!Z12","v":0},{"$f":"IF(D6=100,\"4\",IF(D6>80,\"4\",IF(D6>60,\"3\",IF(D6>40,\"2\",IF(D6>20,\"1\",IF(D6>0,0,\" \"))))))","v":" "},{"$f":"IF(D6=100,20,IF(D6>80,D6-80,IF(D6>60,D6-60,IF(D6>40,D6-40,IF(D6>20,D6-20,IF(D6>0,D6-0))))))","v":false},null,{"$f":"IF(F6-0>0,E6+1,E6)","v":" "},{"$f":"IF(F6-1>0,E6+1,E6)","v":" "},{"$f":"IF(F6-2>0,E6+1,E6)","v":" "},{"$f":"IF(F6-13>0,E6+1,E6)","v":" "},{"$f":"IF(F6-4>0,E6+1,E6)","v":" "},null,{"$f":"IF(F6-17>0,E6+1,E6)","v":" "},{"$f":"IF(F6-6>0,E6+1,E6)","v":" "},{"$f":"IF(F6-7>0,E6+1,E6)","v":" "},{"$f":"IF(F6-8>0,E6+1,E6)","v":" "},{"$f":"IF(F6-9>0,E6+1,E6)","v":" "},null,{"$f":"IF(F6-10>0,E6+1,E6)","v":" "},{"$f":"IF(F6-19>0,E6+1,E6)","v":" "},{"$f":"IF(F6-12>0,E6+1,E6)","v":" "},{"$f":"IF(F6-3>0,E6+1,E6)","v":" "},{"$f":"IF(F6-14>0,E6+1,E6)","v":" "},null,{"$f":"IF(F6-15>0,E6+1,E6)","v":" "},{"$f":"IF(F6-16>0,E6+1,E6)","v":" "},null,{"$f":"IF(F6-5>0,E6+1,E6)","v":" "},{"$f":"IF(F6-18>0,E6+1,E6)","v":" "},{"$f":"IF(F6-11>0,E6+1,E6)","v":" "}]
[null,null,null,{"$f":"'dersiçiperformans (3)'!Z13","v":0}," ",false,null," "," "," "," "," ",null," "," "," "," "," ",null," "," "," "," "," ",null," "," ",null," "," "," "]
[null,null,null,{"$f":"'dersiçiperformans (3)'!Z14","v":0}," ",false,null," "," "," "," "," ",null," "," "," "," "," ",null," "," "," "," "," ",null," "," ",null," "," "," "]
[null,null,null,{"$f":"'dersiçiperformans (3)'!Z15","v":0}," ",false,null," "," "," "," "," ",null," "," "," "," "," ",null," "," "," "," "," ",null," "," ",null," "," "," "]
[null,null,null,{"$f":"'dersiçiperformans (3)'!Z16","v":0}," ",false,null," "," "," "," "," ",null," "," "," "," "," ",null," "," "," "," "," ",null," "," ",null," "," "," "]
[null,null,null,{"$f":"'dersiçiperformans (3)'!Z17","v":0}," ",false,null," "," "," "," "," ",null," "," "," "," "," ",null," "," "," "," "," ",null," "," ",null," "," "," "]
[null,null,null,{"$f":"'dersiçiperformans (3)'!Z18","v":0}," ",false,null," "," "," "," "," ",null," "," "," "," "," ",null," "," "," "," "," ",null," "," ",null," "," "," "]
[null,null,null,{"$f":"'dersiçiperformans (3)'!Z19","v":0}," ",false,null," "," "," "," "," ",null," "," "," "," "," ",null," "," "," "," "," ",null," "," ",null," "," "," "]
[null,null,null,{"$f":"'dersiçiperformans (3)'!Z20","v":0}," ",false,null," "," "," "," "," ",null," "," "," "," "," ",null," "," "," "," "," ",null," "," ",null," "," "," "]
[null,null,null,{"$f":"'dersiçiperformans (3)'!Z21","v":0}," ",false,null," "," "," "," "," ",null," "," "," "," "," ",null," "," "," "," "," ",null," "," ",null," "," "," "]
[null,null,null,{"$f":"'dersiçiperformans (3)'!Z22","v":0}," ",false,null," "," "," "," "," ",null," "," "," "," "," ",null," "," "," "," "," ",null," "," ",null," "," "," "]
[null,null,null,{"$f":"'dersiçiperformans (3)'!Z23","v":0}," ",false,null," "," "," "," "," ",null," "," "," "," "," ",null," "," "," "," "," ",null," "," ",null," "," "," "]
[null,null,null,{"$f":"'dersiçiperformans (3)'!Z24","v":0}," ",false,null," "," "," "," "," ",null," "," "," "," "," ",null," "," "," "," "," ",null," "," ",null," "," "," "]
[null,null,null,{"$f":"'dersiçiperformans (3)'!Z25","v":0}," ",false,null," "," "," "," "," ",null," "," "," "," "," ",null," "," "," "," "," ",null," "," ",null," "," "," "]
[null,null,null,{"$f":"'dersiçiperformans (3)'!Z26","v":0}," ",false,null," "," "," "," "," ",null," "," "," "," "," ",null," "," "," "," "," ",null," "," ",null," "," "," "]
[null,null,null,{"$f":"'dersiçiperformans (3)'!Z27","v":0}," ",false,null," "," "," "," "," ",null," "," "," "," "," ",null," "," "," "," "," ",null," "," ",null," "," "," "]
[null,null,null,{"$f":"'dersiçiperformans (3)'!Z28","v":0}," ",false,null," "," "," "," "," ",null," "," "," "," "," ",null," "," "," "," "," ",null," "," ",null," "," "," "]
[null,null,null,{"$f":"'dersiçiperformans (3)'!Z29","v":0}," ",false,null," "," "," "," "," ",null," "," "," "," "," ",null," "," "," "," "," ",null," "," ",null," "," "," "]
[null,null,null,{"$f":"'dersiçiperformans (3)'!Z30","v":0}," ",false,null," "," "," "," "," ",null," "," "," "," "," ",null," "," "," "," "," ",null," "," ",null," "," "," "]
[null,null,null,{"$f":"'dersiçiperformans (3)'!Z31","v":0}," ",false,null," "," "," "," "," ",null," "," "," "," "," ",null," "," "," "," "," ",null," "," ",null," "," "," "]
[null,null,null,{"$f":"'dersiçiperformans (3)'!Z32","v":0}," ",false,null," "," "," "," "," ",null," "," "," "," "," ",null," "," "," "," "," ",null," "," ",null," "," "," "]
[null,null,null,{"$f":"'dersiçiperformans (3)'!Z33","v":0}," ",false,null," "," "," "," "," ",null," "," "," "," "," ",null," "," "," "," "," ",null," "," ",null," "," "," "]
[null,null,null,{"$f":"'dersiçiperformans (3)'!Z34","v":0}," ",false,null," "," "," "," "," ",null," "," "," "," "," ",null," "," "," "," "," ",null," "," ",null," "," "," "]
[null,null,null,{"$f":"'dersiçiperformans (3)'!Z35","v":0}," ",false,null," "," "," "," "," ",null," "," "," "," "," ",null," "," "," "," "," ",null," "," ",null," "," "," "]
[null,null,null,{"$f":"'dersiçiperformans (3)'!Z36","v":0}," ",false,null," "," "," "," "," ",null," "," "," "," "," ",null," "," "," "," "," ",null," "," ",null," "," "," "]
[null,null,null,{"$f":"'dersiçiperformans (3)'!Z37","v":0}," ",false,null," "," "," "," "," ",null," "," "," "," "," ",null," "," "," "," "," ",null," "," ",null," "," "," "]
[null,null,null,{"$f":"'dersiçiperformans (3)'!Z38","v":0}," ",false,null," "," "," "," "," ",null," "," "," "," "," ",null," "," "," "," "," ",null," "," ",null," "," "," "]
[null,null,null,{"$f":"'dersiçiperformans (3)'!Z39","v":0}," ",false,null," "," "," "," "," ",null," "," "," "," "," ",null," "," "," "," "," ",null," "," ",null," "," "," "]
[null,null,null,{"$f":"'dersiçiperformans (3)'!Z40","v":0}," ",false,null," "," "," "," "," ",null," "," "," "," "," ",null," "," "," "," "," ",null," "," ",null," "," "," "]
[null,null,null,{"$f":"'dersiçiperformans (3)'!Z41","v":0}," ",false,null," "," "," "," "," ",null," "," "," "," "," ",null," "," "," "," "," ",null," "," ",null," "," "," "]
[null,null,null,{"$f":"'dersiçiperformans (3)'!Z42","v":0}," ",false,null," "," "," "," "," ",null," "," "," "," "," ",null," "," "," "," "," ",null," "," ",null," "," "," "]
[null,null,null,{"$f":"'dersiçiperformans (3)'!Z43","v":0}," ",false,null," "," "," "," "," ",null," "," "," "," "," ",null," "," "," "," "," ",null," "," ",null," "," "," "]
[null,null,null,{"$f":"'dersiçiperformans (3)'!Z44","v":0}," ",false,null," "," "," "," "," ",null," "," "," "," "," ",null," "," "," "," "," ",null," "," ",null," "," "," "]
[null,null,null,{"$f":"'dersiçiperformans (3)'!Z45","v":0}," ",false,null," "," "," "," "," ",null," "," "," "," "," ",null," "," "," "," "," ",null," "," ",null," "," "," "]
[null,null,null,{"$f":"'dersiçiperformans (3)'!Z46","v":0}," ",false,null," "," "," "," "," ",null," "," "," "," "," ",null," "," "," "," "," ",null," "," ",null," "," "," "]
[null,null,null,{"$f":"'dersiçiperformans (3)'!Z47","v":0}," ",false,null," "," "," "," "," ",null," "," "," "," "," ",null," "," "," "," "," ",null," "," ",null," "," "," "]
[null,null,null,{"$f":"'dersiçiperformans (3)'!Z48","v":0}," ",false,null," "," "," "," "," ",null," "," "," "," "," ",null," "," "," "," "," ",null," "," ",null," "," "," "]
[null,null,null,{"$f":"'dersiçiperformans (3)'!Z49","v":0}," ",false,null," "," "," "," "," ",null," "," "," "," "," ",null," "," "," "," "," ",null," "," ",null," "," "," "]
[null,null,null,{"$f":"'dersiçiperformans (3)'!Z50","v":0}," ",false,null," "," "," "," "," ",null," "," "," "," "," ",null," "," "," "," "," ",null," "," ",null," "," "," "]
[null,null,null,{"$f":"'dersiçiperformans (3)'!Z51","v":0}," ",false,null," "," "," "," "," ",null," "," "," "," "," ",null," "," "," "," "," ",null," "," ",null," "," "," "]
[null,null,null,{"$f":"'dersiçiperformans (3)'!Z52","v":0}," ",false,null," "," "," "," "," ",null," "," "," "," "," ",null," "," "," "," "," ",null," "," ",null," "," "," "]
[null,null,null,{"$f":"'dersiçiperformans (3)'!Z53","v":0}," ",false,null," "," "," "," "," ",null," "," "," "," "," ",null," "," "," "," "," ",null," "," ",null," "," "," "]
[null,null,null,{"$f":"'dersiçiperformans (3)'!Z54","v":0}," ",false,null," "," "," "," "," ",null," "," "," "," "," ",null," "," "," "," "," ",null," "," ",null," "," "," "]
[null,null,null,{"$f":"'dersiçiperformans (3)'!Z55","v":0}," ",false,null," "," "," "," "," ",null," "," "," "," "," ",null," "," "," "," "," ",null," "," ",null," "," "," "]
[null,null,null,{"$f":"'dersiçiperformans (3)'!Z56","v":0}," ",false,null," "," "," "," "," ",null," "," "," "," "," ",null," "," "," "," "," ",null," "," ",null," "," "," "]
[null,null,null,{"$f":"'dersiçiperformans (3)'!Z57","v":0}," ",false,null," "," "," "," "," ",null," "," "," "," "," ",null," "," "," "," "," ",null," "," ",null," "," "," "]
[null,null,null,{"$f":"'dersiçiperformans (3)'!Z58","v":0}," ",false,null," "," "," "," "," ",null," "," "," "," "," ",null," "," "," "," "," ",null," "," ",null," "," "," "]
[null,null,null,{"$f":"'dersiçiperformans (3)'!Z59","v":0}," ",false,null," "," "," "," "," ",null," "," "," "," "," ",null," "," "," "," "," ",null," "," ",null," "," "," "]
[null,null,null,{"$f":"'dersiçiperformans (3)'!Z60","v":0}," ",false,null," "," "," "," "," ",null," "," "," "," "," ",null," "," "," "," "," ",null," "," ",null," "," "," "]
[null,null,null,{"$f":"'dersiçiperformans (3)'!Z61","v":0}," ",false,null," "," "," "," "," ",null," "," "," "," "," ",null," "," "," "," "," ",null," "," ",null," "," "," "]
[null,null,null,{"$f":"'dersiçiperformans (3)'!Z62","v":0}," ",false,null," "," "," "," "," ",null," "," "," "," "," ",null," "," "," "," "," ",null," "," ",null," "," "," "]
[null,null,null,{"$f":"'dersiçiperformans (3)'!Z63","v":0}," ",false,null," "," "," "," "," ",null," "," "," "," "," ",null," "," "," "," "," ",null," "," ",null," "," "," "]
[null,null,null,{"$f":"'dersiçiperformans (3)'!Z64","v":0}," ",false,null," "," "," "," "," ",null," "," "," "," "," ",null," "," "," "," "," ",null," "," ",null," "," "," "]
[null,null,null,{"$f":"'dersiçiperformans (3)'!Z65","v":0}," ",false,null," "," "," "," "," ",null," "," "," "," "," ",null," "," "," "," "," ",null," "," ",null," "," "," "]
[null,null,null,{"$f":"'dersiçiperformans (3)'!Z66","v":0}," ",false,null," "," "," "," "," ",null," "," "," "," "," ",null," "," "," "," "," ",null," "," ",null," "," "," "]
[null,null,null,{"$f":"'dersiçiperformans (3)'!Z67","v":0}," ",false,null," "," "," "," "," ",null," "," "," "," "," ",null," "," "," "," "," ",null," "," ",null," "," "," "]
[null,null,null,{"$f":"'dersiçiperformans (3)'!Z68","v":0}," ",false,null," "," "," "," "," ",null," "," "," "," "," ",null," "," "," "," "," ",null," "," ",null," "," "," "]
[null,null,null,{"$f":"'dersiçiperformans (3)'!Z69","v":0}," ",false,null," "," "," "," "," ",null," "," "," "," "," ",null," "," "," "," "," ",null," "," ",null," "," "," "]
[null,null,null,{"$f":"'dersiçiperformans (3)'!Z70","v":0}," ",false,null," "," "," "," "," ",null," "," "," "," "," ",null," "," "," "," "," ",null," "," ",null," "," "," "]
[null,null,null,{"$f":"'dersiçiperformans (3)'!Z71","v":0}," ",false,null," "," "," "," "," ",null," "," "," "," "," ",null," "," "," "," "," ",null," "," ",null," "," "," "]
[null,null,null,{"$f":"'dersiçiperformans (3)'!Z72","v":0}," ",false,null," "," "," "," "," ",null," "," "," "," "," ",null," "," "," "," "," ",null," "," ",null," "," "," "]
[null,null,null,{"$f":"'dersiçiperformans (3)'!Z73","v":0}," ",false,null," "," "," "," "," ",null," "," "," "," "," ",null," "," "," "," "," ",null," "," ",null," "," "," "]
[null,null,null,{"$f":"'dersiçiperformans (3)'!Z74","v":0}," ",false,null," "," "," "," "," ",null," "," "," "," "," ",null," "," "," "," "," ",null," "," ",null," "," "," "]
[null,null,null,{"$f":"'dersiçiperformans (3)'!Z75","v":0}," ",false,null," "," "," "," "," ",null," "," "," "," "," ",null," "," "," "," "," ",null," "," ",null," "," "," "]
[null,null,null,{"$f":"'dersiçiperformans (3)'!Z76","v":0},{"$f":"IF(D70=100,\"4\",IF(D70>80,\"4\",IF(D70>60,\"3\",IF(D70>40,\"2\",IF(D70>20,\"1\",IF(D70>0,0,\" \"))))))","v":" "},{"$f":"IF(D70=100,20,IF(D70>80,D70-80,IF(D70>60,D70-60,IF(D70>40,D70-40,IF(D70>20,D70-20,IF(D70>0,D70-0))))))","v":false},null,{"$f":"IF(F70-0>0,E70+1,E70)","v":" "},{"$f":"IF(F70-1>0,E70+1,E70)","v":" "},{"$f":"IF(F70-2>0,E70+1,E70)","v":" "},{"$f":"IF(F70-13>0,E70+1,E70)","v":" "},{"$f":"IF(F70-4>0,E70+1,E70)","v":" "},null,{"$f":"IF(F70-17>0,E70+1,E70)","v":" "},{"$f":"IF(F70-6>0,E70+1,E70)","v":" "},{"$f":"IF(F70-7>0,E70+1,E70)","v":" "},{"$f":"IF(F70-8>0,E70+1,E70)","v":" "},{"$f":"IF(F70-9>0,E70+1,E70)","v":" "},null,{"$f":"IF(F70-10>0,E70+1,E70)","v":" "},{"$f":"IF(F70-19>0,E70+1,E70)","v":" "},{"$f":"IF(F70-12>0,E70+1,E70)","v":" "},{"$f":"IF(F70-3>0,E70+1,E70)","v":" "},{"$f":"IF(F70-14>0,E70+1,E70)","v":" "},null,{"$f":"IF(F70-15>0,E70+1,E70)","v":" "},{"$f":"IF(F70-16>0,E70+1,E70)","v":" "},null,{"$f":"IF(F70-5>0,E70+1,E70)","v":" "},{"$f":"IF(F70-18>0,E70+1,E70)","v":" "},{"$f":"IF(F70-11>0,E70+1,E70)","v":" "}]
[null,null,null,{"$f":"'dersiçiperformans (3)'!Z77","v":0}," ",false,null," "," "," "," "," ",null," "," "," "," "," ",null," "," "," "," "," ",null," "," ",null," "," "," "]
[null,null,null,{"$f":"'dersiçiperformans (3)'!Z78","v":0}," ",false,null," "," "," "," "," ",null," "," "," "," "," ",null," "," "," "," "," ",null," "," ",null," "," "," "]
[null,null,null,{"$f":"'dersiçiperformans (3)'!Z79","v":0}," ",false,null," "," "," "," "," ",null," "," "," "," "," ",null," "," "," "," "," ",null," "," ",null," "," "," "]
[null,null,null,{"$f":"'dersiçiperformans (3)'!Z80","v":0}," ",false,null," "," "," "," "," ",null," "," "," "," "," ",null," "," "," "," "," ",null," "," ",null," "," "," "]
[null,null,null,{"$f":"'dersiçiperformans (3)'!Z81","v":0}," ",false,null," "," "," "," "," ",null," "," "," "," "," ",null," "," "," "," "," ",null," "," ",null," "," "," "]

{"sheet":"Sayfa5","index":2,"n_rows":75,"n_cols":31,"rows_kept":75,"cut":false,"hidden":true,"merged":[]}
[]
[]
[]
[]
[null,null,null,{"$f":"'dersiçiperformans (2)'!Z11","v":0},{"$f":"IF(D5=100,\"4\",IF(D5>80,\"4\",IF(D5>60,\"3\",IF(D5>40,\"2\",IF(D5>20,\"1\",IF(D5>0,0,\" \"))))))","v":" "},{"$f":"IF(D5=100,20,IF(D5>80,D5-80,IF(D5>60,D5-60,IF(D5>40,D5-40,IF(D5>20,D5-20,IF(D5>0,D5-0))))))","v":false},null,{"$f":"IF(F5-0>0,E5+1,E5)","v":" "},{"$f":"IF(F5-1>0,E5+1,E5)","v":" "},{"$f":"IF(F5-2>0,E5+1,E5)","v":" "},{"$f":"IF(F5-13>0,E5+1,E5)","v":" "},{"$f":"IF(F5-4>0,E5+1,E5)","v":" "},null,{"$f":"IF(F5-17>0,E5+1,E5)","v":" "},{"$f":"IF(F5-6>0,E5+1,E5)","v":" "},{"$f":"IF(F5-7>0,E5+1,E5)","v":" "},{"$f":"IF(F5-8>0,E5+1,E5)","v":" "},{"$f":"IF(F5-9>0,E5+1,E5)","v":" "},null,{"$f":"IF(F5-10>0,E5+1,E5)","v":" "},{"$f":"IF(F5-19>0,E5+1,E5)","v":" "},{"$f":"IF(F5-12>0,E5+1,E5)","v":" "},{"$f":"IF(F5-3>0,E5+1,E5)","v":" "},{"$f":"IF(F5-14>0,E5+1,E5)","v":" "},null,{"$f":"IF(F5-15>0,E5+1,E5)","v":" "},{"$f":"IF(F5-16>0,E5+1,E5)","v":" "},null,{"$f":"IF(F5-5>0,E5+1,E5)","v":" "},{"$f":"IF(F5-18>0,E5+1,E5)","v":" "},{"$f":"IF(F5-11>0,E5+1,E5)","v":" "}]
[null,null,null,{"$f":"'dersiçiperformans (2)'!Z12","v":0},{"$f":"IF(D6=100,\"4\",IF(D6>80,\"4\",IF(D6>60,\"3\",IF(D6>40,\"2\",IF(D6>20,\"1\",IF(D6>0,0,\" \"))))))","v":" "},{"$f":"IF(D6=100,20,IF(D6>80,D6-80,IF(D6>60,D6-60,IF(D6>40,D6-40,IF(D6>20,D6-20,IF(D6>0,D6-0))))))","v":false},null,{"$f":"IF(F6-0>0,E6+1,E6)","v":" "},{"$f":"IF(F6-1>0,E6+1,E6)","v":" "},{"$f":"IF(F6-2>0,E6+1,E6)","v":" "},{"$f":"IF(F6-13>0,E6+1,E6)","v":" "},{"$f":"IF(F6-4>0,E6+1,E6)","v":" "},null,{"$f":"IF(F6-17>0,E6+1,E6)","v":" "},{"$f":"IF(F6-6>0,E6+1,E6)","v":" "},{"$f":"IF(F6-7>0,E6+1,E6)","v":" "},{"$f":"IF(F6-8>0,E6+1,E6)","v":" "},{"$f":"IF(F6-9>0,E6+1,E6)","v":" "},null,{"$f":"IF(F6-10>0,E6+1,E6)","v":" "},{"$f":"IF(F6-19>0,E6+1,E6)","v":" "},{"$f":"IF(F6-12>0,E6+1,E6)","v":" "},{"$f":"IF(F6-3>0,E6+1,E6)","v":" "},{"$f":"IF(F6-14>0,E6+1,E6)","v":" "},null,{"$f":"IF(F6-15>0,E6+1,E6)","v":" "},{"$f":"IF(F6-16>0,E6+1,E6)","v":" "},null,{"$f":"IF(F6-5>0,E6+1,E6)","v":" "},{"$f":"IF(F6-18>0,E6+1,E6)","v":" "},{"$f":"IF(F6-11>0,E6+1,E6)","v":" "}]
[null,null,null,{"$f":"'dersiçiperformans (2)'!Z13","v":0}," ",false,null," "," "," "," "," ",null," "," "," "," "," ",null," "," "," "," "," ",null," "," ",null," "," "," "]
[null,null,null,{"$f":"'dersiçiperformans (2)'!Z14","v":0}," ",false,null," "," "," "," "," ",null," "," "," "," "," ",null," "," "," "," "," ",null," "," ",null," "," "," "]
[null,null,null,{"$f":"'dersiçiperformans (2)'!Z15","v":0}," ",false,null," "," "," "," "," ",null," "," "," "," "," ",null," "," "," "," "," ",null," "," ",null," "," "," "]
[null,null,null,{"$f":"'dersiçiperformans (2)'!Z16","v":0}," ",false,null," "," "," "," "," ",null," "," "," "," "," ",null," "," "," "," "," ",null," "," ",null," "," "," "]
[null,null,null,{"$f":"'dersiçiperformans (2)'!Z17","v":0}," ",false,null," "," "," "," "," ",null," "," "," "," "," ",null," "," "," "," "," ",null," "," ",null," "," "," "]
[null,null,null,{"$f":"'dersiçiperformans (2)'!Z18","v":0}," ",false,null," "," "," "," "," ",null," "," "," "," "," ",null," "," "," "," "," ",null," "," ",null," "," "," "]
[null,null,null,{"$f":"'dersiçiperformans (2)'!Z19","v":0}," ",false,null," "," "," "," "," ",null," "," "," "," "," ",null," "," "," "," "," ",null," "," ",null," "," "," "]
[null,null,null,{"$f":"'dersiçiperformans (2)'!Z20","v":0}," ",false,null," "," "," "," "," ",null," "," "," "," "," ",null," "," "," "," "," ",null," "," ",null," "," "," "]
[null,null,null,{"$f":"'dersiçiperformans (2)'!Z21","v":0}," ",false,null," "," "," "," "," ",null," "," "," "," "," ",null," "," "," "," "," ",null," "," ",null," "," "," "]
[null,null,null,{"$f":"'dersiçiperformans (2)'!Z22","v":0}," ",false,null," "," "," "," "," ",null," "," "," "," "," ",null," "," "," "," "," ",null," "," ",null," "," "," "]
[null,null,null,{"$f":"'dersiçiperformans (2)'!Z23","v":0}," ",false,null," "," "," "," "," ",null," "," "," "," "," ",null," "," "," "," "," ",null," "," ",null," "," "," "]
[null,null,null,{"$f":"'dersiçiperformans (2)'!Z24","v":0}," ",false,null," "," "," "," "," ",null," "," "," "," "," ",null," "," "," "," "," ",null," "," ",null," "," "," "]
[null,null,null,{"$f":"'dersiçiperformans (2)'!Z25","v":0}," ",false,null," "," "," "," "," ",null," "," "," "," "," ",null," "," "," "," "," ",null," "," ",null," "," "," "]
[null,null,null,{"$f":"'dersiçiperformans (2)'!Z26","v":0}," ",false,null," "," "," "," "," ",null," "," "," "," "," ",null," "," "," "," "," ",null," "," ",null," "," "," "]
[null,null,null,{"$f":"'dersiçiperformans (2)'!Z27","v":0}," ",false,null," "," "," "," "," ",null," "," "," "," "," ",null," "," "," "," "," ",null," "," ",null," "," "," "]
[null,null,null,{"$f":"'dersiçiperformans (2)'!Z28","v":0}," ",false,null," "," "," "," "," ",null," "," "," "," "," ",null," "," "," "," "," ",null," "," ",null," "," "," "]
[null,null,null,{"$f":"'dersiçiperformans (2)'!Z29","v":0}," ",false,null," "," "," "," "," ",null," "," "," "," "," ",null," "," "," "," "," ",null," "," ",null," "," "," "]
[null,null,null,{"$f":"'dersiçiperformans (2)'!Z30","v":0}," ",false,null," "," "," "," "," ",null," "," "," "," "," ",null," "," "," "," "," ",null," "," ",null," "," "," "]
[null,null,null,{"$f":"'dersiçiperformans (2)'!Z31","v":0}," ",false,null," "," "," "," "," ",null," "," "," "," "," ",null," "," "," "," "," ",null," "," ",null," "," "," "]
[null,null,null,{"$f":"'dersiçiperformans (2)'!Z32","v":0}," ",false,null," "," "," "," "," ",null," "," "," "," "," ",null," "," "," "," "," ",null," "," ",null," "," "," "]
[null,null,null,{"$f":"'dersiçiperformans (2)'!Z33","v":0}," ",false,null," "," "," "," "," ",null," "," "," "," "," ",null," "," "," "," "," ",null," "," ",null," "," "," "]
[null,null,null,{"$f":"'dersiçiperformans (2)'!Z34","v":0}," ",false,null," "," "," "," "," ",null," "," "," "," "," ",null," "," "," "," "," ",null," "," ",null," "," "," "]
[null,null,null,{"$f":"'dersiçiperformans (2)'!Z35","v":0}," ",false,null," "," "," "," "," ",null," "," "," "," "," ",null," "," "," "," "," ",null," "," ",null," "," "," "]
[null,null,null,{"$f":"'dersiçiperformans (2)'!Z36","v":0}," ",false,null," "," "," "," "," ",null," "," "," "," "," ",null," "," "," "," "," ",null," "," ",null," "," "," "]
[null,null,null,{"$f":"'dersiçiperformans (2)'!Z37","v":0}," ",false,null," "," "," "," "," ",null," "," "," "," "," ",null," "," "," "," "," ",null," "," ",null," "," "," "]
[null,null,null,{"$f":"'dersiçiperformans (2)'!Z38","v":0}," ",false,null," "," "," "," "," ",null," "," "," "," "," ",null," "," "," "," "," ",null," "," ",null," "," "," "]
[null,null,null,{"$f":"'dersiçiperformans (2)'!Z39","v":0}," ",false,null," "," "," "," "," ",null," "," "," "," "," ",null," "," "," "," "," ",null," "," ",null," "," "," "]
[null,null,null,{"$f":"'dersiçiperformans (2)'!Z40","v":0}," ",false,null," "," "," "," "," ",null," "," "," "," "," ",null," "," "," "," "," ",null," "," ",null," "," "," "]
[null,null,null,{"$f":"'dersiçiperformans (2)'!Z41","v":0}," ",false,null," "," "," "," "," ",null," "," "," "," "," ",null," "," "," "," "," ",null," "," ",null," "," "," "]
[null,null,null,{"$f":"'dersiçiperformans (2)'!Z42","v":0}," ",false,null," "," "," "," "," ",null," "," "," "," "," ",null," "," "," "," "," ",null," "," ",null," "," "," "]
[null,null,null,{"$f":"'dersiçiperformans (2)'!Z43","v":0}," ",false,null," "," "," "," "," ",null," "," "," "," "," ",null," "," "," "," "," ",null," "," ",null," "," "," "]
[null,null,null,{"$f":"'dersiçiperformans (2)'!Z44","v":0}," ",false,null," "," "," "," "," ",null," "," "," "," "," ",null," "," "," "," "," ",null," "," ",null," "," "," "]
[null,null,null,{"$f":"'dersiçiperformans (2)'!Z45","v":0}," ",false,null," "," "," "," "," ",null," "," "," "," "," ",null," "," "," "," "," ",null," "," ",null," "," "," "]
[null,null,null,{"$f":"'dersiçiperformans (2)'!Z46","v":0}," ",false,null," "," "," "," "," ",null," "," "," "," "," ",null," "," "," "," "," ",null," "," ",null," "," "," "]
[null,null,null,{"$f":"'dersiçiperformans (2)'!Z47","v":0}," ",false,null," "," "," "," "," ",null," "," "," "," "," ",null," "," "," "," "," ",null," "," ",null," "," "," "]
[null,null,null,{"$f":"'dersiçiperformans (2)'!Z48","v":0}," ",false,null," "," "," "," "," ",null," "," "," "," "," ",null," "," "," "," "," ",null," "," ",null," "," "," "]
[null,null,null,{"$f":"'dersiçiperformans (2)'!Z49","v":0}," ",false,null," "," "," "," "," ",null," "," "," "," "," ",null," "," "," "," "," ",null," "," ",null," "," "," "]
[null,null,null,{"$f":"'dersiçiperformans (2)'!Z50","v":0}," ",false,null," "," "," "," "," ",null," "," "," "," "," ",null," "," "," "," "," ",null," "," ",null," "," "," "]
[null,null,null,{"$f":"'dersiçiperformans (2)'!Z51","v":0}," ",false,null," "," "," "," "," ",null," "," "," "," "," ",null," "," "," "," "," ",null," "," ",null," "," "," "]
[null,null,null,{"$f":"'dersiçiperformans (2)'!Z52","v":0}," ",false,null," "," "," "," "," ",null," "," "," "," "," ",null," "," "," "," "," ",null," "," ",null," "," "," "]
[null,null,null,{"$f":"'dersiçiperformans (2)'!Z53","v":0}," ",false,null," "," "," "," "," ",null," "," "," "," "," ",null," "," "," "," "," ",null," "," ",null," "," "," "]
[null,null,null,{"$f":"'dersiçiperformans (2)'!Z54","v":0}," ",false,null," "," "," "," "," ",null," "," "," "," "," ",null," "," "," "," "," ",null," "," ",null," "," "," "]
[null,null,null,{"$f":"'dersiçiperformans (2)'!Z55","v":0}," ",false,null," "," "," "," "," ",null," "," "," "," "," ",null," "," "," "," "," ",null," "," ",null," "," "," "]
[null,null,null,{"$f":"'dersiçiperformans (2)'!Z56","v":0}," ",false,null," "," "," "," "," ",null," "," "," "," "," ",null," "," "," "," "," ",null," "," ",null," "," "," "]
[null,null,null,{"$f":"'dersiçiperformans (2)'!Z57","v":0}," ",false,null," "," "," "," "," ",null," "," "," "," "," ",null," "," "," "," "," ",null," "," ",null," "," "," "]
[null,null,null,{"$f":"'dersiçiperformans (2)'!Z58","v":0}," ",false,null," "," "," "," "," ",null," "," "," "," "," ",null," "," "," "," "," ",null," "," ",null," "," "," "]
[null,null,null,{"$f":"'dersiçiperformans (2)'!Z59","v":0}," ",false,null," "," "," "," "," ",null," "," "," "," "," ",null," "," "," "," "," ",null," "," ",null," "," "," "]
[null,null,null,{"$f":"'dersiçiperformans (2)'!Z60","v":0}," ",false,null," "," "," "," "," ",null," "," "," "," "," ",null," "," "," "," "," ",null," "," ",null," "," "," "]
[null,null,null,{"$f":"'dersiçiperformans (2)'!Z61","v":0}," ",false,null," "," "," "," "," ",null," "," "," "," "," ",null," "," "," "," "," ",null," "," ",null," "," "," "]
[null,null,null,{"$f":"'dersiçiperformans (2)'!Z62","v":0}," ",false,null," "," "," "," "," ",null," "," "," "," "," ",null," "," "," "," "," ",null," "," ",null," "," "," "]
[null,null,null,{"$f":"'dersiçiperformans (2)'!Z63","v":0}," ",false,null," "," "," "," "," ",null," "," "," "," "," ",null," "," "," "," "," ",null," "," ",null," "," "," "]
[null,null,null,{"$f":"'dersiçiperformans (2)'!Z64","v":0}," ",false,null," "," "," "," "," ",null," "," "," "," "," ",null," "," "," "," "," ",null," "," ",null," "," "," "]
[null,null,null,{"$f":"'dersiçiperformans (2)'!Z65","v":0}," ",false,null," "," "," "," "," ",null," "," "," "," "," ",null," "," "," "," "," ",null," "," ",null," "," "," "]
[null,null,null,{"$f":"'dersiçiperformans (2)'!Z66","v":0}," ",false,null," "," "," "," "," ",null," "," "," "," "," ",null," "," "," "," "," ",null," "," ",null," "," "," "]
[null,null,null,{"$f":"'dersiçiperformans (2)'!Z67","v":0}," ",false,null," "," "," "," "," ",null," "," "," "," "," ",null," "," "," "," "," ",null," "," ",null," "," "," "]
[null,null,null,{"$f":"'dersiçiperformans (2)'!Z68","v":0}," ",false,null," "," "," "," "," ",null," "," "," "," "," ",null," "," "," "," "," ",null," "," ",null," "," "," "]
[null,null,null,{"$f":"'dersiçiperformans (2)'!Z69","v":0}," ",false,null," "," "," "," "," ",null," "," "," "," "," ",null," "," "," "," "," ",null," "," ",null," "," "," "]
[null,null,null,{"$f":"'dersiçiperformans (2)'!Z70","v":0}," ",false,null," "," "," "," "," ",null," "," "," "," "," ",null," "," "," "," "," ",null," "," ",null," "," "," "]
[null,null,null,{"$f":"'dersiçiperformans (2)'!Z71","v":0}," ",false,null," "," "," "," "," ",null," "," "," "," "," ",null," "," "," "," "," ",null," "," ",null," "," "," "]
[null,null,null,{"$f":"'dersiçiperformans (2)'!Z72","v":0}," ",false,null," "," "," "," "," ",null," "," "," "," "," ",null," "," "," "," "," ",null," "," ",null," "," "," "]
[null,null,null,{"$f":"'dersiçiperformans (2)'!Z73","v":0}," ",false,null," "," "," "," "," ",null," "," "," "," "," ",null," "," "," "," "," ",null," "," ",null," "," "," "]
[null,null,null,{"$f":"'dersiçiperformans (2)'!Z74","v":0}," ",false,null," "," "," "," "," ",null," "," "," "," "," ",null," "," "," "," "," ",null," "," ",null," "," "," "]
[null,null,null,{"$f":"'dersiçiperformans (2)'!Z75","v":0}," ",false,null," "," "," "," "," ",null," "," "," "," "," ",null," "," "," "," "," ",null," "," ",null," "," "," "]
[null,null,null,{"$f":"'dersiçiperformans (2)'!Z76","v":0},{"$f":"IF(D70=100,\"4\",IF(D70>80,\"4\",IF(D70>60,\"3\",IF(D70>40,\"2\",IF(D70>20,\"1\",IF(D70>0,0,\" \"))))))","v":" "},{"$f":"IF(D70=100,20,IF(D70>80,D70-80,IF(D70>60,D70-60,IF(D70>40,D70-40,IF(D70>20,D70-20,IF(D70>0,D70-0))))))","v":false},null,{"$f":"IF(F70-0>0,E70+1,E70)","v":" "},{"$f":"IF(F70-1>0,E70+1,E70)","v":" "},{"$f":"IF(F70-2>0,E70+1,E70)","v":" "},{"$f":"IF(F70-13>0,E70+1,E70)","v":" "},{"$f":"IF(F70-4>0,E70+1,E70)","v":" "},null,{"$f":"IF(F70-17>0,E70+1,E70)","v":" "},{"$f":"IF(F70-6>0,E70+1,E70)","v":" "},{"$f":"IF(F70-7>0,E70+1,E70)","v":" "},{"$f":"IF(F70-8>0,E70+1,E70)","v":" "},{"$f":"IF(F70-9>0,E70+1,E70)","v":" "},null,{"$f":"IF(F70-10>0,E70+1,E70)","v":" "},{"$f":"IF(F70-19>0,E70+1,E70)","v":" "},{"$f":"IF(F70-12>0,E70+1,E70)","v":" "},{"$f":"IF(F70-3>0,E70+1,E70)","v":" "},{"$f":"IF(F70-14>0,E70+1,E70)","v":" "},null,{"$f":"IF(F70-15>0,E70+1,E70)","v":" "},{"$f":"IF(F70-16>0,E70+1,E70)","v":" "},null,{"$f":"IF(F70-5>0,E70+1,E70)","v":" "},{"$f":"IF(F70-18>0,E70+1,E70)","v":" "},{"$f":"IF(F70-11>0,E70+1,E70)","v":" "}]
[null,null,null,{"$f":"'dersiçiperformans (2)'!Z77","v":0}," ",false,null," "," "," "," "," ",null," "," "," "," "," ",null," "," "," "," "," ",null," "," ",null," "," "," "]
[null,null,null,{"$f":"'dersiçiperformans (2)'!Z78","v":0}," ",false,null," "," "," "," "," ",null," "," "," "," "," ",null," "," "," "," "," ",null," "," ",null," "," "," "]
[null,null,null,{"$f":"'dersiçiperformans (2)'!Z79","v":0}," ",false,null," "," "," "," "," ",null," "," "," "," "," ",null," "," "," "," "," ",null," "," ",null," "," "," "]
[null,null,null,{"$f":"'dersiçiperformans (2)'!Z80","v":0}," ",false,null," "," "," "," "," ",null," "," "," "," "," ",null," "," "," "," "," ",null," "," ",null," "," "," "]
[null,null,null,{"$f":"'dersiçiperformans (2)'!Z81","v":0}," ",false,null," "," "," "," "," ",null," "," "," "," "," ",null," "," "," "," "," ",null," "," ",null," "," "," "]

{"sheet":"Sayfa2","index":3,"n_rows":75,"n_cols":31,"rows_kept":75,"cut":false,"hidden":true,"merged":[]}
[]
[]
[]
[]
[null,null,null,{"$f":"dersiçiperformans!Z11","v":80},{"$f":"IF(D5=100,\"4\",IF(D5>80,\"4\",IF(D5>60,\"3\",IF(D5>40,\"2\",IF(D5>20,\"1\",IF(D5>0,0,\" \"))))))","v":"3"},{"$f":"IF(D5=100,20,IF(D5>80,D5-80,IF(D5>60,D5-60,IF(D5>40,D5-40,IF(D5>20,D5-20,IF(D5>0,D5-0))))))","v":20},null,{"$f":"IF(F5-0>0,E5+1,E5)","v":4},{"$f":"IF(F5-1>0,E5+1,E5)","v":4},{"$f":"IF(F5-2>0,E5+1,E5)","v":4},{"$f":"IF(F5-13>0,E5+1,E5)","v":4},{"$f":"IF(F5-4>0,E5+1,E5)","v":4},null,{"$f":"IF(F5-17>0,E5+1,E5)","v":4},{"$f":"IF(F5-6>0,E5+1,E5)","v":4},{"$f":"IF(F5-7>0,E5+1,E5)","v":4},{"$f":"IF(F5-8>0,E5+1,E5)","v":4},{"$f":"IF(F5-9>0,E5+1,E5)","v":4},null,{"$f":"IF(F5-10>0,E5+1,E5)","v":4},{"$f":"IF(F5-19>0,E5+1,E5)","v":4},{"$f":"IF(F5-12>0,E5+1,E5)","v":4},{"$f":"IF(F5-3>0,E5+1,E5)","v":4},{"$f":"IF(F5-14>0,E5+1,E5)","v":4},null,{"$f":"IF(F5-15>0,E5+1,E5)","v":4},{"$f":"IF(F5-16>0,E5+1,E5)","v":4},null,{"$f":"IF(F5-5>0,E5+1,E5)","v":4},{"$f":"IF(F5-18>0,E5+1,E5)","v":4},{"$f":"IF(F5-11>0,E5+1,E5)","v":4}]
[null,null,null,{"$f":"dersiçiperformans!Z12","v":25},{"$f":"IF(D6=100,\"4\",IF(D6>80,\"4\",IF(D6>60,\"3\",IF(D6>40,\"2\",IF(D6>20,\"1\",IF(D6>0,0,\" \"))))))","v":"1"},{"$f":"IF(D6=100,20,IF(D6>80,D6-80,IF(D6>60,D6-60,IF(D6>40,D6-40,IF(D6>20,D6-20,IF(D6>0,D6-0))))))","v":5},null,{"$f":"IF(F6-0>0,E6+1,E6)","v":2},{"$f":"IF(F6-1>0,E6+1,E6)","v":2},{"$f":"IF(F6-2>0,E6+1,E6)","v":2},{"$f":"IF(F6-13>0,E6+1,E6)","v":"1"},{"$f":"IF(F6-4>0,E6+1,E6)","v":2},null,{"$f":"IF(F6-17>0,E6+1,E6)","v":"1"},{"$f":"IF(F6-6>0,E6+1,E6)","v":"1"},{"$f":"IF(F6-7>0,E6+1,E6)","v":"1"},{"$f":"IF(F6-8>0,E6+1,E6)","v":"1"},{"$f":"IF(F6-9>0,E6+1,E6)","v":"1"},null,{"$f":"IF(F6-10>0,E6+1,E6)","v":"1"},{"$f":"IF(F6-19>0,E6+1,E6)","v":"1"},{"$f":"IF(F6-12>0,E6+1,E6)","v":"1"},{"$f":"IF(F6-3>0,E6+1,E6)","v":2},{"$f":"IF(F6-14>0,E6+1,E6)","v":"1"},null,{"$f":"IF(F6-15>0,E6+1,E6)","v":"1"},{"$f":"IF(F6-16>0,E6+1,E6)","v":"1"},null,{"$f":"IF(F6-5>0,E6+1,E6)","v":"1"},{"$f":"IF(F6-18>0,E6+1,E6)","v":"1"},{"$f":"IF(F6-11>0,E6+1,E6)","v":"1"}]
[null,null,null,{"$f":"dersiçiperformans!Z13","v":95},"4",15,null,5,5,5,5,5,null,"4",5,5,5,5,null,5,"4",5,5,5,null,"4","4",null,5,"4",5]
[null,null,null,{"$f":"dersiçiperformans!Z14","v":40},"1",20,null,2,2,2,2,2,null,2,2,2,2,2,null,2,2,2,2,2,null,2,2,null,2,2,2]
[null,null,null,{"$f":"dersiçiperformans!Z15","v":60},"2",20,null,3,3,3,3,3,null,3,3,3,3,3,null,3,3,3,3,3,null,3,3,null,3,3,3]
[null,null,null,{"$f":"dersiçiperformans!Z16","v":95},"4",15,null,5,5,5,5,5,null,"4",5,5,5,5,null,5,"4",5,5,5,null,"4","4",null,5,"4",5]
[null,null,null,{"$f":"dersiçiperformans!Z17","v":95},"4",15,null,5,5,5,5,5,null,"4",5,5,5,5,null,5,"4",5,5,5,null,"4","4",null,5,"4",5]
[null,null,null,{"$f":"dersiçiperformans!Z18","v":55},"2",15,null,3,3,3,3,3,null,"2",3,3,3,3,null,3,"2",3,3,3,null,"2","2",null,3,"2",3]
[null,null,null,{"$f":"dersiçiperformans!Z19","v":80},"3",20,null,4,4,4,4,4,null,4,4,4,4,4,null,4,4,4,4,4,null,4,4,null,4,4,4]
[null,null,null,{"$f":"dersiçiperformans!Z20","v":50},"2",10,null,3,3,3,"2",3,null,"2",3,3,3,3,null,"2","2","2",3,"2",null,"2","2",null,3,"2","2"]
[null,null,null,{"$f":"dersiçiperformans!Z21","v":80},"3",20,null,4,4,4,4,4,null,4,4,4,4,4,null,4,4,4,4,4,null,4,4,null,4,4,4]
[null,null,null,{"$f":"dersiçiperformans!Z22","v":55},"2",15,null,3,3,3,3,3,null,"2",3,3,3,3,null,3,"2",3,3,3,null,"2","2",null,3,"2",3]
[null,null,null,{"$f":"dersiçiperformans!Z23","v":70},"3",10,null,4,4,4,"3",4,null,"3",4,4,4,4,null,"3","3","3",4,"3",null,"3","3",null,4,"3","3"]
[null,null,null,{"$f":"dersiçiperformans!Z24","v":90},"4",10,null,5,5,5,"4",5,null,"4",5,5,5,5,null,"4","4","4",5,"4",null,"4","4",null,5,"4","4"]
[null,null,null,{"$f":"dersiçiperformans!Z25","v":75},"3",15,null,4,4,4,4,4,null,"3",4,4,4,4,null,4,"3",4,4,4,null,"3","3",null,4,"3",4]
[null,null,null,{"$f":"dersiçiperformans!Z26","v":55},"2",15,null,3,3,3,3,3,null,"2",3,3,3,3,null,3,"2",3,3,3,null,"2","2",null,3,"2",3]
[null,null,null,{"$f":"dersiçiperformans!Z27","v":30},"1",10,null,2,2,2,"1",2,null,"1",2,2,2,2,null,"1","1","1",2,"1",null,"1","1",null,2,"1","1"]
[null,null,null,{"$f":"dersiçiperformans!Z28","v":90},"4",10,null,5,5,5,"4",5,null,"4",5,5,5,5,null,"4","4","4",5,"4",null,"4","4",null,5,"4","4"]
[null,null,null,{"$f":"dersiçiperformans!Z29","v":50},"2",10,null,3,3,3,"2",3,null,"2",3,3,3,3,null,"2","2","2",3,"2",null,"2","2",null,3,"2","2"]
[null,null,null,{"$f":"dersiçiperformans!Z30","v":45},"2",5,null,3,3,3,"2",3,null,"2","2","2","2","2",null,"2","2","2",3,"2",null,"2","2",null,"2","2","2"]
[null,null,null,{"$f":"dersiçiperformans!Z31","v":60},"2",20,null,3,3,3,3,3,null,3,3,3,3,3,null,3,3,3,3,3,null,3,3,null,3,3,3]
[null,null,null,{"$f":"dersiçiperformans!Z32","v":70},"3",10,null,4,4,4,"3",4,null,"3",4,4,4,4,null,"3","3","3",4,"3",null,"3","3",null,4,"3","3"]
[null,null,null,{"$f":"dersiçiperformans!Z33","v":45},"2",5,null,3,3,3,"2",3,null,"2","2","2","2","2",null,"2","2","2",3,"2",null,"2","2",null,"2","2","2"]
[null,null,null,{"$f":"dersiçiperformans!Z34","v":0}," ",false,null," "," "," "," "," ",null," "," "," "," "," ",null," "," "," "," "," ",null," "," ",null," "," "," "]
[null,null,null,{"$f":"dersiçiperformans!Z35","v":0}," ",false,null," "," "," "," "," ",null," "," "," "," "," ",null," "," "," "," "," ",null," "," ",null," "," "," "]
[null,null,null,{"$f":"dersiçiperformans!Z36","v":0}," ",false,null," "," "," "," "," ",null," "," "," "," "," ",null," "," "," "," "," ",null," "," ",null," "," "," "]
[null,null,null,{"$f":"dersiçiperformans!Z37","v":0}," ",false,null," "," "," "," "," ",null," "," "," "," "," ",null," "," "," "," "," ",null," "," ",null," "," "," "]
[null,null,null,{"$f":"dersiçiperformans!Z38","v":0}," ",false,null," "," "," "," "," ",null," "," "," "," "," ",null," "," "," "," "," ",null," "," ",null," "," "," "]
[null,null,null,{"$f":"dersiçiperformans!Z39","v":0}," ",false,null," "," "," "," "," ",null," "," "," "," "," ",null," "," "," "," "," ",null," "," ",null," "," "," "]
[null,null,null,{"$f":"dersiçiperformans!Z40","v":0}," ",false,null," "," "," "," "," ",null," "," "," "," "," ",null," "," "," "," "," ",null," "," ",null," "," "," "]
[null,null,null,{"$f":"dersiçiperformans!Z41","v":0}," ",false,null," "," "," "," "," ",null," "," "," "," "," ",null," "," "," "," "," ",null," "," ",null," "," "," "]
[null,null,null,{"$f":"dersiçiperformans!Z42","v":0}," ",false,null," "," "," "," "," ",null," "," "," "," "," ",null," "," "," "," "," ",null," "," ",null," "," "," "]
[null,null,null,{"$f":"dersiçiperformans!Z43","v":0}," ",false,null," "," "," "," "," ",null," "," "," "," "," ",null," "," "," "," "," ",null," "," ",null," "," "," "]
[null,null,null,{"$f":"dersiçiperformans!Z44","v":0}," ",false,null," "," "," "," "," ",null," "," "," "," "," ",null," "," "," "," "," ",null," "," ",null," "," "," "]
[null,null,null,{"$f":"dersiçiperformans!Z45","v":0}," ",false,null," "," "," "," "," ",null," "," "," "," "," ",null," "," "," "," "," ",null," "," ",null," "," "," "]
[null,null,null,{"$f":"dersiçiperformans!Z46","v":0}," ",false,null," "," "," "," "," ",null," "," "," "," "," ",null," "," "," "," "," ",null," "," ",null," "," "," "]
[null,null,null,{"$f":"dersiçiperformans!Z47","v":0}," ",false,null," "," "," "," "," ",null," "," "," "," "," ",null," "," "," "," "," ",null," "," ",null," "," "," "]
[null,null,null,{"$f":"dersiçiperformans!Z48","v":0}," ",false,null," "," "," "," "," ",null," "," "," "," "," ",null," "," "," "," "," ",null," "," ",null," "," "," "]
[null,null,null,{"$f":"dersiçiperformans!Z49","v":0}," ",false,null," "," "," "," "," ",null," "," "," "," "," ",null," "," "," "," "," ",null," "," ",null," "," "," "]
[null,null,null,{"$f":"dersiçiperformans!Z50","v":0}," ",false,null," "," "," "," "," ",null," "," "," "," "," ",null," "," "," "," "," ",null," "," ",null," "," "," "]
[null,null,null,{"$f":"dersiçiperformans!#REF!","v":{"$error":"#REF!"}},{"$error":"#REF!"},{"$error":"#REF!"},null,{"$error":"#REF!"},{"$error":"#REF!"},{"$error":"#REF!"},{"$error":"#REF!"},{"$error":"#REF!"},null,{"$error":"#REF!"},{"$error":"#REF!"},{"$error":"#REF!"},{"$error":"#REF!"},{"$error":"#REF!"},null,{"$error":"#REF!"},{"$error":"#REF!"},{"$error":"#REF!"},{"$error":"#REF!"},{"$error":"#REF!"},null,{"$error":"#REF!"},{"$error":"#REF!"},null,{"$error":"#REF!"},{"$error":"#REF!"},{"$error":"#REF!"}]
[null,null,null,{"$f":"dersiçiperformans!#REF!","v":{"$error":"#REF!"}},{"$error":"#REF!"},{"$error":"#REF!"},null,{"$error":"#REF!"},{"$error":"#REF!"},{"$error":"#REF!"},{"$error":"#REF!"},{"$error":"#REF!"},null,{"$error":"#REF!"},{"$error":"#REF!"},{"$error":"#REF!"},{"$error":"#REF!"},{"$error":"#REF!"},null,{"$error":"#REF!"},{"$error":"#REF!"},{"$error":"#REF!"},{"$error":"#REF!"},{"$error":"#REF!"},null,{"$error":"#REF!"},{"$error":"#REF!"},null,{"$error":"#REF!"},{"$error":"#REF!"},{"$error":"#REF!"}]
[null,null,null,{"$f":"dersiçiperformans!#REF!","v":{"$error":"#REF!"}},{"$error":"#REF!"},{"$error":"#REF!"},null,{"$error":"#REF!"},{"$error":"#REF!"},{"$error":"#REF!"},{"$error":"#REF!"},{"$error":"#REF!"},null,{"$error":"#REF!"},{"$error":"#REF!"},{"$error":"#REF!"},{"$error":"#REF!"},{"$error":"#REF!"},null,{"$error":"#REF!"},{"$error":"#REF!"},{"$error":"#REF!"},{"$error":"#REF!"},{"$error":"#REF!"},null,{"$error":"#REF!"},{"$error":"#REF!"},null,{"$error":"#REF!"},{"$error":"#REF!"},{"$error":"#REF!"}]
[null,null,null,{"$f":"dersiçiperformans!#REF!","v":{"$error":"#REF!"}},{"$error":"#REF!"},{"$error":"#REF!"},null,{"$error":"#REF!"},{"$error":"#REF!"},{"$error":"#REF!"},{"$error":"#REF!"},{"$error":"#REF!"},null,{"$error":"#REF!"},{"$error":"#REF!"},{"$error":"#REF!"},{"$error":"#REF!"},{"$error":"#REF!"},null,{"$error":"#REF!"},{"$error":"#REF!"},{"$error":"#REF!"},{"$error":"#REF!"},{"$error":"#REF!"},null,{"$error":"#REF!"},{"$error":"#REF!"},null,{"$error":"#REF!"},{"$error":"#REF!"},{"$error":"#REF!"}]
[null,null,null,{"$f":"dersiçiperformans!#REF!","v":{"$error":"#REF!"}},{"$error":"#REF!"},{"$error":"#REF!"},null,{"$error":"#REF!"},{"$error":"#REF!"},{"$error":"#REF!"},{"$error":"#REF!"},{"$error":"#REF!"},null,{"$error":"#REF!"},{"$error":"#REF!"},{"$error":"#REF!"},{"$error":"#REF!"},{"$error":"#REF!"},null,{"$error":"#REF!"},{"$error":"#REF!"},{"$error":"#REF!"},{"$error":"#REF!"},{"$error":"#REF!"},null,{"$error":"#REF!"},{"$error":"#REF!"},null,{"$error":"#REF!"},{"$error":"#REF!"},{"$error":"#REF!"}]
[null,null,null,{"$f":"dersiçiperformans!#REF!","v":{"$error":"#REF!"}},{"$error":"#REF!"},{"$error":"#REF!"},null,{"$error":"#REF!"},{"$error":"#REF!"},{"$error":"#REF!"},{"$error":"#REF!"},{"$error":"#REF!"},null,{"$error":"#REF!"},{"$error":"#REF!"},{"$error":"#REF!"},{"$error":"#REF!"},{"$error":"#REF!"},null,{"$error":"#REF!"},{"$error":"#REF!"},{"$error":"#REF!"},{"$error":"#REF!"},{"$error":"#REF!"},null,{"$error":"#REF!"},{"$error":"#REF!"},null,{"$error":"#REF!"},{"$error":"#REF!"},{"$error":"#REF!"}]
[null,null,null,{"$f":"dersiçiperformans!#REF!","v":{"$error":"#REF!"}},{"$error":"#REF!"},{"$error":"#REF!"},null,{"$error":"#REF!"},{"$error":"#REF!"},{"$error":"#REF!"},{"$error":"#REF!"},{"$error":"#REF!"},null,{"$error":"#REF!"},{"$error":"#REF!"},{"$error":"#REF!"},{"$error":"#REF!"},{"$error":"#REF!"},null,{"$error":"#REF!"},{"$error":"#REF!"},{"$error":"#REF!"},{"$error":"#REF!"},{"$error":"#REF!"},null,{"$error":"#REF!"},{"$error":"#REF!"},null,{"$error":"#REF!"},{"$error":"#REF!"},{"$error":"#REF!"}]
[null,null,null,{"$f":"dersiçiperformans!#REF!","v":{"$error":"#REF!"}},{"$error":"#REF!"},{"$error":"#REF!"},null,{"$error":"#REF!"},{"$error":"#REF!"},{"$error":"#REF!"},{"$error":"#REF!"},{"$error":"#REF!"},null,{"$error":"#REF!"},{"$error":"#REF!"},{"$error":"#REF!"},{"$error":"#REF!"},{"$error":"#REF!"},null,{"$error":"#REF!"},{"$error":"#REF!"},{"$error":"#REF!"},{"$error":"#REF!"},{"$error":"#REF!"},null,{"$error":"#REF!"},{"$error":"#REF!"},null,{"$error":"#REF!"},{"$error":"#REF!"},{"$error":"#REF!"}]
[null,null,null,{"$f":"dersiçiperformans!#REF!","v":{"$error":"#REF!"}},{"$error":"#REF!"},{"$error":"#REF!"},null,{"$error":"#REF!"},{"$error":"#REF!"},{"$error":"#REF!"},{"$error":"#REF!"},{"$error":"#REF!"},null,{"$error":"#REF!"},{"$error":"#REF!"},{"$error":"#REF!"},{"$error":"#REF!"},{"$error":"#REF!"},null,{"$error":"#REF!"},{"$error":"#REF!"},{"$error":"#REF!"},{"$error":"#REF!"},{"$error":"#REF!"},null,{"$error":"#REF!"},{"$error":"#REF!"},null,{"$error":"#REF!"},{"$error":"#REF!"},{"$error":"#REF!"}]
[null,null,null,{"$f":"dersiçiperformans!#REF!","v":{"$error":"#REF!"}},{"$error":"#REF!"},{"$error":"#REF!"},null,{"$error":"#REF!"},{"$error":"#REF!"},{"$error":"#REF!"},{"$error":"#REF!"},{"$error":"#REF!"},null,{"$error":"#REF!"},{"$error":"#REF!"},{"$error":"#REF!"},{"$error":"#REF!"},{"$error":"#REF!"},null,{"$error":"#REF!"},{"$error":"#REF!"},{"$error":"#REF!"},{"$error":"#REF!"},{"$error":"#REF!"},null,{"$error":"#REF!"},{"$error":"#REF!"},null,{"$error":"#REF!"},{"$error":"#REF!"},{"$error":"#REF!"}]
[null,null,null,{"$f":"dersiçiperformans!#REF!","v":{"$error":"#REF!"}},{"$error":"#REF!"},{"$error":"#REF!"},null,{"$error":"#REF!"},{"$error":"#REF!"},{"$error":"#REF!"},{"$error":"#REF!"},{"$error":"#REF!"},null,{"$error":"#REF!"},{"$error":"#REF!"},{"$error":"#REF!"},{"$error":"#REF!"},{"$error":"#REF!"},null,{"$error":"#REF!"},{"$error":"#REF!"},{"$error":"#REF!"},{"$error":"#REF!"},{"$error":"#REF!"},null,{"$error":"#REF!"},{"$error":"#REF!"},null,{"$error":"#REF!"},{"$error":"#REF!"},{"$error":"#REF!"}]
[null,null,null,{"$f":"dersiçiperformans!#REF!","v":{"$error":"#REF!"}},{"$error":"#REF!"},{"$error":"#REF!"},null,{"$error":"#REF!"},{"$error":"#REF!"},{"$error":"#REF!"},{"$error":"#REF!"},{"$error":"#REF!"},null,{"$error":"#REF!"},{"$error":"#REF!"},{"$error":"#REF!"},{"$error":"#REF!"},{"$error":"#REF!"},null,{"$error":"#REF!"},{"$error":"#REF!"},{"$error":"#REF!"},{"$error":"#REF!"},{"$error":"#REF!"},null,{"$error":"#REF!"},{"$error":"#REF!"},null,{"$error":"#REF!"},{"$error":"#REF!"},{"$error":"#REF!"}]
[null,null,null,{"$f":"dersiçiperformans!#REF!","v":{"$error":"#REF!"}},{"$error":"#REF!"},{"$error":"#REF!"},null,{"$error":"#REF!"},{"$error":"#REF!"},{"$error":"#REF!"},{"$error":"#REF!"},{"$error":"#REF!"},null,{"$error":"#REF!"},{"$error":"#REF!"},{"$error":"#REF!"},{"$error":"#REF!"},{"$error":"#REF!"},null,{"$error":"#REF!"},{"$error":"#REF!"},{"$error":"#REF!"},{"$error":"#REF!"},{"$error":"#REF!"},null,{"$error":"#REF!"},{"$error":"#REF!"},null,{"$error":"#REF!"},{"$error":"#REF!"},{"$error":"#REF!"}]
[null,null,null,{"$f":"dersiçiperformans!Z51","v":0}," ",false,null," "," "," "," "," ",null," "," "," "," "," ",null," "," "," "," "," ",null," "," ",null," "," "," "]
[null,null,null,{"$f":"dersiçiperformans!Z52","v":0}," ",false,null," "," "," "," "," ",null," "," "," "," "," ",null," "," "," "," "," ",null," "," ",null," "," "," "]
[null,null,null,{"$f":"dersiçiperformans!Z53","v":0}," ",false,null," "," "," "," "," ",null," "," "," "," "," ",null," "," "," "," "," ",null," "," ",null," "," "," "]
[null,null,null,{"$f":"dersiçiperformans!Z54","v":0}," ",false,null," "," "," "," "," ",null," "," "," "," "," ",null," "," "," "," "," ",null," "," ",null," "," "," "]
[null,null,null,{"$f":"dersiçiperformans!Z55","v":0}," ",false,null," "," "," "," "," ",null," "," "," "," "," ",null," "," "," "," "," ",null," "," ",null," "," "," "]
[null,null,null,{"$f":"dersiçiperformans!Z56","v":0}," ",false,null," "," "," "," "," ",null," "," "," "," "," ",null," "," "," "," "," ",null," "," ",null," "," "," "]
[null,null,null,{"$f":"dersiçiperformans!Z57","v":0}," ",false,null," "," "," "," "," ",null," "," "," "," "," ",null," "," "," "," "," ",null," "," ",null," "," "," "]
[null,null,null,{"$f":"dersiçiperformans!Z58","v":0}," ",false,null," "," "," "," "," ",null," "," "," "," "," ",null," "," "," "," "," ",null," "," ",null," "," "," "]
[null,null,null,{"$f":"dersiçiperformans!Z59","v":0}," ",false,null," "," "," "," "," ",null," "," "," "," "," ",null," "," "," "," "," ",null," "," ",null," "," "," "]
[null,null,null,{"$f":"dersiçiperformans!Z60","v":0}," ",false,null," "," "," "," "," ",null," "," "," "," "," ",null," "," "," "," "," ",null," "," ",null," "," "," "]
[null,null,null,{"$f":"dersiçiperformans!Z61","v":0}," ",false,null," "," "," "," "," ",null," "," "," "," "," ",null," "," "," "," "," ",null," "," ",null," "," "," "]
[null,null,null,{"$f":"dersiçiperformans!Z62","v":0}," ",false,null," "," "," "," "," ",null," "," "," "," "," ",null," "," "," "," "," ",null," "," ",null," "," "," "]
[null,null,null,{"$f":"dersiçiperformans!Z63","v":0},{"$f":"IF(D70=100,\"4\",IF(D70>80,\"4\",IF(D70>60,\"3\",IF(D70>40,\"2\",IF(D70>20,\"1\",IF(D70>0,0,\" \"))))))","v":" "},{"$f":"IF(D70=100,20,IF(D70>80,D70-80,IF(D70>60,D70-60,IF(D70>40,D70-40,IF(D70>20,D70-20,IF(D70>0,D70-0))))))","v":false},null,{"$f":"IF(F70-0>0,E70+1,E70)","v":" "},{"$f":"IF(F70-1>0,E70+1,E70)","v":" "},{"$f":"IF(F70-2>0,E70+1,E70)","v":" "},{"$f":"IF(F70-13>0,E70+1,E70)","v":" "},{"$f":"IF(F70-4>0,E70+1,E70)","v":" "},null,{"$f":"IF(F70-17>0,E70+1,E70)","v":" "},{"$f":"IF(F70-6>0,E70+1,E70)","v":" "},{"$f":"IF(F70-7>0,E70+1,E70)","v":" "},{"$f":"IF(F70-8>0,E70+1,E70)","v":" "},{"$f":"IF(F70-9>0,E70+1,E70)","v":" "},null,{"$f":"IF(F70-10>0,E70+1,E70)","v":" "},{"$f":"IF(F70-19>0,E70+1,E70)","v":" "},{"$f":"IF(F70-12>0,E70+1,E70)","v":" "},{"$f":"IF(F70-3>0,E70+1,E70)","v":" "},{"$f":"IF(F70-14>0,E70+1,E70)","v":" "},null,{"$f":"IF(F70-15>0,E70+1,E70)","v":" "},{"$f":"IF(F70-16>0,E70+1,E70)","v":" "},null,{"$f":"IF(F70-5>0,E70+1,E70)","v":" "},{"$f":"IF(F70-18>0,E70+1,E70)","v":" "},{"$f":"IF(F70-11>0,E70+1,E70)","v":" "}]
[null,null,null,{"$f":"dersiçiperformans!Z64","v":0}," ",false,null," "," "," "," "," ",null," "," "," "," "," ",null," "," "," "," "," ",null," "," ",null," "," "," "]
[null,null,null,{"$f":"dersiçiperformans!Z65","v":0}," ",false,null," "," "," "," "," ",null," "," "," "," "," ",null," "," "," "," "," ",null," "," ",null," "," "," "]
[null,null,null,{"$f":"dersiçiperformans!Z66","v":0}," ",false,null," "," "," "," "," ",null," "," "," "," "," ",null," "," "," "," "," ",null," "," ",null," "," "," "]
[null,null,null,{"$f":"dersiçiperformans!Z67","v":0}," ",false,null," "," "," "," "," ",null," "," "," "," "," ",null," "," "," "," "," ",null," "," ",null," "," "," "]
[null,null,null,{"$f":"dersiçiperformans!Z68","v":0}," ",false,null," "," "," "," "," ",null," "," "," "," "," ",null," "," "," "," "," ",null," "," ",null," "," "," "]

{"sheet":"ANASAYFA","index":4,"n_rows":11,"n_cols":6,"rows_kept":11,"cut":false,"hidden":false,"merged":[[3,5,16,12],[3,2,3,3],[2,5,2,12]]}
[]
[]
[null,null,null,null,null,"AÇIKLAMA"]
[null,null,"ANA BİLGİLER",null,null,"1-İLK BAŞTA YAN TARAFTAKİ ANA BİLGİLER KISMINI DOLDURUNUZ.                                 2-E-OKULDAN DERSİNİZLE İLGİLİ YERDEN HIZLI NOT GİRİŞİ MENÜSÜNE GİRİNİZ.                                                                                                                                                    3-HIZLI NOT GİRİŞİNDEN İLK SIRADAKİ ÖĞRENCİ NUMARASINDAN SAĞ ALT KÖŞEYE(DEFTER SEMBOLÜNE KADAR) SEÇİP KOPYALAYINIZ.                                                  4-KOPYALADIĞINIZ BİLGİLERİ EXCEL SAYFASINDA BULUNAN \"EOKUL\" SEKMESİNİN A2 HÜCRESİNE YAPIŞTIRINIZ.                                                                                                                5-BU İŞLEMİ YAPTIKTAN SONRA TÜM PROJE VE DERS İÇİ KATILIM NOT ÖLÇEKLERİNİZ OTAMATİK OLARAK HAZIRLANACAKTIR.                                                         6-SON OLARAK YAZDIRMAK İSTEDİĞİNİZÖLÇEĞE GİDEREK HİÇ BİRŞEYE DOKUNMADAN DİREK YAZDIRABİLİRSİNİZ.                                                    NOT:ÖLÇEKLER 40 ÖĞRENCİ İÇİN HAZIRLANMIŞTIR.FARKLI SINIFLAR İÇİN KULLANIRKEN İLK BAŞTA EOKUL SEKMESİNDEKİ ÖĞRENCİ İSİMLERİNİ TEMİZLEMEYİ UNUTMAYINIZ."]
[null,null,"OKUL ADI","………….ORTAOKULU"]
[null,null,"DERS ADI"," TÜRKÇE ÖĞRETMENİ"]
[null,null,"ÖĞRETMEN AD SOYAD","  KENDİNİZİ YAZINIZ"]
[null,null,"BRANŞ"," DERS ÖĞRETMENİ"]
[null,null,"OKUL MÜDÜRÜ AD SOYAD"," KURUMUNUZUN MÜDÜRÜNÜ YAZINIZ"]
[null,null,"UNVAN","OKUL MÜDÜRÜ"]
[null,null,"SINIF/ŞUBE","5/A"]

{"sheet":"eokul","index":5,"n_rows":25,"n_cols":15,"rows_kept":25,"cut":false,"hidden":false,"merged":[]}
["Okul No","Adı Soyadı","1.Sınav","2.Sınav","3.Sınav","4.Sınav","1.Proje","2.Proje","1.Ders Et.Kat.","2.Ders Et.Kat.","3.Ders Et.Kat.","4.Ders Et.Kat.","5.Ders Et.Kat.","Puanı"]
[24,"ABBASALİ İREK",82,63,null,null,null,null,80,null,null,null,null,75,"Öğrenci Not Bilgisi"]
[25,"ADEM ŞAYRAN",20,18,null,null,null,null,25,null,null,null,null,21,"Öğrenci Not Bilgisi"]
[26,"AYŞE ŞEYRAN",92,95,null,null,null,null,95,null,null,null,null,94,"Öğrenci Not Bilgisi"]
[28,"CANERCAN İREK",40,23,null,null,null,null,40,null,null,null,null,343333,"Öğrenci Not Bilgisi"]
[31,"DİLARA BURAK",20,13,null,null,null,null,60,null,null,null,null,31,"Öğrenci Not Bilgisi"]
[32,"EDA ŞEYRAN",98,95,null,null,null,null,95,null,null,null,null,96,"Öğrenci Not Bilgisi"]
[33,"ENES BAYILMAZ",91,82,null,null,null,null,95,null,null,null,null,893333,"Öğrenci Not Bilgisi"]
[34,"FURKAN GÜNEŞ",56,32,null,null,null,null,55,null,null,null,null,476667,"Öğrenci Not Bilgisi"]
[36,"HASAN HÜSEYİN ŞEYRAN",71,79,null,null,null,null,80,null,null,null,null,766667,"Öğrenci Not Bilgisi"]
[46,"HELİN BURAK",49,40,null,null,null,null,50,null,null,null,null,463333,"Öğrenci Not Bilgisi"]
[47,"İKLİM YAZAR",77,80,null,null,null,null,80,null,null,null,null,79,"Öğrenci Not Bilgisi"]
[63,"İSMAİL HAKKI VURMAZ",59,45,null,null,null,null,55,null,null,null,null,53,"Öğrenci Not Bilgisi"]
[64,"MÜTALİP GÜL",78,63,null,null,null,null,70,null,null,null,null,703333,"Öğrenci Not Bilgisi"]
[69,"NEHİR YAZAR",94,86,null,null,null,null,90,null,null,null,null,90,"Öğrenci Not Bilgisi"]
[71,"NEVRUZ BURAK",80,55,null,null,null,null,75,null,null,null,null,70,"Öğrenci Not Bilgisi"]
[73,"REZAN ÇAKMAKÇI",84,84,null,null,null,null,90,null,null,null,null,86,"Öğrenci Not Bilgisi"]
[76,"RIFAT YİĞİT",29,33,null,null,null,null,30,null,null,null,null,306667,"Öğrenci Not Bilgisi"]
[87,"RUMEYSA MENDİ",90,85,null,null,null,null,90,null,null,null,null,883333,"Öğrenci Not Bilgisi"]
[91,"SÜLEYMAN İŞİK",54,23,null,null,null,null,50,null,null,null,null,423333,"Öğrenci Not Bilgisi"]
[93,"ŞİYAR BAYILMAZ",49,15,null,null,null,null,45,null,null,null,null,363333,"Öğrenci Not Bilgisi"]
[94,"TUĞBA ECE",25,30,null,null,null,null,60,null,null,null,null,383333,"Öğrenci Not Bilgisi"]
[95,"UMUT ÇATMA",68,64,null,null,null,null,70,null,null,null,null,673333,"Öğrenci Not Bilgisi"]
[96,"YILMAZ ŞEYRAN",50,20,null,null,null,null,45,null,null,null,null,383333,"Öğrenci Not Bilgisi"]
[100,"HATİCE VURMAZ"]

{"sheet":"proje","index":6,"n_rows":54,"n_cols":26,"rows_kept":54,"cut":false,"hidden":false,"merged":[[6,4,6,8],[6,9,6,18],[6,19,6,23],[7,20,9,20],[7,18,9,18],[7,9,9,9],[7,10,9,10],[7,11,9,11],[7,14,9,14],[7,15,9,15],[7,16,9,16],[7,17,9,17],[7,8,9,8],[7,24,9,24],[52,17,52,22],[53,17,53,22],[4,1,4,25],[7,12,9,12],[7,13,9,13],[7,1,8,1],[7,4,9,4],[7,5,9,5],[7,6,9,6],[7,7,9,7],[7,25,9,25],[7,19,9,19],[7,21,9,21],[7,22,9,22],[7,23,9,23]]}
[]
[]
[]
[]
[null,{"$f":"CONCATENATE(ANASAYFA!D5,\"  \",ANASAYFA!D11,\"  \",\"SINIFI\",\"  \",ANASAYFA!D6,\"  \",\"DERSİ PROJE DEĞERLENDİRME ÖLÇEĞİ\")","v":"………….ORTAOKULU  5/A  SINIFI   TÜRKÇE ÖĞRETMENİ  DERSİ PROJE DEĞERLENDİRME ÖLÇEĞİ"}]
[]
[null,null,null,null,"I. Proje Hazırlama Süreci",null,null,null,null,"II. Proje  İçeriği",null,null,null,null,null,null,null,null,null,"III. Proje Görev Sunumu"]
[null,"DEĞERLENDİRME ÖLÇEĞİ"," 2: Kabul Edilebilir","5:Çok iyi                               ","1. Projenin amacını belirleme","2. Uygun çalışma planı yapma","3. Farklı kaynaklardan bilgi toplama","4. Hazırlamaya istekli oluş","5. Projeyi plana göre gerçekleştirme","1. Türçe'yi doğru ve düzgün kullanma","2. Gösterilen özen, Temizlik, tertip ve düzeni","3. Bilgilerin doğruluğu","4. Toplanan bilgileri düzenleme","5. Toplanan bilgileri analiz etme","6. Elde edilen bilgilerden çıkarımda bulunma","7. Amaca ve hedeflere uygun tasarım","8. Yaratıcılık yeteneğini kullanma","9. Kritik düşünme becerisini gösterme","10. Çalışma raporu hazırlama","1. Türçe'yi doğru ve düzgün konuşma","2. Konu ile ilgili  kavramları anlama ve anlatma","3. Akıcı bir dil ve beden dilini kullanma","4. Ödevi zamanında teslim ediş","5. Sunum sırasında özgüvene sahip olma",null,"PROJE GÖREV PUANI"]
[null,null,"1: Zayıf           ","     3:Orta         4:İyi "]
[null,"SIRA ","ÖĞ NO","AD SOYAD "]
[null,1,{"$f":"eokul!$A2","v":24},{"$f":"eokul!$B2","v":"ABBASALİ İREK"},{"$f":"Sayfa1!H5","v":" "},{"$f":"Sayfa1!I5","v":" "},{"$f":"Sayfa1!J5","v":" "},{"$f":"Sayfa1!K5","v":" "},{"$f":"Sayfa1!L5","v":" "},{"$f":"Sayfa1!N5","v":" "},{"$f":"Sayfa1!O5","v":" "},{"$f":"Sayfa1!P5","v":" "},{"$f":"Sayfa1!Q5","v":" "},{"$f":"Sayfa1!R5","v":" "},{"$f":"Sayfa1!S5","v":" "},{"$f":"Sayfa1!T5","v":" "},{"$f":"Sayfa1!U5","v":" "},{"$f":"Sayfa1!V5","v":" "},{"$f":"Sayfa1!W5","v":" "},{"$f":"Sayfa1!Y5","v":" "},{"$f":"Sayfa1!Z5","v":" "},{"$f":"Sayfa1!AA5","v":" "},{"$f":"Sayfa1!AB5","v":" "},{"$f":"Sayfa1!AC5","v":" "},null,{"$f":"eokul!$G2","v":0}]
[null,2,{"$f":"eokul!$A3","v":25},{"$f":"eokul!$B3","v":"ADEM ŞAYRAN"},{"$f":"Sayfa1!H6","v":" "},{"$f":"Sayfa1!I6","v":" "},{"$f":"Sayfa1!J6","v":" "},{"$f":"Sayfa1!K6","v":" "},{"$f":"Sayfa1!L6","v":" "},{"$f":"Sayfa1!N6","v":" "},{"$f":"Sayfa1!O6","v":" "},{"$f":"Sayfa1!P6","v":" "},{"$f":"Sayfa1!Q6","v":" "},{"$f":"Sayfa1!R6","v":" "},{"$f":"Sayfa1!S6","v":" "},{"$f":"Sayfa1!T6","v":" "},{"$f":"Sayfa1!U6","v":" "},{"$f":"Sayfa1!V6","v":" "},{"$f":"Sayfa1!W6","v":" "},{"$f":"Sayfa1!Y6","v":" "},{"$f":"Sayfa1!Z6","v":" "},{"$f":"Sayfa1!AA6","v":" "},{"$f":"Sayfa1!AB6","v":" "},{"$f":"Sayfa1!AC6","v":" "},null,{"$f":"eokul!$G3","v":0}]
[null,3,{"$f":"eokul!$A4","v":26},{"$f":"eokul!$B4","v":"AYŞE ŞEYRAN"},{"$f":"Sayfa1!H7","v":" "},{"$f":"Sayfa1!I7","v":" "},{"$f":"Sayfa1!J7","v":" "},{"$f":"Sayfa1!K7","v":" "},{"$f":"Sayfa1!L7","v":" "},{"$f":"Sayfa1!N7","v":" "},{"$f":"Sayfa1!O7","v":" "},{"$f":"Sayfa1!P7","v":" "},{"$f":"Sayfa1!Q7","v":" "},{"$f":"Sayfa1!R7","v":" "},{"$f":"Sayfa1!S7","v":" "},{"$f":"Sayfa1!T7","v":" "},{"$f":"Sayfa1!U7","v":" "},{"$f":"Sayfa1!V7","v":" "},{"$f":"Sayfa1!W7","v":" "},{"$f":"Sayfa1!Y7","v":" "},{"$f":"Sayfa1!Z7","v":" "},{"$f":"Sayfa1!AA7","v":" "},{"$f":"Sayfa1!AB7","v":" "},{"$f":"Sayfa1!AC7","v":" "},null,{"$f":"eokul!$G4","v":0}]
[null,4,{"$f":"eokul!$A5","v":28},{"$f":"eokul!$B5","v":"CANERCAN İREK"},{"$f":"Sayfa1!H8","v":" "},{"$f":"Sayfa1!I8","v":" "},{"$f":"Sayfa1!J8","v":" "},{"$f":"Sayfa1!K8","v":" "},{"$f":"Sayfa1!L8","v":" "},{"$f":"Sayfa1!N8","v":" "},{"$f":"Sayfa1!O8","v":" "},{"$f":"Sayfa1!P8","v":" "},{"$f":"Sayfa1!Q8","v":" "},{"$f":"Sayfa1!R8","v":" "},{"$f":"Sayfa1!S8","v":" "},{"$f":"Sayfa1!T8","v":" "},{"$f":"Sayfa1!U8","v":" "},{"$f":"Sayfa1!V8","v":" "},{"$f":"Sayfa1!W8","v":" "},{"$f":"Sayfa1!Y8","v":" "},{"$f":"Sayfa1!Z8","v":" "},{"$f":"Sayfa1!AA8","v":" "},{"$f":"Sayfa1!AB8","v":" "},{"$f":"Sayfa1!AC8","v":" "},null,{"$f":"eokul!$G5","v":0}]
[null,5,{"$f":"eokul!$A6","v":31},{"$f":"eokul!$B6","v":"DİLARA BURAK"},{"$f":"Sayfa1!H9","v":" "},{"$f":"Sayfa1!I9","v":" "},{"$f":"Sayfa1!J9","v":" "},{"$f":"Sayfa1!K9","v":" "},{"$f":"Sayfa1!L9","v":" "},{"$f":"Sayfa1!N9","v":" "},{"$f":"Sayfa1!O9","v":" "},{"$f":"Sayfa1!P9","v":" "},{"$f":"Sayfa1!Q9","v":" "},{"$f":"Sayfa1!R9","v":" "},{"$f":"Sayfa1!S9","v":" "},{"$f":"Sayfa1!T9","v":" "},{"$f":"Sayfa1!U9","v":" "},{"$f":"Sayfa1!V9","v":" "},{"$f":"Sayfa1!W9","v":" "},{"$f":"Sayfa1!Y9","v":" "},{"$f":"Sayfa1!Z9","v":" "},{"$f":"Sayfa1!AA9","v":" "},{"$f":"Sayfa1!AB9","v":" "},{"$f":"Sayfa1!AC9","v":" "},null,{"$f":"eokul!$G6","v":0}]
[null,6,{"$f":"eokul!$A7","v":32},{"$f":"eokul!$B7","v":"EDA ŞEYRAN"},{"$f":"Sayfa1!H10","v":" "},{"$f":"Sayfa1!I10","v":" "},{"$f":"Sayfa1!J10","v":" "},{"$f":"Sayfa1!K10","v":" "},{"$f":"Sayfa1!L10","v":" "},{"$f":"Sayfa1!N10","v":" "},{"$f":"Sayfa1!O10","v":" "},{"$f":"Sayfa1!P10","v":" "},{"$f":"Sayfa1!Q10","v":" "},{"$f":"Sayfa1!R10","v":" "},{"$f":"Sayfa1!S10","v":" "},{"$f":"Sayfa1!T10","v":" "},{"$f":"Sayfa1!U10","v":" "},{"$f":"Sayfa1!V10","v":" "},{"$f":"Sayfa1!W10","v":" "},{"$f":"Sayfa1!Y10","v":" "},{"$f":"Sayfa1!Z10","v":" "},{"$f":"Sayfa1!AA10","v":" "},{"$f":"Sayfa1!AB10","v":" "},{"$f":"Sayfa1!AC10","v":" "},null,{"$f":"eokul!$G7","v":0}]
[null,7,{"$f":"eokul!$A8","v":33},{"$f":"eokul!$B8","v":"ENES BAYILMAZ"},{"$f":"Sayfa1!H11","v":" "},{"$f":"Sayfa1!I11","v":" "},{"$f":"Sayfa1!J11","v":" "},{"$f":"Sayfa1!K11","v":" "},{"$f":"Sayfa1!L11","v":" "},{"$f":"Sayfa1!N11","v":" "},{"$f":"Sayfa1!O11","v":" "},{"$f":"Sayfa1!P11","v":" "},{"$f":"Sayfa1!Q11","v":" "},{"$f":"Sayfa1!R11","v":" "},{"$f":"Sayfa1!S11","v":" "},{"$f":"Sayfa1!T11","v":" "},{"$f":"Sayfa1!U11","v":" "},{"$f":"Sayfa1!V11","v":" "},{"$f":"Sayfa1!W11","v":" "},{"$f":"Sayfa1!Y11","v":" "},{"$f":"Sayfa1!Z11","v":" "},{"$f":"Sayfa1!AA11","v":" "},{"$f":"Sayfa1!AB11","v":" "},{"$f":"Sayfa1!AC11","v":" "},null,{"$f":"eokul!$G8","v":0}]
[null,8,{"$f":"eokul!$A9","v":34},{"$f":"eokul!$B9","v":"FURKAN GÜNEŞ"},{"$f":"Sayfa1!H12","v":" "},{"$f":"Sayfa1!I12","v":" "},{"$f":"Sayfa1!J12","v":" "},{"$f":"Sayfa1!K12","v":" "},{"$f":"Sayfa1!L12","v":" "},{"$f":"Sayfa1!N12","v":" "},{"$f":"Sayfa1!O12","v":" "},{"$f":"Sayfa1!P12","v":" "},{"$f":"Sayfa1!Q12","v":" "},{"$f":"Sayfa1!R12","v":" "},{"$f":"Sayfa1!S12","v":" "},{"$f":"Sayfa1!T12","v":" "},{"$f":"Sayfa1!U12","v":" "},{"$f":"Sayfa1!V12","v":" "},{"$f":"Sayfa1!W12","v":" "},{"$f":"Sayfa1!Y12","v":" "},{"$f":"Sayfa1!Z12","v":" "},{"$f":"Sayfa1!AA12","v":" "},{"$f":"Sayfa1!AB12","v":" "},{"$f":"Sayfa1!AC12","v":" "},null,{"$f":"eokul!$G9","v":0}]
[null,9,{"$f":"eokul!$A10","v":36},{"$f":"eokul!$B10","v":"HASAN HÜSEYİN ŞEYRAN"},{"$f":"Sayfa1!H13","v":" "},{"$f":"Sayfa1!I13","v":" "},{"$f":"Sayfa1!J13","v":" "},{"$f":"Sayfa1!K13","v":" "},{"$f":"Sayfa1!L13","v":" "},{"$f":"Sayfa1!N13","v":" "},{"$f":"Sayfa1!O13","v":" "},{"$f":"Sayfa1!P13","v":" "},{"$f":"Sayfa1!Q13","v":" "},{"$f":"Sayfa1!R13","v":" "},{"$f":"Sayfa1!S13","v":" "},{"$f":"Sayfa1!T13","v":" "},{"$f":"Sayfa1!U13","v":" "},{"$f":"Sayfa1!V13","v":" "},{"$f":"Sayfa1!W13","v":" "},{"$f":"Sayfa1!Y13","v":" "},{"$f":"Sayfa1!Z13","v":" "},{"$f":"Sayfa1!AA13","v":" "},{"$f":"Sayfa1!AB13","v":" "},{"$f":"Sayfa1!AC13","v":" "},null,{"$f":"eokul!$G10","v":0}]
[null,10,{"$f":"eokul!$A11","v":46},{"$f":"eokul!$B11","v":"HELİN BURAK"},{"$f":"Sayfa1!H14","v":" "},{"$f":"Sayfa1!I14","v":" "},{"$f":"Sayfa1!J14","v":" "},{"$f":"Sayfa1!K14","v":" "},{"$f":"Sayfa1!L14","v":" "},{"$f":"Sayfa1!N14","v":" "},{"$f":"Sayfa1!O14","v":" "},{"$f":"Sayfa1!P14","v":" "},{"$f":"Sayfa1!Q14","v":" "},{"$f":"Sayfa1!R14","v":" "},{"$f":"Sayfa1!S14","v":" "},{"$f":"Sayfa1!T14","v":" "},{"$f":"Sayfa1!U14","v":" "},{"$f":"Sayfa1!V14","v":" "},{"$f":"Sayfa1!W14","v":" "},{"$f":"Sayfa1!Y14","v":" "},{"$f":"Sayfa1!Z14","v":" "},{"$f":"Sayfa1!AA14","v":" "},{"$f":"Sayfa1!AB14","v":" "},{"$f":"Sayfa1!AC14","v":" "},null,{"$f":"eokul!$G11","v":0}]
[null,11,{"$f":"eokul!$A12","v":47},{"$f":"eokul!$B12","v":"İKLİM YAZAR"},{"$f":"Sayfa1!H15","v":" "},{"$f":"Sayfa1!I15","v":" "},{"$f":"Sayfa1!J15","v":" "},{"$f":"Sayfa1!K15","v":" "},{"$f":"Sayfa1!L15","v":" "},{"$f":"Sayfa1!N15","v":" "},{"$f":"Sayfa1!O15","v":" "},{"$f":"Sayfa1!P15","v":" "},{"$f":"Sayfa1!Q15","v":" "},{"$f":"Sayfa1!R15","v":" "},{"$f":"Sayfa1!S15","v":" "},{"$f":"Sayfa1!T15","v":" "},{"$f":"Sayfa1!U15","v":" "},{"$f":"Sayfa1!V15","v":" "},{"$f":"Sayfa1!W15","v":" "},{"$f":"Sayfa1!Y15","v":" "},{"$f":"Sayfa1!Z15","v":" "},{"$f":"Sayfa1!AA15","v":" "},{"$f":"Sayfa1!AB15","v":" "},{"$f":"Sayfa1!AC15","v":" "},null,{"$f":"eokul!$G12","v":0}]
[null,12,{"$f":"eokul!$A13","v":63},{"$f":"eokul!$B13","v":"İSMAİL HAKKI VURMAZ"},{"$f":"Sayfa1!H16","v":" "},{"$f":"Sayfa1!I16","v":" "},{"$f":"Sayfa1!J16","v":" "},{"$f":"Sayfa1!K16","v":" "},{"$f":"Sayfa1!L16","v":" "},{"$f":"Sayfa1!N16","v":" "},{"$f":"Sayfa1!O16","v":" "},{"$f":"Sayfa1!P16","v":" "},{"$f":"Sayfa1!Q16","v":" "},{"$f":"Sayfa1!R16","v":" "},{"$f":"Sayfa1!S16","v":" "},{"$f":"Sayfa1!T16","v":" "},{"$f":"Sayfa1!U16","v":" "},{"$f":"Sayfa1!V16","v":" "},{"$f":"Sayfa1!W16","v":" "},{"$f":"Sayfa1!Y16","v":" "},{"$f":"Sayfa1!Z16","v":" "},{"$f":"Sayfa1!AA16","v":" "},{"$f":"Sayfa1!AB16","v":" "},{"$f":"Sayfa1!AC16","v":" "},null,{"$f":"eokul!$G13","v":0}]
[null,13,{"$f":"eokul!$A14","v":64},{"$f":"eokul!$B14","v":"MÜTALİP GÜL"},{"$f":"Sayfa1!H17","v":" "},{"$f":"Sayfa1!I17","v":" "},{"$f":"Sayfa1!J17","v":" "},{"$f":"Sayfa1!K17","v":" "},{"$f":"Sayfa1!L17","v":" "},{"$f":"Sayfa1!N17","v":" "},{"$f":"Sayfa1!O17","v":" "},{"$f":"Sayfa1!P17","v":" "},{"$f":"Sayfa1!Q17","v":" "},{"$f":"Sayfa1!R17","v":" "},{"$f":"Sayfa1!S17","v":" "},{"$f":"Sayfa1!T17","v":" "},{"$f":"Sayfa1!U17","v":" "},{"$f":"Sayfa1!V17","v":" "},{"$f":"Sayfa1!W17","v":" "},{"$f":"Sayfa1!Y17","v":" "},{"$f":"Sayfa1!Z17","v":" "},{"$f":"Sayfa1!AA17","v":" "},{"$f":"Sayfa1!AB17","v":" "},{"$f":"Sayfa1!AC17","v":" "},null,{"$f":"eokul!$G14","v":0}]
[null,14,{"$f":"eokul!$A15","v":69},{"$f":"eokul!$B15","v":"NEHİR YAZAR"},{"$f":"Sayfa1!H18","v":" "},{"$f":"Sayfa1!I18","v":" "},{"$f":"Sayfa1!J18","v":" "},{"$f":"Sayfa1!K18","v":" "},{"$f":"Sayfa1!L18","v":" "},{"$f":"Sayfa1!N18","v":" "},{"$f":"Sayfa1!O18","v":" "},{"$f":"Sayfa1!P18","v":" "},{"$f":"Sayfa1!Q18","v":" "},{"$f":"Sayfa1!R18","v":" "},{"$f":"Sayfa1!S18","v":" "},{"$f":"Sayfa1!T18","v":" "},{"$f":"Sayfa1!U18","v":" "},{"$f":"Sayfa1!V18","v":" "},{"$f":"Sayfa1!W18","v":" "},{"$f":"Sayfa1!Y18","v":" "},{"$f":"Sayfa1!Z18","v":" "},{"$f":"Sayfa1!AA18","v":" "},{"$f":"Sayfa1!AB18","v":" "},{"$f":"Sayfa1!AC18","v":" "},null,{"$f":"eokul!$G15","v":0}]
[null,15,{"$f":"eokul!$A16","v":71},{"$f":"eokul!$B16","v":"NEVRUZ BURAK"},{"$f":"Sayfa1!H19","v":" "},{"$f":"Sayfa1!I19","v":" "},{"$f":"Sayfa1!J19","v":" "},{"$f":"Sayfa1!K19","v":" "},{"$f":"Sayfa1!L19","v":" "},{"$f":"Sayfa1!N19","v":" "},{"$f":"Sayfa1!O19","v":" "},{"$f":"Sayfa1!P19","v":" "},{"$f":"Sayfa1!Q19","v":" "},{"$f":"Sayfa1!R19","v":" "},{"$f":"Sayfa1!S19","v":" "},{"$f":"Sayfa1!T19","v":" "},{"$f":"Sayfa1!U19","v":" "},{"$f":"Sayfa1!V19","v":" "},{"$f":"Sayfa1!W19","v":" "},{"$f":"Sayfa1!Y19","v":" "},{"$f":"Sayfa1!Z19","v":" "},{"$f":"Sayfa1!AA19","v":" "},{"$f":"Sayfa1!AB19","v":" "},{"$f":"Sayfa1!AC19","v":" "},null,{"$f":"eokul!$G16","v":0}]
[null,16,{"$f":"eokul!$A17","v":73},{"$f":"eokul!$B17","v":"REZAN ÇAKMAKÇI"},{"$f":"Sayfa1!H20","v":" "},{"$f":"Sayfa1!I20","v":" "},{"$f":"Sayfa1!J20","v":" "},{"$f":"Sayfa1!K20","v":" "},{"$f":"Sayfa1!L20","v":" "},{"$f":"Sayfa1!N20","v":" "},{"$f":"Sayfa1!O20","v":" "},{"$f":"Sayfa1!P20","v":" "},{"$f":"Sayfa1!Q20","v":" "},{"$f":"Sayfa1!R20","v":" "},{"$f":"Sayfa1!S20","v":" "},{"$f":"Sayfa1!T20","v":" "},{"$f":"Sayfa1!U20","v":" "},{"$f":"Sayfa1!V20","v":" "},{"$f":"Sayfa1!W20","v":" "},{"$f":"Sayfa1!Y20","v":" "},{"$f":"Sayfa1!Z20","v":" "},{"$f":"Sayfa1!AA20","v":" "},{"$f":"Sayfa1!AB20","v":" "},{"$f":"Sayfa1!AC20","v":" "},null,{"$f":"eokul!$G17","v":0}]
[null,17,{"$f":"eokul!$A18","v":76},{"$f":"eokul!$B18","v":"RIFAT YİĞİT"},{"$f":"Sayfa1!H21","v":" "},{"$f":"Sayfa1!I21","v":" "},{"$f":"Sayfa1!J21","v":" "},{"$f":"Sayfa1!K21","v":" "},{"$f":"Sayfa1!L21","v":" "},{"$f":"Sayfa1!N21","v":" "},{"$f":"Sayfa1!O21","v":" "},{"$f":"Sayfa1!P21","v":" "},{"$f":"Sayfa1!Q21","v":" "},{"$f":"Sayfa1!R21","v":" "},{"$f":"Sayfa1!S21","v":" "},{"$f":"Sayfa1!T21","v":" "},{"$f":"Sayfa1!U21","v":" "},{"$f":"Sayfa1!V21","v":" "},{"$f":"Sayfa1!W21","v":" "},{"$f":"Sayfa1!Y21","v":" "},{"$f":"Sayfa1!Z21","v":" "},{"$f":"Sayfa1!AA21","v":" "},{"$f":"Sayfa1!AB21","v":" "},{"$f":"Sayfa1!AC21","v":" "},null,{"$f":"eokul!$G18","v":0}]
[null,18,{"$f":"eokul!$A19","v":87},{"$f":"eokul!$B19","v":"RUMEYSA MENDİ"},{"$f":"Sayfa1!H22","v":" "},{"$f":"Sayfa1!I22","v":" "},{"$f":"Sayfa1!J22","v":" "},{"$f":"Sayfa1!K22","v":" "},{"$f":"Sayfa1!L22","v":" "},{"$f":"Sayfa1!N22","v":" "},{"$f":"Sayfa1!O22","v":" "},{"$f":"Sayfa1!P22","v":" "},{"$f":"Sayfa1!Q22","v":" "},{"$f":"Sayfa1!R22","v":" "},{"$f":"Sayfa1!S22","v":" "},{"$f":"Sayfa1!T22","v":" "},{"$f":"Sayfa1!U22","v":" "},{"$f":"Sayfa1!V22","v":" "},{"$f":"Sayfa1!W22","v":" "},{"$f":"Sayfa1!Y22","v":" "},{"$f":"Sayfa1!Z22","v":" "},{"$f":"Sayfa1!AA22","v":" "},{"$f":"Sayfa1!AB22","v":" "},{"$f":"Sayfa1!AC22","v":" "},null,{"$f":"eokul!$G19","v":0}]
[null,19,{"$f":"eokul!$A20","v":91},{"$f":"eokul!$B20","v":"SÜLEYMAN İŞİK"},{"$f":"Sayfa1!H23","v":" "},{"$f":"Sayfa1!I23","v":" "},{"$f":"Sayfa1!J23","v":" "},{"$f":"Sayfa1!K23","v":" "},{"$f":"Sayfa1!L23","v":" "},{"$f":"Sayfa1!N23","v":" "},{"$f":"Sayfa1!O23","v":" "},{"$f":"Sayfa1!P23","v":" "},{"$f":"Sayfa1!Q23","v":" "},{"$f":"Sayfa1!R23","v":" "},{"$f":"Sayfa1!S23","v":" "},{"$f":"Sayfa1!T23","v":" "},{"$f":"Sayfa1!U23","v":" "},{"$f":"Sayfa1!V23","v":" "},{"$f":"Sayfa1!W23","v":" "},{"$f":"Sayfa1!Y23","v":" "},{"$f":"Sayfa1!Z23","v":" "},{"$f":"Sayfa1!AA23","v":" "},{"$f":"Sayfa1!AB23","v":" "},{"$f":"Sayfa1!AC23","v":" "},null,{"$f":"eokul!$G20","v":0}]
[null,20,{"$f":"eokul!$A21","v":93},{"$f":"eokul!$B21","v":"ŞİYAR BAYILMAZ"},{"$f":"Sayfa1!H24","v":" "},{"$f":"Sayfa1!I24","v":" "},{"$f":"Sayfa1!J24","v":" "},{"$f":"Sayfa1!K24","v":" "},{"$f":"Sayfa1!L24","v":" "},{"$f":"Sayfa1!N24","v":" "},{"$f":"Sayfa1!O24","v":" "},{"$f":"Sayfa1!P24","v":" "},{"$f":"Sayfa1!Q24","v":" "},{"$f":"Sayfa1!R24","v":" "},{"$f":"Sayfa1!S24","v":" "},{"$f":"Sayfa1!T24","v":" "},{"$f":"Sayfa1!U24","v":" "},{"$f":"Sayfa1!V24","v":" "},{"$f":"Sayfa1!W24","v":" "},{"$f":"Sayfa1!Y24","v":" "},{"$f":"Sayfa1!Z24","v":" "},{"$f":"Sayfa1!AA24","v":" "},{"$f":"Sayfa1!AB24","v":" "},{"$f":"Sayfa1!AC24","v":" "},null,{"$f":"eokul!$G21","v":0}]
[null,21,{"$f":"eokul!$A22","v":94},{"$f":"eokul!$B22","v":"TUĞBA ECE"},{"$f":"Sayfa1!H25","v":" "},{"$f":"Sayfa1!I25","v":" "},{"$f":"Sayfa1!J25","v":" "},{"$f":"Sayfa1!K25","v":" "},{"$f":"Sayfa1!L25","v":" "},{"$f":"Sayfa1!N25","v":" "},{"$f":"Sayfa1!O25","v":" "},{"$f":"Sayfa1!P25","v":" "},{"$f":"Sayfa1!Q25","v":" "},{"$f":"Sayfa1!R25","v":" "},{"$f":"Sayfa1!S25","v":" "},{"$f":"Sayfa1!T25","v":" "},{"$f":"Sayfa1!U25","v":" "},{"$f":"Sayfa1!V25","v":" "},{"$f":"Sayfa1!W25","v":" "},{"$f":"Sayfa1!Y25","v":" "},{"$f":"Sayfa1!Z25","v":" "},{"$f":"Sayfa1!AA25","v":" "},{"$f":"Sayfa1!AB25","v":" "},{"$f":"Sayfa1!AC25","v":" "},null,{"$f":"eokul!$G22","v":0}]
[null,22,{"$f":"eokul!$A23","v":95},{"$f":"eokul!$B23","v":"UMUT ÇATMA"},{"$f":"Sayfa1!H26","v":" "},{"$f":"Sayfa1!I26","v":" "},{"$f":"Sayfa1!J26","v":" "},{"$f":"Sayfa1!K26","v":" "},{"$f":"Sayfa1!L26","v":" "},{"$f":"Sayfa1!N26","v":" "},{"$f":"Sayfa1!O26","v":" "},{"$f":"Sayfa1!P26","v":" "},{"$f":"Sayfa1!Q26","v":" "},{"$f":"Sayfa1!R26","v":" "},{"$f":"Sayfa1!S26","v":" "},{"$f":"Sayfa1!T26","v":" "},{"$f":"Sayfa1!U26","v":" "},{"$f":"Sayfa1!V26","v":" "},{"$f":"Sayfa1!W26","v":" "},{"$f":"Sayfa1!Y26","v":" "},{"$f":"Sayfa1!Z26","v":" "},{"$f":"Sayfa1!AA26","v":" "},{"$f":"Sayfa1!AB26","v":" "},{"$f":"Sayfa1!AC26","v":" "},null,{"$f":"eokul!$G23","v":0}]
[null,23,{"$f":"eokul!$A24","v":96},{"$f":"eokul!$B24","v":"YILMAZ ŞEYRAN"},{"$f":"Sayfa1!H27","v":" "},{"$f":"Sayfa1!I27","v":" "},{"$f":"Sayfa1!J27","v":" "},{"$f":"Sayfa1!K27","v":" "},{"$f":"Sayfa1!L27","v":" "},{"$f":"Sayfa1!N27","v":" "},{"$f":"Sayfa1!O27","v":" "},{"$f":"Sayfa1!P27","v":" "},{"$f":"Sayfa1!Q27","v":" "},{"$f":"Sayfa1!R27","v":" "},{"$f":"Sayfa1!S27","v":" "},{"$f":"Sayfa1!T27","v":" "},{"$f":"Sayfa1!U27","v":" "},{"$f":"Sayfa1!V27","v":" "},{"$f":"Sayfa1!W27","v":" "},{"$f":"Sayfa1!Y27","v":" "},{"$f":"Sayfa1!Z27","v":" "},{"$f":"Sayfa1!AA27","v":" "},{"$f":"Sayfa1!AB27","v":" "},{"$f":"Sayfa1!AC27","v":" "},null,{"$f":"eokul!$G24","v":0}]
[null,24,{"$f":"eokul!$A25","v":100},{"$f":"eokul!$B25","v":"HATİCE VURMAZ"},{"$f":"Sayfa1!H28","v":" "},{"$f":"Sayfa1!I28","v":" "},{"$f":"Sayfa1!J28","v":" "},{"$f":"Sayfa1!K28","v":" "},{"$f":"Sayfa1!L28","v":" "},{"$f":"Sayfa1!N28","v":" "},{"$f":"Sayfa1!O28","v":" "},{"$f":"Sayfa1!P28","v":" "},{"$f":"Sayfa1!Q28","v":" "},{"$f":"Sayfa1!R28","v":" "},{"$f":"Sayfa1!S28","v":" "},{"$f":"Sayfa1!T28","v":" "},{"$f":"Sayfa1!U28","v":" "},{"$f":"Sayfa1!V28","v":" "},{"$f":"Sayfa1!W28","v":" "},{"$f":"Sayfa1!Y28","v":" "},{"$f":"Sayfa1!Z28","v":" "},{"$f":"Sayfa1!AA28","v":" "},{"$f":"Sayfa1!AB28","v":" "},{"$f":"Sayfa1!AC28","v":" "},null,{"$f":"eokul!$G25","v":0}]
[null,25,{"$f":"eokul!$A26","v":0},{"$f":"eokul!$B26","v":0},{"$f":"Sayfa1!H29","v":" "},{"$f":"Sayfa1!I29","v":" "},{"$f":"Sayfa1!J29","v":" "},{"$f":"Sayfa1!K29","v":" "},{"$f":"Sayfa1!L29","v":" "},{"$f":"Sayfa1!N29","v":" "},{"$f":"Sayfa1!O29","v":" "},{"$f":"Sayfa1!P29","v":" "},{"$f":"Sayfa1!Q29","v":" "},{"$f":"Sayfa1!R29","v":" "},{"$f":"Sayfa1!S29","v":" "},{"$f":"Sayfa1!T29","v":" "},{"$f":"Sayfa1!U29","v":" "},{"$f":"Sayfa1!V29","v":" "},{"$f":"Sayfa1!W29","v":" "},{"$f":"Sayfa1!Y29","v":" "},{"$f":"Sayfa1!Z29","v":" "},{"$f":"Sayfa1!AA29","v":" "},{"$f":"Sayfa1!AB29","v":" "},{"$f":"Sayfa1!AC29","v":" "},null,{"$f":"eokul!$G26","v":0}]
[null,26,{"$f":"eokul!$A27","v":0},{"$f":"eokul!$B27","v":0},{"$f":"Sayfa1!H30","v":" "},{"$f":"Sayfa1!I30","v":" "},{"$f":"Sayfa1!J30","v":" "},{"$f":"Sayfa1!K30","v":" "},{"$f":"Sayfa1!L30","v":" "},{"$f":"Sayfa1!N30","v":" "},{"$f":"Sayfa1!O30","v":" "},{"$f":"Sayfa1!P30","v":" "},{"$f":"Sayfa1!Q30","v":" "},{"$f":"Sayfa1!R30","v":" "},{"$f":"Sayfa1!S30","v":" "},{"$f":"Sayfa1!T30","v":" "},{"$f":"Sayfa1!U30","v":" "},{"$f":"Sayfa1!V30","v":" "},{"$f":"Sayfa1!W30","v":" "},{"$f":"Sayfa1!Y30","v":" "},{"$f":"Sayfa1!Z30","v":" "},{"$f":"Sayfa1!AA30","v":" "},{"$f":"Sayfa1!AB30","v":" "},{"$f":"Sayfa1!AC30","v":" "},null,{"$f":"eokul!$G27","v":0}]
[null,27,{"$f":"eokul!$A28","v":0},{"$f":"eokul!$B28","v":0},{"$f":"Sayfa1!H31","v":" "},{"$f":"Sayfa1!I31","v":" "},{"$f":"Sayfa1!J31","v":" "},{"$f":"Sayfa1!K31","v":" "},{"$f":"Sayfa1!L31","v":" "},{"$f":"Sayfa1!N31","v":" "},{"$f":"Sayfa1!O31","v":" "},{"$f":"Sayfa1!P31","v":" "},{"$f":"Sayfa1!Q31","v":" "},{"$f":"Sayfa1!R31","v":" "},{"$f":"Sayfa1!S31","v":" "},{"$f":"Sayfa1!T31","v":" "},{"$f":"Sayfa1!U31","v":" "},{"$f":"Sayfa1!V31","v":" "},{"$f":"Sayfa1!W31","v":" "},{"$f":"Sayfa1!Y31","v":" "},{"$f":"Sayfa1!Z31","v":" "},{"$f":"Sayfa1!AA31","v":" "},{"$f":"Sayfa1!AB31","v":" "},{"$f":"Sayfa1!AC31","v":" "},null,{"$f":"eokul!$G28","v":0}]
[null,28,{"$f":"eokul!$A29","v":0},{"$f":"eokul!$B29","v":0},{"$f":"Sayfa1!H32","v":" "},{"$f":"Sayfa1!I32","v":" "},{"$f":"Sayfa1!J32","v":" "},{"$f":"Sayfa1!K32","v":" "},{"$f":"Sayfa1!L32","v":" "},{"$f":"Sayfa1!N32","v":" "},{"$f":"Sayfa1!O32","v":" "},{"$f":"Sayfa1!P32","v":" "},{"$f":"Sayfa1!Q32","v":" "},{"$f":"Sayfa1!R32","v":" "},{"$f":"Sayfa1!S32","v":" "},{"$f":"Sayfa1!T32","v":" "},{"$f":"Sayfa1!U32","v":" "},{"$f":"Sayfa1!V32","v":" "},{"$f":"Sayfa1!W32","v":" "},{"$f":"Sayfa1!Y32","v":" "},{"$f":"Sayfa1!Z32","v":" "},{"$f":"Sayfa1!AA32","v":" "},{"$f":"Sayfa1!AB32","v":" "},{"$f":"Sayfa1!AC32","v":" "},null,{"$f":"eokul!$G29","v":0}]
[null,29,{"$f":"eokul!$A30","v":0},{"$f":"eokul!$B30","v":0},{"$f":"Sayfa1!H33","v":" "},{"$f":"Sayfa1!I33","v":" "},{"$f":"Sayfa1!J33","v":" "},{"$f":"Sayfa1!K33","v":" "},{"$f":"Sayfa1!L33","v":" "},{"$f":"Sayfa1!N33","v":" "},{"$f":"Sayfa1!O33","v":" "},{"$f":"Sayfa1!P33","v":" "},{"$f":"Sayfa1!Q33","v":" "},{"$f":"Sayfa1!R33","v":" "},{"$f":"Sayfa1!S33","v":" "},{"$f":"Sayfa1!T33","v":" "},{"$f":"Sayfa1!U33","v":" "},{"$f":"Sayfa1!V33","v":" "},{"$f":"Sayfa1!W33","v":" "},{"$f":"Sayfa1!Y33","v":" "},{"$f":"Sayfa1!Z33","v":" "},{"$f":"Sayfa1!AA33","v":" "},{"$f":"Sayfa1!AB33","v":" "},{"$f":"Sayfa1!AC33","v":" "},null,{"$f":"eokul!$G30","v":0}]
[null,30,{"$f":"eokul!$A31","v":0},{"$f":"eokul!$B31","v":0},{"$f":"Sayfa1!H34","v":" "},{"$f":"Sayfa1!I34","v":" "},{"$f":"Sayfa1!J34","v":" "},{"$f":"Sayfa1!K34","v":" "},{"$f":"Sayfa1!L34","v":" "},{"$f":"Sayfa1!N34","v":" "},{"$f":"Sayfa1!O34","v":" "},{"$f":"Sayfa1!P34","v":" "},{"$f":"Sayfa1!Q34","v":" "},{"$f":"Sayfa1!R34","v":" "},{"$f":"Sayfa1!S34","v":" "},{"$f":"Sayfa1!T34","v":" "},{"$f":"Sayfa1!U34","v":" "},{"$f":"Sayfa1!V34","v":" "},{"$f":"Sayfa1!W34","v":" "},{"$f":"Sayfa1!Y34","v":" "},{"$f":"Sayfa1!Z34","v":" "},{"$f":"Sayfa1!AA34","v":" "},{"$f":"Sayfa1!AB34","v":" "},{"$f":"Sayfa1!AC34","v":" "},null,{"$f":"eokul!$G31","v":0}]
[null,31,{"$f":"eokul!$A32","v":0},{"$f":"eokul!$B32","v":0},{"$f":"Sayfa1!H35","v":" "},{"$f":"Sayfa1!I35","v":" "},{"$f":"Sayfa1!J35","v":" "},{"$f":"Sayfa1!K35","v":" "},{"$f":"Sayfa1!L35","v":" "},{"$f":"Sayfa1!N35","v":" "},{"$f":"Sayfa1!O35","v":" "},{"$f":"Sayfa1!P35","v":" "},{"$f":"Sayfa1!Q35","v":" "},{"$f":"Sayfa1!R35","v":" "},{"$f":"Sayfa1!S35","v":" "},{"$f":"Sayfa1!T35","v":" "},{"$f":"Sayfa1!U35","v":" "},{"$f":"Sayfa1!V35","v":" "},{"$f":"Sayfa1!W35","v":" "},{"$f":"Sayfa1!Y35","v":" "},{"$f":"Sayfa1!Z35","v":" "},{"$f":"Sayfa1!AA35","v":" "},{"$f":"Sayfa1!AB35","v":" "},{"$f":"Sayfa1!AC35","v":" "},null,{"$f":"eokul!$G32","v":0}]
[null,32,{"$f":"eokul!$A33","v":0},{"$f":"eokul!$B33","v":0},{"$f":"Sayfa1!H36","v":" "},{"$f":"Sayfa1!I36","v":" "},{"$f":"Sayfa1!J36","v":" "},{"$f":"Sayfa1!K36","v":" "},{"$f":"Sayfa1!L36","v":" "},{"$f":"Sayfa1!N36","v":" "},{"$f":"Sayfa1!O36","v":" "},{"$f":"Sayfa1!P36","v":" "},{"$f":"Sayfa1!Q36","v":" "},{"$f":"Sayfa1!R36","v":" "},{"$f":"Sayfa1!S36","v":" "},{"$f":"Sayfa1!T36","v":" "},{"$f":"Sayfa1!U36","v":" "},{"$f":"Sayfa1!V36","v":" "},{"$f":"Sayfa1!W36","v":" "},{"$f":"Sayfa1!Y36","v":" "},{"$f":"Sayfa1!Z36","v":" "},{"$f":"Sayfa1!AA36","v":" "},{"$f":"Sayfa1!AB36","v":" "},{"$f":"Sayfa1!AC36","v":" "},null,{"$f":"eokul!$G33","v":0}]
[null,33,{"$f":"eokul!$A34","v":0},{"$f":"eokul!$B34","v":0},{"$f":"Sayfa1!H37","v":" "},{"$f":"Sayfa1!I37","v":" "},{"$f":"Sayfa1!J37","v":" "},{"$f":"Sayfa1!K37","v":" "},{"$f":"Sayfa1!L37","v":" "},{"$f":"Sayfa1!N37","v":" "},{"$f":"Sayfa1!O37","v":" "},{"$f":"Sayfa1!P37","v":" "},{"$f":"Sayfa1!Q37","v":" "},{"$f":"Sayfa1!R37","v":" "},{"$f":"Sayfa1!S37","v":" "},{"$f":"Sayfa1!T37","v":" "},{"$f":"Sayfa1!U37","v":" "},{"$f":"Sayfa1!V37","v":" "},{"$f":"Sayfa1!W37","v":" "},{"$f":"Sayfa1!Y37","v":" "},{"$f":"Sayfa1!Z37","v":" "},{"$f":"Sayfa1!AA37","v":" "},{"$f":"Sayfa1!AB37","v":" "},{"$f":"Sayfa1!AC37","v":" "},null,{"$f":"eokul!$G34","v":0}]
[null,34,{"$f":"eokul!$A35","v":0},{"$f":"eokul!$B35","v":0},{"$f":"Sayfa1!H38","v":" "},{"$f":"Sayfa1!I38","v":" "},{"$f":"Sayfa1!J38","v":" "},{"$f":"Sayfa1!K38","v":" "},{"$f":"Sayfa1!L38","v":" "},{"$f":"Sayfa1!N38","v":" "},{"$f":"Sayfa1!O38","v":" "},{"$f":"Sayfa1!P38","v":" "},{"$f":"Sayfa1!Q38","v":" "},{"$f":"Sayfa1!R38","v":" "},{"$f":"Sayfa1!S38","v":" "},{"$f":"Sayfa1!T38","v":" "},{"$f":"Sayfa1!U38","v":" "},{"$f":"Sayfa1!V38","v":" "},{"$f":"Sayfa1!W38","v":" "},{"$f":"Sayfa1!Y38","v":" "},{"$f":"Sayfa1!Z38","v":" "},{"$f":"Sayfa1!AA38","v":" "},{"$f":"Sayfa1!AB38","v":" "},{"$f":"Sayfa1!AC38","v":" "},null,{"$f":"eokul!$G35","v":0}]
[null,35,{"$f":"eokul!$A36","v":0},{"$f":"eokul!$B36","v":0},{"$f":"Sayfa1!H39","v":" "},{"$f":"Sayfa1!I39","v":" "},{"$f":"Sayfa1!J39","v":" "},{"$f":"Sayfa1!K39","v":" "},{"$f":"Sayfa1!L39","v":" "},{"$f":"Sayfa1!N39","v":" "},{"$f":"Sayfa1!O39","v":" "},{"$f":"Sayfa1!P39","v":" "},{"$f":"Sayfa1!Q39","v":" "},{"$f":"Sayfa1!R39","v":" "},{"$f":"Sayfa1!S39","v":" "},{"$f":"Sayfa1!T39","v":" "},{"$f":"Sayfa1!U39","v":" "},{"$f":"Sayfa1!V39","v":" "},{"$f":"Sayfa1!W39","v":" "},{"$f":"Sayfa1!Y39","v":" "},{"$f":"Sayfa1!Z39","v":" "},{"$f":"Sayfa1!AA39","v":" "},{"$f":"Sayfa1!AB39","v":" "},{"$f":"Sayfa1!AC39","v":" "},null,{"$f":"eokul!$G36","v":0}]
[null,36,{"$f":"eokul!$A37","v":0},{"$f":"eokul!$B37","v":0},{"$f":"Sayfa1!H40","v":" "},{"$f":"Sayfa1!I40","v":" "},{"$f":"Sayfa1!J40","v":" "},{"$f":"Sayfa1!K40","v":" "},{"$f":"Sayfa1!L40","v":" "},{"$f":"Sayfa1!N40","v":" "},{"$f":"Sayfa1!O40","v":" "},{"$f":"Sayfa1!P40","v":" "},{"$f":"Sayfa1!Q40","v":" "},{"$f":"Sayfa1!R40","v":" "},{"$f":"Sayfa1!S40","v":" "},{"$f":"Sayfa1!T40","v":" "},{"$f":"Sayfa1!U40","v":" "},{"$f":"Sayfa1!V40","v":" "},{"$f":"Sayfa1!W40","v":" "},{"$f":"Sayfa1!Y40","v":" "},{"$f":"Sayfa1!Z40","v":" "},{"$f":"Sayfa1!AA40","v":" "},{"$f":"Sayfa1!AB40","v":" "},{"$f":"Sayfa1!AC40","v":" "},null,{"$f":"eokul!$G37","v":0}]
[null,37,{"$f":"eokul!$A38","v":0},{"$f":"eokul!$B38","v":0},{"$f":"Sayfa1!H41","v":" "},{"$f":"Sayfa1!I41","v":" "},{"$f":"Sayfa1!J41","v":" "},{"$f":"Sayfa1!K41","v":" "},{"$f":"Sayfa1!L41","v":" "},{"$f":"Sayfa1!N41","v":" "},{"$f":"Sayfa1!O41","v":" "},{"$f":"Sayfa1!P41","v":" "},{"$f":"Sayfa1!Q41","v":" "},{"$f":"Sayfa1!R41","v":" "},{"$f":"Sayfa1!S41","v":" "},{"$f":"Sayfa1!T41","v":" "},{"$f":"Sayfa1!U41","v":" "},{"$f":"Sayfa1!V41","v":" "},{"$f":"Sayfa1!W41","v":" "},{"$f":"Sayfa1!Y41","v":" "},{"$f":"Sayfa1!Z41","v":" "},{"$f":"Sayfa1!AA41","v":" "},{"$f":"Sayfa1!AB41","v":" "},{"$f":"Sayfa1!AC41","v":" "},null,{"$f":"eokul!$G38","v":0}]
[null,38,{"$f":"eokul!$A39","v":0},{"$f":"eokul!$B39","v":0},{"$f":"Sayfa1!H42","v":" "},{"$f":"Sayfa1!I42","v":" "},{"$f":"Sayfa1!J42","v":" "},{"$f":"Sayfa1!K42","v":" "},{"$f":"Sayfa1!L42","v":" "},{"$f":"Sayfa1!N42","v":" "},{"$f":"Sayfa1!O42","v":" "},{"$f":"Sayfa1!P42","v":" "},{"$f":"Sayfa1!Q42","v":" "},{"$f":"Sayfa1!R42","v":" "},{"$f":"Sayfa1!S42","v":" "},{"$f":"Sayfa1!T42","v":" "},{"$f":"Sayfa1!U42","v":" "},{"$f":"Sayfa1!V42","v":" "},{"$f":"Sayfa1!W42","v":" "},{"$f":"Sayfa1!Y42","v":" "},{"$f":"Sayfa1!Z42","v":" "},{"$f":"Sayfa1!AA42","v":" "},{"$f":"Sayfa1!AB42","v":" "},{"$f":"Sayfa1!AC42","v":" "},null,{"$f":"eokul!$G39","v":0}]
[null,39,{"$f":"eokul!$A40","v":0},{"$f":"eokul!$B40","v":0},{"$f":"Sayfa1!H43","v":" "},{"$f":"Sayfa1!I43","v":" "},{"$f":"Sayfa1!J43","v":" "},{"$f":"Sayfa1!K43","v":" "},{"$f":"Sayfa1!L43","v":" "},{"$f":"Sayfa1!N43","v":" "},{"$f":"Sayfa1!O43","v":" "},{"$f":"Sayfa1!P43","v":" "},{"$f":"Sayfa1!Q43","v":" "},{"$f":"Sayfa1!R43","v":" "},{"$f":"Sayfa1!S43","v":" "},{"$f":"Sayfa1!T43","v":" "},{"$f":"Sayfa1!U43","v":" "},{"$f":"Sayfa1!V43","v":" "},{"$f":"Sayfa1!W43","v":" "},{"$f":"Sayfa1!Y43","v":" "},{"$f":"Sayfa1!Z43","v":" "},{"$f":"Sayfa1!AA43","v":" "},{"$f":"Sayfa1!AB43","v":" "},{"$f":"Sayfa1!AC43","v":" "},null,{"$f":"eokul!$G40","v":0}]
[null,40,{"$f":"eokul!$A41","v":0},{"$f":"eokul!$B41","v":0},{"$f":"Sayfa1!H44","v":" "},{"$f":"Sayfa1!I44","v":" "},{"$f":"Sayfa1!J44","v":" "},{"$f":"Sayfa1!K44","v":" "},{"$f":"Sayfa1!L44","v":" "},{"$f":"Sayfa1!N44","v":" "},{"$f":"Sayfa1!O44","v":" "},{"$f":"Sayfa1!P44","v":" "},{"$f":"Sayfa1!Q44","v":" "},{"$f":"Sayfa1!R44","v":" "},{"$f":"Sayfa1!S44","v":" "},{"$f":"Sayfa1!T44","v":" "},{"$f":"Sayfa1!U44","v":" "},{"$f":"Sayfa1!V44","v":" "},{"$f":"Sayfa1!W44","v":" "},{"$f":"Sayfa1!Y44","v":" "},{"$f":"Sayfa1!Z44","v":" "},{"$f":"Sayfa1!AA44","v":" "},{"$f":"Sayfa1!AB44","v":" "},{"$f":"Sayfa1!AC44","v":" "},null,{"$f":"eokul!$G41","v":0}]
[]
[]
[null,null,null,{"$f":"ANASAYFA!D7","v":"  KENDİNİZİ YAZINIZ"},null,null,null,null,null,null,null,null,null,null,null,null,null,{"$f":"ANASAYFA!D9","v":" KURUMUNUZUN MÜDÜRÜNÜ YAZINIZ"}]
[null,null,null,{"$f":"ANASAYFA!D8","v":" DERS ÖĞRETMENİ"},null,null,null,null,null,null,null,null,null,null,null,null,null,{"$f":"ANASAYFA!D10","v":"OKUL MÜDÜRÜ"}]

{"sheet":"dersiçiperformans","index":7,"n_rows":60,"n_cols":26,"rows_kept":60,"cut":false,"hidden":false,"merged":[[7,8,9,8],[6,4,6,8],[7,13,9,13],[7,23,9,23],[7,24,9,24],[6,14,6,18],[6,19,6,20],[6,21,6,23],[7,15,9,15],[7,16,9,16],[7,25,9,25],[7,17,9,17],[7,18,9,18],[7,19,9,19],[7,21,9,21],[7,22,9,22],[7,20,9,20],[4,1,4,25],[58,3,58,4],[59,3,59,4],[58,16,58,20],[59,16,59,20],[7,1,8,1],[7,4,9,4],[7,5,9,5],[7,6,9,6],[7,7,9,7],[7,14,9,14],[7,9,9,9],[7,10,9,10],[7,11,9,11],[7,12,9,12],[6,9,6,13]]}
[]
[]
[]
[]
[null,{"$f":"CONCATENATE(ANASAYFA!D5,\"  \",ANASAYFA!D11,\"  \",\"SINIFI\",  ANASAYFA!D6,\"  \",\"DERSİ DERS ETKİNLİKLERİNE KATILIM 1. NOTU DEĞERLENDİRME ÖLÇEĞİ\")","v":"………….ORTAOKULU  5/A  SINIFI TÜRKÇE ÖĞRETMENİ  DERSİ DERS ETKİNLİKLERİNE KATILIM 1. NOTU DEĞERLENDİRME ÖLÇEĞİ"}]
[]
[null,null,null,null,"I. Derse Hazırlık",null,null,null,null,"II. Etkinliklere Katılım",null,null,null,null,"III. İnceleme – Araştırma – Gözlem",null,null,null,null,"III.Sunum",null,"V. Bilim Uygulamaları"]
[null,"DEĞERLENDİRME ÖLÇEĞİ"," 2: Kabul Edilebilir","5:Çok iyi                               ","1.Hangi kaynaklara başvurup hazırlanacağı hakkında bilgi ister","2. Bilgi kaynaklarını kendisi bulur.","3. Bilgiyi nereden edineceğini bildiğini söyler.","4.Derse değişik yardımcı kaynaklarla gelir.","5.Derse hazırlıklı gelir.","1.Kendiliğinden söz alarak görüşünü söyler.","2.Kendisine görüşü sorulduğunda konuşur.","3.Belirttiği görüşler ve verdiği örnekler özgündür","4.Yeni ve özgün sorular sorar.","5.Dersi iyi dinlediği izlenimi veren sorular sorar","1.Bilgi toplamak için çeşitli kaynaklara başvurur","2.Kendisine verilen kaynaklarla yetinmeyip başka kaynaklar araştırır.","3.İnceleme ve araştırma ödevlerini özenerek yapar.","4.Gözlemleri sonucunda mantıksal çıkarımlarda bulunur","5.Araştırma ve incelemeleri sonucunda genellemeler yapar","1.Verilenlerden grafik ve çizelgeler oluşturur","2.Yönteme uygun deney yapar","1. Derslere zamanında girer","2. Dersin akışını bozmaz","3. Ödevlerini zamanında hazırlayarak  sunar.",null,"PERFORMANS GÖREV PUANI"]
[null,null,"1: Zayıf           ","     3:Orta         4:İyi "]
[null,"SIRA ","ÖĞ NO","AD SOYAD "]
[null,1,{"$f":"eokul!$A2","v":24},{"$f":"eokul!B2","v":"ABBASALİ İREK"},{"$f":"Sayfa2!H5","v":4},{"$f":"Sayfa2!I5","v":4},{"$f":"Sayfa2!J5","v":4},{"$f":"Sayfa2!K5","v":4},{"$f":"Sayfa2!L5","v":4},{"$f":"Sayfa2!N5","v":4},{"$f":"Sayfa2!O5","v":4},{"$f":"Sayfa2!P5","v":4},{"$f":"Sayfa2!Q5","v":4},{"$f":"Sayfa2!R5","v":4},{"$f":"Sayfa2!T5","v":4},{"$f":"Sayfa2!U5","v":4},{"$f":"Sayfa2!V5","v":4},{"$f":"Sayfa2!W5","v":4},{"$f":"Sayfa2!X5","v":4},{"$f":"Sayfa2!Z5","v":4},{"$f":"Sayfa2!AA5","v":4},{"$f":"Sayfa2!AC5","v":4},{"$f":"Sayfa2!AD5","v":4},{"$f":"Sayfa2!AE5","v":4},null,{"$f":"eokul!$I2","v":80}]
[null,2,{"$f":"eokul!$A3","v":25},{"$f":"eokul!B3","v":"ADEM ŞAYRAN"},{"$f":"Sayfa2!H6","v":2},{"$f":"Sayfa2!I6","v":2},{"$f":"Sayfa2!J6","v":2},{"$f":"Sayfa2!K6","v":"1"},{"$f":"Sayfa2!L6","v":2},{"$f":"Sayfa2!N6","v":"1"},{"$f":"Sayfa2!O6","v":"1"},{"$f":"Sayfa2!P6","v":"1"},{"$f":"Sayfa2!Q6","v":"1"},{"$f":"Sayfa2!R6","v":"1"},{"$f":"Sayfa2!T6","v":"1"},{"$f":"Sayfa2!U6","v":"1"},{"$f":"Sayfa2!V6","v":"1"},{"$f":"Sayfa2!W6","v":2},{"$f":"Sayfa2!X6","v":"1"},{"$f":"Sayfa2!Z6","v":"1"},{"$f":"Sayfa2!AA6","v":"1"},{"$f":"Sayfa2!AC6","v":"1"},{"$f":"Sayfa2!AD6","v":"1"},{"$f":"Sayfa2!AE6","v":"1"},null,{"$f":"eokul!$I3","v":25}]
[null,3,{"$f":"eokul!$A4","v":26},{"$f":"eokul!B4","v":"AYŞE ŞEYRAN"},{"$f":"Sayfa2!H7","v":5},{"$f":"Sayfa2!I7","v":5},{"$f":"Sayfa2!J7","v":5},{"$f":"Sayfa2!K7","v":5},{"$f":"Sayfa2!L7","v":5},{"$f":"Sayfa2!N7","v":"4"},{"$f":"Sayfa2!O7","v":5},{"$f":"Sayfa2!P7","v":5},{"$f":"Sayfa2!Q7","v":5},{"$f":"Sayfa2!R7","v":5},{"$f":"Sayfa2!T7","v":5},{"$f":"Sayfa2!U7","v":"4"},{"$f":"Sayfa2!V7","v":5},{"$f":"Sayfa2!W7","v":5},{"$f":"Sayfa2!X7","v":5},{"$f":"Sayfa2!Z7","v":"4"},{"$f":"Sayfa2!AA7","v":"4"},{"$f":"Sayfa2!AC7","v":5},{"$f":"Sayfa2!AD7","v":"4"},{"$f":"Sayfa2!AE7","v":5},null,{"$f":"eokul!$I4","v":95}]
[null,4,{"$f":"eokul!$A5","v":28},{"$f":"eokul!B5","v":"CANERCAN İREK"},{"$f":"Sayfa2!H8","v":2},{"$f":"Sayfa2!I8","v":2},{"$f":"Sayfa2!J8","v":2},{"$f":"Sayfa2!K8","v":2},{"$f":"Sayfa2!L8","v":2},{"$f":"Sayfa2!N8","v":2},{"$f":"Sayfa2!O8","v":2},{"$f":"Sayfa2!P8","v":2},{"$f":"Sayfa2!Q8","v":2},{"$f":"Sayfa2!R8","v":2},{"$f":"Sayfa2!T8","v":2},{"$f":"Sayfa2!U8","v":2},{"$f":"Sayfa2!V8","v":2},{"$f":"Sayfa2!W8","v":2},{"$f":"Sayfa2!X8","v":2},{"$f":"Sayfa2!Z8","v":2},{"$f":"Sayfa2!AA8","v":2},{"$f":"Sayfa2!AC8","v":2},{"$f":"Sayfa2!AD8","v":2},{"$f":"Sayfa2!AE8","v":2},null,{"$f":"eokul!$I5","v":40}]
[null,5,{"$f":"eokul!$A6","v":31},{"$f":"eokul!B6","v":"DİLARA BURAK"},{"$f":"Sayfa2!H9","v":3},{"$f":"Sayfa2!I9","v":3},{"$f":"Sayfa2!J9","v":3},{"$f":"Sayfa2!K9","v":3},{"$f":"Sayfa2!L9","v":3},{"$f":"Sayfa2!N9","v":3},{"$f":"Sayfa2!O9","v":3},{"$f":"Sayfa2!P9","v":3},{"$f":"Sayfa2!Q9","v":3},{"$f":"Sayfa2!R9","v":3},{"$f":"Sayfa2!T9","v":3},{"$f":"Sayfa2!U9","v":3},{"$f":"Sayfa2!V9","v":3},{"$f":"Sayfa2!W9","v":3},{"$f":"Sayfa2!X9","v":3},{"$f":"Sayfa2!Z9","v":3},{"$f":"Sayfa2!AA9","v":3},{"$f":"Sayfa2!AC9","v":3},{"$f":"Sayfa2!AD9","v":3},{"$f":"Sayfa2!AE9","v":3},null,{"$f":"eokul!$I6","v":60}]
[null,6,{"$f":"eokul!$A7","v":32},{"$f":"eokul!B7","v":"EDA ŞEYRAN"},{"$f":"Sayfa2!H10","v":5},{"$f":"Sayfa2!I10","v":5},{"$f":"Sayfa2!J10","v":5},{"$f":"Sayfa2!K10","v":5},{"$f":"Sayfa2!L10","v":5},{"$f":"Sayfa2!N10","v":"4"},{"$f":"Sayfa2!O10","v":5},{"$f":"Sayfa2!P10","v":5},{"$f":"Sayfa2!Q10","v":5},{"$f":"Sayfa2!R10","v":5},{"$f":"Sayfa2!T10","v":5},{"$f":"Sayfa2!U10","v":"4"},{"$f":"Sayfa2!V10","v":5},{"$f":"Sayfa2!W10","v":5},{"$f":"Sayfa2!X10","v":5},{"$f":"Sayfa2!Z10","v":"4"},{"$f":"Sayfa2!AA10","v":"4"},{"$f":"Sayfa2!AC10","v":5},{"$f":"Sayfa2!AD10","v":"4"},{"$f":"Sayfa2!AE10","v":5},null,{"$f":"eokul!$I7","v":95}]
[null,7,{"$f":"eokul!$A8","v":33},{"$f":"eokul!B8","v":"ENES BAYILMAZ"},{"$f":"Sayfa2!H11","v":5},{"$f":"Sayfa2!I11","v":5},{"$f":"Sayfa2!J11","v":5},{"$f":"Sayfa2!K11","v":5},{"$f":"Sayfa2!L11","v":5},{"$f":"Sayfa2!N11","v":"4"},{"$f":"Sayfa2!O11","v":5},{"$f":"Sayfa2!P11","v":5},{"$f":"Sayfa2!Q11","v":5},{"$f":"Sayfa2!R11","v":5},{"$f":"Sayfa2!T11","v":5},{"$f":"Sayfa2!U11","v":"4"},{"$f":"Sayfa2!V11","v":5},{"$f":"Sayfa2!W11","v":5},{"$f":"Sayfa2!X11","v":5},{"$f":"Sayfa2!Z11","v":"4"},{"$f":"Sayfa2!AA11","v":"4"},{"$f":"Sayfa2!AC11","v":5},{"$f":"Sayfa2!AD11","v":"4"},{"$f":"Sayfa2!AE11","v":5},null,{"$f":"eokul!$I8","v":95}]
[null,8,{"$f":"eokul!$A9","v":34},{"$f":"eokul!B9","v":"FURKAN GÜNEŞ"},{"$f":"Sayfa2!H12","v":3},{"$f":"Sayfa2!I12","v":3},{"$f":"Sayfa2!J12","v":3},{"$f":"Sayfa2!K12","v":3},{"$f":"Sayfa2!L12","v":3},{"$f":"Sayfa2!N12","v":"2"},{"$f":"Sayfa2!O12","v":3},{"$f":"Sayfa2!P12","v":3},{"$f":"Sayfa2!Q12","v":3},{"$f":"Sayfa2!R12","v":3},{"$f":"Sayfa2!T12","v":3},{"$f":"Sayfa2!U12","v":"2"},{"$f":"Sayfa2!V12","v":3},{"$f":"Sayfa2!W12","v":3},{"$f":"Sayfa2!X12","v":3},{"$f":"Sayfa2!Z12","v":"2"},{"$f":"Sayfa2!AA12","v":"2"},{"$f":"Sayfa2!AC12","v":3},{"$f":"Sayfa2!AD12","v":"2"},{"$f":"Sayfa2!AE12","v":3},null,{"$f":"eokul!$I9","v":55}]
[null,9,{"$f":"eokul!$A10","v":36},{"$f":"eokul!B10","v":"HASAN HÜSEYİN ŞEYRAN"},{"$f":"Sayfa2!H13","v":4},{"$f":"Sayfa2!I13","v":4},{"$f":"Sayfa2!J13","v":4},{"$f":"Sayfa2!K13","v":4},{"$f":"Sayfa2!L13","v":4},{"$f":"Sayfa2!N13","v":4},{"$f":"Sayfa2!O13","v":4},{"$f":"Sayfa2!P13","v":4},{"$f":"Sayfa2!Q13","v":4},{"$f":"Sayfa2!R13","v":4},{"$f":"Sayfa2!T13","v":4},{"$f":"Sayfa2!U13","v":4},{"$f":"Sayfa2!V13","v":4},{"$f":"Sayfa2!W13","v":4},{"$f":"Sayfa2!X13","v":4},{"$f":"Sayfa2!Z13","v":4},{"$f":"Sayfa2!AA13","v":4},{"$f":"Sayfa2!AC13","v":4},{"$f":"Sayfa2!AD13","v":4},{"$f":"Sayfa2!AE13","v":4},null,{"$f":"eokul!$I10","v":80}]
[null,10,{"$f":"eokul!$A11","v":46},{"$f":"eokul!B11","v":"HELİN BURAK"},{"$f":"Sayfa2!H14","v":3},{"$f":"Sayfa2!I14","v":3},{"$f":"Sayfa2!J14","v":3},{"$f":"Sayfa2!K14","v":"2"},{"$f":"Sayfa2!L14","v":3},{"$f":"Sayfa2!N14","v":"2"},{"$f":"Sayfa2!O14","v":3},{"$f":"Sayfa2!P14","v":3},{"$f":"Sayfa2!Q14","v":3},{"$f":"Sayfa2!R14","v":3},{"$f":"Sayfa2!T14","v":"2"},{"$f":"Sayfa2!U14","v":"2"},{"$f":"Sayfa2!V14","v":"2"},{"$f":"Sayfa2!W14","v":3},{"$f":"Sayfa2!X14","v":"2"},{"$f":"Sayfa2!Z14","v":"2"},{"$f":"Sayfa2!AA14","v":"2"},{"$f":"Sayfa2!AC14","v":3},{"$f":"Sayfa2!AD14","v":"2"},{"$f":"Sayfa2!AE14","v":"2"},null,{"$f":"eokul!$I11","v":50}]
[null,11,{"$f":"eokul!$A12","v":47},{"$f":"eokul!B12","v":"İKLİM YAZAR"},{"$f":"Sayfa2!H15","v":4},{"$f":"Sayfa2!I15","v":4},{"$f":"Sayfa2!J15","v":4},{"$f":"Sayfa2!K15","v":4},{"$f":"Sayfa2!L15","v":4},{"$f":"Sayfa2!N15","v":4},{"$f":"Sayfa2!O15","v":4},{"$f":"Sayfa2!P15","v":4},{"$f":"Sayfa2!Q15","v":4},{"$f":"Sayfa2!R15","v":4},{"$f":"Sayfa2!T15","v":4},{"$f":"Sayfa2!U15","v":4},{"$f":"Sayfa2!V15","v":4},{"$f":"Sayfa2!W15","v":4},{"$f":"Sayfa2!X15","v":4},{"$f":"Sayfa2!Z15","v":4},{"$f":"Sayfa2!AA15","v":4},{"$f":"Sayfa2!AC15","v":4},{"$f":"Sayfa2!AD15","v":4},{"$f":"Sayfa2!AE15","v":4},null,{"$f":"eokul!$I12","v":80}]
[null,12,{"$f":"eokul!$A13","v":63},{"$f":"eokul!B13","v":"İSMAİL HAKKI VURMAZ"},{"$f":"Sayfa2!H16","v":3},{"$f":"Sayfa2!I16","v":3},{"$f":"Sayfa2!J16","v":3},{"$f":"Sayfa2!K16","v":3},{"$f":"Sayfa2!L16","v":3},{"$f":"Sayfa2!N16","v":"2"},{"$f":"Sayfa2!O16","v":3},{"$f":"Sayfa2!P16","v":3},{"$f":"Sayfa2!Q16","v":3},{"$f":"Sayfa2!R16","v":3},{"$f":"Sayfa2!T16","v":3},{"$f":"Sayfa2!U16","v":"2"},{"$f":"Sayfa2!V16","v":3},{"$f":"Sayfa2!W16","v":3},{"$f":"Sayfa2!X16","v":3},{"$f":"Sayfa2!Z16","v":"2"},{"$f":"Sayfa2!AA16","v":"2"},{"$f":"Sayfa2!AC16","v":3},{"$f":"Sayfa2!AD16","v":"2"},{"$f":"Sayfa2!AE16","v":3},null,{"$f":"eokul!$I13","v":55}]
[null,13,{"$f":"eokul!$A14","v":64},{"$f":"eokul!B14","v":"MÜTALİP GÜL"},{"$f":"Sayfa2!H17","v":4},{"$f":"Sayfa2!I17","v":4},{"$f":"Sayfa2!J17","v":4},{"$f":"Sayfa2!K17","v":"3"},{"$f":"Sayfa2!L17","v":4},{"$f":"Sayfa2!N17","v":"3"},{"$f":"Sayfa2!O17","v":4},{"$f":"Sayfa2!P17","v":4},{"$f":"Sayfa2!Q17","v":4},{"$f":"Sayfa2!R17","v":4},{"$f":"Sayfa2!T17","v":"3"},{"$f":"Sayfa2!U17","v":"3"},{"$f":"Sayfa2!V17","v":"3"},{"$f":"Sayfa2!W17","v":4},{"$f":"Sayfa2!X17","v":"3"},{"$f":"Sayfa2!Z17","v":"3"},{"$f":"Sayfa2!AA17","v":"3"},{"$f":"Sayfa2!AC17","v":4},{"$f":"Sayfa2!AD17","v":"3"},{"$f":"Sayfa2!AE17","v":"3"},null,{"$f":"eokul!$I14","v":70}]
[null,14,{"$f":"eokul!$A15","v":69},{"$f":"eokul!B15","v":"NEHİR YAZAR"},{"$f":"Sayfa2!H18","v":5},{"$f":"Sayfa2!I18","v":5},{"$f":"Sayfa2!J18","v":5},{"$f":"Sayfa2!K18","v":"4"},{"$f":"Sayfa2!L18","v":5},{"$f":"Sayfa2!N18","v":"4"},{"$f":"Sayfa2!O18","v":5},{"$f":"Sayfa2!P18","v":5},{"$f":"Sayfa2!Q18","v":5},{"$f":"Sayfa2!R18","v":5},{"$f":"Sayfa2!T18","v":"4"},{"$f":"Sayfa2!U18","v":"4"},{"$f":"Sayfa2!V18","v":"4"},{"$f":"Sayfa2!W18","v":5},{"$f":"Sayfa2!X18","v":"4"},{"$f":"Sayfa2!Z18","v":"4"},{"$f":"Sayfa2!AA18","v":"4"},{"$f":"Sayfa2!AC18","v":5},{"$f":"Sayfa2!AD18","v":"4"},{"$f":"Sayfa2!AE18","v":"4"},null,{"$f":"eokul!$I15","v":90}]
[null,15,{"$f":"eokul!$A16","v":71},{"$f":"eokul!B16","v":"NEVRUZ BURAK"},{"$f":"Sayfa2!H19","v":4},{"$f":"Sayfa2!I19","v":4},{"$f":"Sayfa2!J19","v":4},{"$f":"Sayfa2!K19","v":4},{"$f":"Sayfa2!L19","v":4},{"$f":"Sayfa2!N19","v":"3"},{"$f":"Sayfa2!O19","v":4},{"$f":"Sayfa2!P19","v":4},{"$f":"Sayfa2!Q19","v":4},{"$f":"Sayfa2!R19","v":4},{"$f":"Sayfa2!T19","v":4},{"$f":"Sayfa2!U19","v":"3"},{"$f":"Sayfa2!V19","v":4},{"$f":"Sayfa2!W19","v":4},{"$f":"Sayfa2!X19","v":4},{"$f":"Sayfa2!Z19","v":"3"},{"$f":"Sayfa2!AA19","v":"3"},{"$f":"Sayfa2!AC19","v":4},{"$f":"Sayfa2!AD19","v":"3"},{"$f":"Sayfa2!AE19","v":4},null,{"$f":"eokul!$I16","v":75}]
[null,16,{"$f":"eokul!$A17","v":73},{"$f":"eokul!B17","v":"REZAN ÇAKMAKÇI"},{"$f":"Sayfa2!H20","v":3},{"$f":"Sayfa2!I20","v":3},{"$f":"Sayfa2!J20","v":3},{"$f":"Sayfa2!K20","v":3},{"$f":"Sayfa2!L20","v":3},{"$f":"Sayfa2!N20","v":"2"},{"$f":"Sayfa2!O20","v":3},{"$f":"Sayfa2!P20","v":3},{"$f":"Sayfa2!Q20","v":3},{"$f":"Sayfa2!R20","v":3},{"$f":"Sayfa2!T20","v":3},{"$f":"Sayfa2!U20","v":"2"},{"$f":"Sayfa2!V20","v":3},{"$f":"Sayfa2!W20","v":3},{"$f":"Sayfa2!X20","v":3},{"$f":"Sayfa2!Z20","v":"2"},{"$f":"Sayfa2!AA20","v":"2"},{"$f":"Sayfa2!AC20","v":3},{"$f":"Sayfa2!AD20","v":"2"},{"$f":"Sayfa2!AE20","v":3},null,55]
[null,17,{"$f":"eokul!$A18","v":76},{"$f":"eokul!B18","v":"RIFAT YİĞİT"},{"$f":"Sayfa2!H21","v":2},{"$f":"Sayfa2!I21","v":2},{"$f":"Sayfa2!J21","v":2},{"$f":"Sayfa2!K21","v":"1"},{"$f":"Sayfa2!L21","v":2},{"$f":"Sayfa2!N21","v":"1"},{"$f":"Sayfa2!O21","v":2},{"$f":"Sayfa2!P21","v":2},{"$f":"Sayfa2!Q21","v":2},{"$f":"Sayfa2!R21","v":2},{"$f":"Sayfa2!T21","v":"1"},{"$f":"Sayfa2!U21","v":"1"},{"$f":"Sayfa2!V21","v":"1"},{"$f":"Sayfa2!W21","v":2},{"$f":"Sayfa2!X21","v":"1"},{"$f":"Sayfa2!Z21","v":"1"},{"$f":"Sayfa2!AA21","v":"1"},{"$f":"Sayfa2!AC21","v":2},{"$f":"Sayfa2!AD21","v":"1"},{"$f":"Sayfa2!AE21","v":"1"},null,{"$f":"eokul!$I18","v":30}]
[null,18,{"$f":"eokul!$A19","v":87},{"$f":"eokul!B19","v":"RUMEYSA MENDİ"},{"$f":"Sayfa2!H22","v":5},{"$f":"Sayfa2!I22","v":5},{"$f":"Sayfa2!J22","v":5},{"$f":"Sayfa2!K22","v":"4"},{"$f":"Sayfa2!L22","v":5},{"$f":"Sayfa2!N22","v":"4"},{"$f":"Sayfa2!O22","v":5},{"$f":"Sayfa2!P22","v":5},{"$f":"Sayfa2!Q22","v":5},{"$f":"Sayfa2!R22","v":5},{"$f":"Sayfa2!T22","v":"4"},{"$f":"Sayfa2!U22","v":"4"},{"$f":"Sayfa2!V22","v":"4"},{"$f":"Sayfa2!W22","v":5},{"$f":"Sayfa2!X22","v":"4"},{"$f":"Sayfa2!Z22","v":"4"},{"$f":"Sayfa2!AA22","v":"4"},{"$f":"Sayfa2!AC22","v":5},{"$f":"Sayfa2!AD22","v":"4"},{"$f":"Sayfa2!AE22","v":"4"},null,{"$f":"eokul!$I19","v":90}]
[null,19,{"$f":"eokul!$A20","v":91},{"$f":"eokul!B20","v":"SÜLEYMAN İŞİK"},{"$f":"Sayfa2!H23","v":3},{"$f":"Sayfa2!I23","v":3},{"$f":"Sayfa2!J23","v":3},{"$f":"Sayfa2!K23","v":"2"},{"$f":"Sayfa2!L23","v":3},{"$f":"Sayfa2!N23","v":"2"},{"$f":"Sayfa2!O23","v":3},{"$f":"Sayfa2!P23","v":3},{"$f":"Sayfa2!Q23","v":3},{"$f":"Sayfa2!R23","v":3},{"$f":"Sayfa2!T23","v":"2"},{"$f":"Sayfa2!U23","v":"2"},{"$f":"Sayfa2!V23","v":"2"},{"$f":"Sayfa2!W23","v":3},{"$f":"Sayfa2!X23","v":"2"},{"$f":"Sayfa2!Z23","v":"2"},{"$f":"Sayfa2!AA23","v":"2"},{"$f":"Sayfa2!AC23","v":3},{"$f":"Sayfa2!AD23","v":"2"},{"$f":"Sayfa2!AE23","v":"2"},null,{"$f":"eokul!$I20","v":50}]
[null,20,{"$f":"eokul!$A21","v":93},{"$f":"eokul!B21","v":"ŞİYAR BAYILMAZ"},{"$f":"Sayfa2!H24","v":3},{"$f":"Sayfa2!I24","v":3},{"$f":"Sayfa2!J24","v":3},{"$f":"Sayfa2!K24","v":"2"},{"$f":"Sayfa2!L24","v":3},{"$f":"Sayfa2!N24","v":"2"},{"$f":"Sayfa2!O24","v":"2"},{"$f":"Sayfa2!P24","v":"2"},{"$f":"Sayfa2!Q24","v":"2"},{"$f":"Sayfa2!R24","v":"2"},{"$f":"Sayfa2!T24","v":"2"},{"$f":"Sayfa2!U24","v":"2"},{"$f":"Sayfa2!V24","v":"2"},{"$f":"Sayfa2!W24","v":3},{"$f":"Sayfa2!X24","v":"2"},{"$f":"Sayfa2!Z24","v":"2"},{"$f":"Sayfa2!AA24","v":"2"},{"$f":"Sayfa2!AC24","v":"2"},{"$f":"Sayfa2!AD24","v":"2"},{"$f":"Sayfa2!AE24","v":"2"},null,{"$f":"eokul!$I21","v":45}]
[null,21,{"$f":"eokul!$A22","v":94},{"$f":"eokul!B22","v":"TUĞBA ECE"},{"$f":"Sayfa2!H25","v":3},{"$f":"Sayfa2!I25","v":3},{"$f":"Sayfa2!J25","v":3},{"$f":"Sayfa2!K25","v":3},{"$f":"Sayfa2!L25","v":3},{"$f":"Sayfa2!N25","v":3},{"$f":"Sayfa2!O25","v":3},{"$f":"Sayfa2!P25","v":3},{"$f":"Sayfa2!Q25","v":3},{"$f":"Sayfa2!R25","v":3},{"$f":"Sayfa2!T25","v":3},{"$f":"Sayfa2!U25","v":3},{"$f":"Sayfa2!V25","v":3},{"$f":"Sayfa2!W25","v":3},{"$f":"Sayfa2!X25","v":3},{"$f":"Sayfa2!Z25","v":3},{"$f":"Sayfa2!AA25","v":3},{"$f":"Sayfa2!AC25","v":3},{"$f":"Sayfa2!AD25","v":3},{"$f":"Sayfa2!AE25","v":3},null,{"$f":"eokul!$I22","v":60}]
[null,22,{"$f":"eokul!$A23","v":95},{"$f":"eokul!B23","v":"UMUT ÇATMA"},{"$f":"Sayfa2!H26","v":4},{"$f":"Sayfa2!I26","v":4},{"$f":"Sayfa2!J26","v":4},{"$f":"Sayfa2!K26","v":"3"},{"$f":"Sayfa2!L26","v":4},{"$f":"Sayfa2!N26","v":"3"},{"$f":"Sayfa2!O26","v":4},{"$f":"Sayfa2!P26","v":4},{"$f":"Sayfa2!Q26","v":4},{"$f":"Sayfa2!R26","v":4},{"$f":"Sayfa2!T26","v":"3"},{"$f":"Sayfa2!U26","v":"3"},{"$f":"Sayfa2!V26","v":"3"},{"$f":"Sayfa2!W26","v":4},{"$f":"Sayfa2!X26","v":"3"},{"$f":"Sayfa2!Z26","v":"3"},{"$f":"Sayfa2!AA26","v":"3"},{"$f":"Sayfa2!AC26","v":4},{"$f":"Sayfa2!AD26","v":"3"},{"$f":"Sayfa2!AE26","v":"3"},null,{"$f":"eokul!$I23","v":70}]
[null,23,{"$f":"eokul!$A24","v":96},{"$f":"eokul!B24","v":"YILMAZ ŞEYRAN"},{"$f":"Sayfa2!H27","v":3},{"$f":"Sayfa2!I27","v":3},{"$f":"Sayfa2!J27","v":3},{"$f":"Sayfa2!K27","v":"2"},{"$f":"Sayfa2!L27","v":3},{"$f":"Sayfa2!N27","v":"2"},{"$f":"Sayfa2!O27","v":"2"},{"$f":"Sayfa2!P27","v":"2"},{"$f":"Sayfa2!Q27","v":"2"},{"$f":"Sayfa2!R27","v":"2"},{"$f":"Sayfa2!T27","v":"2"},{"$f":"Sayfa2!U27","v":"2"},{"$f":"Sayfa2!V27","v":"2"},{"$f":"Sayfa2!W27","v":3},{"$f":"Sayfa2!X27","v":"2"},{"$f":"Sayfa2!Z27","v":"2"},{"$f":"Sayfa2!AA27","v":"2"},{"$f":"Sayfa2!AC27","v":"2"},{"$f":"Sayfa2!AD27","v":"2"},{"$f":"Sayfa2!AE27","v":"2"},null,{"$f":"eokul!$I24","v":45}]
[null,24,{"$f":"eokul!$A25","v":100},{"$f":"eokul!B25","v":"HATİCE VURMAZ"},{"$f":"Sayfa2!H28","v":" "},{"$f":"Sayfa2!I28","v":" "},{"$f":"Sayfa2!J28","v":" "},{"$f":"Sayfa2!K28","v":" "},{"$f":"Sayfa2!L28","v":" "},{"$f":"Sayfa2!N28","v":" "},{"$f":"Sayfa2!O28","v":" "},{"$f":"Sayfa2!P28","v":" "},{"$f":"Sayfa2!Q28","v":" "},{"$f":"Sayfa2!R28","v":" "},{"$f":"Sayfa2!T28","v":" "},{"$f":"Sayfa2!U28","v":" "},{"$f":"Sayfa2!V28","v":" "},{"$f":"Sayfa2!W28","v":" "},{"$f":"Sayfa2!X28","v":" "},{"$f":"Sayfa2!Z28","v":" "},{"$f":"Sayfa2!AA28","v":" "},{"$f":"Sayfa2!AC28","v":" "},{"$f":"Sayfa2!AD28","v":" "},{"$f":"Sayfa2!AE28","v":" "},null,{"$f":"eokul!$I25","v":0}]
[null,25,{"$f":"eokul!$A26","v":0},{"$f":"eokul!B26","v":0},{"$f":"Sayfa2!H29","v":" "},{"$f":"Sayfa2!I29","v":" "},{"$f":"Sayfa2!J29","v":" "},{"$f":"Sayfa2!K29","v":" "},{"$f":"Sayfa2!L29","v":" "},{"$f":"Sayfa2!N29","v":" "},{"$f":"Sayfa2!O29","v":" "},{"$f":"Sayfa2!P29","v":" "},{"$f":"Sayfa2!Q29","v":" "},{"$f":"Sayfa2!R29","v":" "},{"$f":"Sayfa2!T29","v":" "},{"$f":"Sayfa2!U29","v":" "},{"$f":"Sayfa2!V29","v":" "},{"$f":"Sayfa2!W29","v":" "},{"$f":"Sayfa2!X29","v":" "},{"$f":"Sayfa2!Z29","v":" "},{"$f":"Sayfa2!AA29","v":" "},{"$f":"Sayfa2!AC29","v":" "},{"$f":"Sayfa2!AD29","v":" "},{"$f":"Sayfa2!AE29","v":" "},null,{"$f":"eokul!$I26","v":0}]
[null,26,{"$f":"eokul!$A27","v":0},{"$f":"eokul!B27","v":0},{"$f":"Sayfa2!H30","v":" "},{"$f":"Sayfa2!I30","v":" "},{"$f":"Sayfa2!J30","v":" "},{"$f":"Sayfa2!K30","v":" "},{"$f":"Sayfa2!L30","v":" "},{"$f":"Sayfa2!N30","v":" "},{"$f":"Sayfa2!O30","v":" "},{"$f":"Sayfa2!P30","v":" "},{"$f":"Sayfa2!Q30","v":" "},{"$f":"Sayfa2!R30","v":" "},{"$f":"Sayfa2!T30","v":" "},{"$f":"Sayfa2!U30","v":" "},{"$f":"Sayfa2!V30","v":" "},{"$f":"Sayfa2!W30","v":" "},{"$f":"Sayfa2!X30","v":" "},{"$f":"Sayfa2!Z30","v":" "},{"$f":"Sayfa2!AA30","v":" "},{"$f":"Sayfa2!AC30","v":" "},{"$f":"Sayfa2!AD30","v":" "},{"$f":"Sayfa2!AE30","v":" "},null,{"$f":"eokul!$I27","v":0}]
[null,27,{"$f":"eokul!$A28","v":0},{"$f":"eokul!B28","v":0},{"$f":"Sayfa2!H31","v":" "},{"$f":"Sayfa2!I31","v":" "},{"$f":"Sayfa2!J31","v":" "},{"$f":"Sayfa2!K31","v":" "},{"$f":"Sayfa2!L31","v":" "},{"$f":"Sayfa2!N31","v":" "},{"$f":"Sayfa2!O31","v":" "},{"$f":"Sayfa2!P31","v":" "},{"$f":"Sayfa2!Q31","v":" "},{"$f":"Sayfa2!R31","v":" "},{"$f":"Sayfa2!T31","v":" "},{"$f":"Sayfa2!U31","v":" "},{"$f":"Sayfa2!V31","v":" "},{"$f":"Sayfa2!W31","v":" "},{"$f":"Sayfa2!X31","v":" "},{"$f":"Sayfa2!Z31","v":" "},{"$f":"Sayfa2!AA31","v":" "},{"$f":"Sayfa2!AC31","v":" "},{"$f":"Sayfa2!AD31","v":" "},{"$f":"Sayfa2!AE31","v":" "},null,{"$f":"eokul!$I28","v":0}]
[null,28,{"$f":"eokul!$A29","v":0},{"$f":"eokul!B29","v":0},{"$f":"Sayfa2!H32","v":" "},{"$f":"Sayfa2!I32","v":" "},{"$f":"Sayfa2!J32","v":" "},{"$f":"Sayfa2!K32","v":" "},{"$f":"Sayfa2!L32","v":" "},{"$f":"Sayfa2!N32","v":" "},{"$f":"Sayfa2!O32","v":" "},{"$f":"Sayfa2!P32","v":" "},{"$f":"Sayfa2!Q32","v":" "},{"$f":"Sayfa2!R32","v":" "},{"$f":"Sayfa2!T32","v":" "},{"$f":"Sayfa2!U32","v":" "},{"$f":"Sayfa2!V32","v":" "},{"$f":"Sayfa2!W32","v":" "},{"$f":"Sayfa2!X32","v":" "},{"$f":"Sayfa2!Z32","v":" "},{"$f":"Sayfa2!AA32","v":" "},{"$f":"Sayfa2!AC32","v":" "},{"$f":"Sayfa2!AD32","v":" "},{"$f":"Sayfa2!AE32","v":" "},null,{"$f":"eokul!$I29","v":0}]
[null,29,{"$f":"eokul!$A30","v":0},{"$f":"eokul!B30","v":0},{"$f":"Sayfa2!H33","v":" "},{"$f":"Sayfa2!I33","v":" "},{"$f":"Sayfa2!J33","v":" "},{"$f":"Sayfa2!K33","v":" "},{"$f":"Sayfa2!L33","v":" "},{"$f":"Sayfa2!N33","v":" "},{"$f":"Sayfa2!O33","v":" "},{"$f":"Sayfa2!P33","v":" "},{"$f":"Sayfa2!Q33","v":" "},{"$f":"Sayfa2!R33","v":" "},{"$f":"Sayfa2!T33","v":" "},{"$f":"Sayfa2!U33","v":" "},{"$f":"Sayfa2!V33","v":" "},{"$f":"Sayfa2!W33","v":" "},{"$f":"Sayfa2!X33","v":" "},{"$f":"Sayfa2!Z33","v":" "},{"$f":"Sayfa2!AA33","v":" "},{"$f":"Sayfa2!AC33","v":" "},{"$f":"Sayfa2!AD33","v":" "},{"$f":"Sayfa2!AE33","v":" "},null,{"$f":"eokul!$I30","v":0}]
[null,30,{"$f":"eokul!$A31","v":0},{"$f":"eokul!B31","v":0},{"$f":"Sayfa2!H34","v":" "},{"$f":"Sayfa2!I34","v":" "},{"$f":"Sayfa2!J34","v":" "},{"$f":"Sayfa2!K34","v":" "},{"$f":"Sayfa2!L34","v":" "},{"$f":"Sayfa2!N34","v":" "},{"$f":"Sayfa2!O34","v":" "},{"$f":"Sayfa2!P34","v":" "},{"$f":"Sayfa2!Q34","v":" "},{"$f":"Sayfa2!R34","v":" "},{"$f":"Sayfa2!T34","v":" "},{"$f":"Sayfa2!U34","v":" "},{"$f":"Sayfa2!V34","v":" "},{"$f":"Sayfa2!W34","v":" "},{"$f":"Sayfa2!X34","v":" "},{"$f":"Sayfa2!Z34","v":" "},{"$f":"Sayfa2!AA34","v":" "},{"$f":"Sayfa2!AC34","v":" "},{"$f":"Sayfa2!AD34","v":" "},{"$f":"Sayfa2!AE34","v":" "},null,{"$f":"eokul!$I31","v":0}]
[null,31,{"$f":"eokul!$A32","v":0},{"$f":"eokul!B32","v":0},{"$f":"Sayfa2!H35","v":" "},{"$f":"Sayfa2!I35","v":" "},{"$f":"Sayfa2!J35","v":" "},{"$f":"Sayfa2!K35","v":" "},{"$f":"Sayfa2!L35","v":" "},{"$f":"Sayfa2!N35","v":" "},{"$f":"Sayfa2!O35","v":" "},{"$f":"Sayfa2!P35","v":" "},{"$f":"Sayfa2!Q35","v":" "},{"$f":"Sayfa2!R35","v":" "},{"$f":"Sayfa2!T35","v":" "},{"$f":"Sayfa2!U35","v":" "},{"$f":"Sayfa2!V35","v":" "},{"$f":"Sayfa2!W35","v":" "},{"$f":"Sayfa2!X35","v":" "},{"$f":"Sayfa2!Z35","v":" "},{"$f":"Sayfa2!AA35","v":" "},{"$f":"Sayfa2!AC35","v":" "},{"$f":"Sayfa2!AD35","v":" "},{"$f":"Sayfa2!AE35","v":" "},null,{"$f":"eokul!$I32","v":0}]
[null,32,{"$f":"eokul!$A33","v":0},{"$f":"eokul!B33","v":0},{"$f":"Sayfa2!H36","v":" "},{"$f":"Sayfa2!I36","v":" "},{"$f":"Sayfa2!J36","v":" "},{"$f":"Sayfa2!K36","v":" "},{"$f":"Sayfa2!L36","v":" "},{"$f":"Sayfa2!N36","v":" "},{"$f":"Sayfa2!O36","v":" "},{"$f":"Sayfa2!P36","v":" "},{"$f":"Sayfa2!Q36","v":" "},{"$f":"Sayfa2!R36","v":" "},{"$f":"Sayfa2!T36","v":" "},{"$f":"Sayfa2!U36","v":" "},{"$f":"Sayfa2!V36","v":" "},{"$f":"Sayfa2!W36","v":" "},{"$f":"Sayfa2!X36","v":" "},{"$f":"Sayfa2!Z36","v":" "},{"$f":"Sayfa2!AA36","v":" "},{"$f":"Sayfa2!AC36","v":" "},{"$f":"Sayfa2!AD36","v":" "},{"$f":"Sayfa2!AE36","v":" "},null,{"$f":"eokul!$I33","v":0}]
[null,33,{"$f":"eokul!$A34","v":0},{"$f":"eokul!B34","v":0},{"$f":"Sayfa2!H37","v":" "},{"$f":"Sayfa2!I37","v":" "},{"$f":"Sayfa2!J37","v":" "},{"$f":"Sayfa2!K37","v":" "},{"$f":"Sayfa2!L37","v":" "},{"$f":"Sayfa2!N37","v":" "},{"$f":"Sayfa2!O37","v":" "},{"$f":"Sayfa2!P37","v":" "},{"$f":"Sayfa2!Q37","v":" "},{"$f":"Sayfa2!R37","v":" "},{"$f":"Sayfa2!T37","v":" "},{"$f":"Sayfa2!U37","v":" "},{"$f":"Sayfa2!V37","v":" "},{"$f":"Sayfa2!W37","v":" "},{"$f":"Sayfa2!X37","v":" "},{"$f":"Sayfa2!Z37","v":" "},{"$f":"Sayfa2!AA37","v":" "},{"$f":"Sayfa2!AC37","v":" "},{"$f":"Sayfa2!AD37","v":" "},{"$f":"Sayfa2!AE37","v":" "},null,{"$f":"eokul!$I34","v":0}]
[null,34,{"$f":"eokul!$A35","v":0},{"$f":"eokul!B35","v":0},{"$f":"Sayfa2!H38","v":" "},{"$f":"Sayfa2!I38","v":" "},{"$f":"Sayfa2!J38","v":" "},{"$f":"Sayfa2!K38","v":" "},{"$f":"Sayfa2!L38","v":" "},{"$f":"Sayfa2!N38","v":" "},{"$f":"Sayfa2!O38","v":" "},{"$f":"Sayfa2!P38","v":" "},{"$f":"Sayfa2!Q38","v":" "},{"$f":"Sayfa2!R38","v":" "},{"$f":"Sayfa2!T38","v":" "},{"$f":"Sayfa2!U38","v":" "},{"$f":"Sayfa2!V38","v":" "},{"$f":"Sayfa2!W38","v":" "},{"$f":"Sayfa2!X38","v":" "},{"$f":"Sayfa2!Z38","v":" "},{"$f":"Sayfa2!AA38","v":" "},{"$f":"Sayfa2!AC38","v":" "},{"$f":"Sayfa2!AD38","v":" "},{"$f":"Sayfa2!AE38","v":" "},null,{"$f":"eokul!$I35","v":0}]
[null,35,{"$f":"eokul!$A36","v":0},{"$f":"eokul!B36","v":0},{"$f":"Sayfa2!H39","v":" "},{"$f":"Sayfa2!I39","v":" "},{"$f":"Sayfa2!J39","v":" "},{"$f":"Sayfa2!K39","v":" "},{"$f":"Sayfa2!L39","v":" "},{"$f":"Sayfa2!N39","v":" "},{"$f":"Sayfa2!O39","v":" "},{"$f":"Sayfa2!P39","v":" "},{"$f":"Sayfa2!Q39","v":" "},{"$f":"Sayfa2!R39","v":" "},{"$f":"Sayfa2!T39","v":" "},{"$f":"Sayfa2!U39","v":" "},{"$f":"Sayfa2!V39","v":" "},{"$f":"Sayfa2!W39","v":" "},{"$f":"Sayfa2!X39","v":" "},{"$f":"Sayfa2!Z39","v":" "},{"$f":"Sayfa2!AA39","v":" "},{"$f":"Sayfa2!AC39","v":" "},{"$f":"Sayfa2!AD39","v":" "},{"$f":"Sayfa2!AE39","v":" "},null,{"$f":"eokul!$I36","v":0}]
[null,36,{"$f":"eokul!$A37","v":0},{"$f":"eokul!B37","v":0},{"$f":"Sayfa2!H40","v":" "},{"$f":"Sayfa2!I40","v":" "},{"$f":"Sayfa2!J40","v":" "},{"$f":"Sayfa2!K40","v":" "},{"$f":"Sayfa2!L40","v":" "},{"$f":"Sayfa2!N40","v":" "},{"$f":"Sayfa2!O40","v":" "},{"$f":"Sayfa2!P40","v":" "},{"$f":"Sayfa2!Q40","v":" "},{"$f":"Sayfa2!R40","v":" "},{"$f":"Sayfa2!T40","v":" "},{"$f":"Sayfa2!U40","v":" "},{"$f":"Sayfa2!V40","v":" "},{"$f":"Sayfa2!W40","v":" "},{"$f":"Sayfa2!X40","v":" "},{"$f":"Sayfa2!Z40","v":" "},{"$f":"Sayfa2!AA40","v":" "},{"$f":"Sayfa2!AC40","v":" "},{"$f":"Sayfa2!AD40","v":" "},{"$f":"Sayfa2!AE40","v":" "},null,{"$f":"eokul!$I37","v":0}]
[null,37,{"$f":"eokul!$A38","v":0},{"$f":"eokul!B38","v":0},{"$f":"Sayfa2!H41","v":" "},{"$f":"Sayfa2!I41","v":" "},{"$f":"Sayfa2!J41","v":" "},{"$f":"Sayfa2!K41","v":" "},{"$f":"Sayfa2!L41","v":" "},{"$f":"Sayfa2!N41","v":" "},{"$f":"Sayfa2!O41","v":" "},{"$f":"Sayfa2!P41","v":" "},{"$f":"Sayfa2!Q41","v":" "},{"$f":"Sayfa2!R41","v":" "},{"$f":"Sayfa2!T41","v":" "},{"$f":"Sayfa2!U41","v":" "},{"$f":"Sayfa2!V41","v":" "},{"$f":"Sayfa2!W41","v":" "},{"$f":"Sayfa2!X41","v":" "},{"$f":"Sayfa2!Z41","v":" "},{"$f":"Sayfa2!AA41","v":" "},{"$f":"Sayfa2!AC41","v":" "},{"$f":"Sayfa2!AD41","v":" "},{"$f":"Sayfa2!AE41","v":" "},null,{"$f":"eokul!$I38","v":0}]
[null,38,{"$f":"eokul!$A39","v":0},{"$f":"eokul!B39","v":0},{"$f":"Sayfa2!H42","v":" "},{"$f":"Sayfa2!I42","v":" "},{"$f":"Sayfa2!J42","v":" "},{"$f":"Sayfa2!K42","v":" "},{"$f":"Sayfa2!L42","v":" "},{"$f":"Sayfa2!N42","v":" "},{"$f":"Sayfa2!O42","v":" "},{"$f":"Sayfa2!P42","v":" "},{"$f":"Sayfa2!Q42","v":" "},{"$f":"Sayfa2!R42","v":" "},{"$f":"Sayfa2!T42","v":" "},{"$f":"Sayfa2!U42","v":" "},{"$f":"Sayfa2!V42","v":" "},{"$f":"Sayfa2!W42","v":" "},{"$f":"Sayfa2!X42","v":" "},{"$f":"Sayfa2!Z42","v":" "},{"$f":"Sayfa2!AA42","v":" "},{"$f":"Sayfa2!AC42","v":" "},{"$f":"Sayfa2!AD42","v":" "},{"$f":"Sayfa2!AE42","v":" "},null,{"$f":"eokul!$I39","v":0}]
[null,39,{"$f":"eokul!$A40","v":0},{"$f":"eokul!B40","v":0},{"$f":"Sayfa2!H43","v":" "},{"$f":"Sayfa2!I43","v":" "},{"$f":"Sayfa2!J43","v":" "},{"$f":"Sayfa2!K43","v":" "},{"$f":"Sayfa2!L43","v":" "},{"$f":"Sayfa2!N43","v":" "},{"$f":"Sayfa2!O43","v":" "},{"$f":"Sayfa2!P43","v":" "},{"$f":"Sayfa2!Q43","v":" "},{"$f":"Sayfa2!R43","v":" "},{"$f":"Sayfa2!T43","v":" "},{"$f":"Sayfa2!U43","v":" "},{"$f":"Sayfa2!V43","v":" "},{"$f":"Sayfa2!W43","v":" "},{"$f":"Sayfa2!X43","v":" "},{"$f":"Sayfa2!Z43","v":" "},{"$f":"Sayfa2!AA43","v":" "},{"$f":"Sayfa2!AC43","v":" "},{"$f":"Sayfa2!AD43","v":" "},{"$f":"Sayfa2!AE43","v":" "},null,{"$f":"eokul!$I40","v":0}]
[null,40,{"$f":"eokul!$A41","v":0},{"$f":"eokul!B41","v":0},{"$f":"Sayfa2!H44","v":" "},{"$f":"Sayfa2!I44","v":" "},{"$f":"Sayfa2!J44","v":" "},{"$f":"Sayfa2!K44","v":" "},{"$f":"Sayfa2!L44","v":" "},{"$f":"Sayfa2!N44","v":" "},{"$f":"Sayfa2!O44","v":" "},{"$f":"Sayfa2!P44","v":" "},{"$f":"Sayfa2!Q44","v":" "},{"$f":"Sayfa2!R44","v":" "},{"$f":"Sayfa2!T44","v":" "},{"$f":"Sayfa2!U44","v":" "},{"$f":"Sayfa2!V44","v":" "},{"$f":"Sayfa2!W44","v":" "},{"$f":"Sayfa2!X44","v":" "},{"$f":"Sayfa2!Z44","v":" "},{"$f":"Sayfa2!AA44","v":" "},{"$f":"Sayfa2!AC44","v":" "},{"$f":"Sayfa2!AD44","v":" "},{"$f":"Sayfa2!AE44","v":" "},null,{"$f":"eokul!$I41","v":0}]
[]
[]
[]
[]
[]
[]
[]
[]
[null,null,null,{"$f":"ANASAYFA!D7","v":"  KENDİNİZİ YAZINIZ"},null,null,null,null,null,null,null,null,null,null,null,null,{"$f":"ANASAYFA!D9","v":" KURUMUNUZUN MÜDÜRÜNÜ YAZINIZ"}]
[null,null,null,{"$f":"ANASAYFA!D8","v":" DERS ÖĞRETMENİ"},null,null,null,null,null,null,null,null,null,null,null,null,{"$f":"ANASAYFA!D10","v":"OKUL MÜDÜRÜ"}]

{"sheet":"dersiçiperformans (2)","index":8,"n_rows":60,"n_cols":26,"rows_kept":60,"cut":false,"hidden":false,"merged":[[4,1,4,25],[6,4,6,8],[6,9,6,13],[6,14,6,18],[6,19,6,20],[6,21,6,23],[7,1,8,1],[7,4,9,4],[7,5,9,5],[7,6,9,6],[7,7,9,7],[7,24,9,24],[7,25,9,25],[58,3,58,4],[58,16,58,20],[7,15,9,15],[7,16,9,16],[7,17,9,17],[7,18,9,18],[7,19,9,19],[7,20,9,20],[7,9,9,9],[7,10,9,10],[7,11,9,11],[7,12,9,12],[7,13,9,13],[7,14,9,14],[59,3,59,4],[59,16,59,20],[7,21,9,21],[7,22,9,22],[7,23,9,23],[7,8,9,8]]}
[]
[]
[]
[]
[null,{"$f":"CONCATENATE(ANASAYFA!D5,\"  \",ANASAYFA!D11,\"  \",\"SINIFI\",\"  \",ANASAYFA!D6,\"  \",\"DERSİ DERS ETKİNLİKLERİNE KATILIM 2. NOTU DEĞERLENDİRME ÖLÇEĞİ\")","v":"………….ORTAOKULU  5/A  SINIFI   TÜRKÇE ÖĞRETMENİ  DERSİ DERS ETKİNLİKLERİNE KATILIM 2. NOTU DEĞERLENDİRME ÖLÇEĞİ"}]
[]
[null,null,null,null,"I. Derse Hazırlık",null,null,null,null,"II. Etkinliklere Katılım",null,null,null,null,"III. İnceleme – Araştırma – Gözlem",null,null,null,null,"III.Sunum",null,"V. Bilim Uygulamaları"]
[null,"DEĞERLENDİRME ÖLÇEĞİ"," 2: Kabul Edilebilir","5:Çok iyi                               ","1.Hangi kaynaklara başvurup hazırlanacağı hakkında bilgi ister","2. Bilgi kaynaklarını kendisi bulur.","3. Bilgiyi nereden edineceğini bildiğini söyler.","4.Derse değişik yardımcı kaynaklarla gelir.","5.Derse hazırlıklı gelir.","1.Kendiliğinden söz alarak görüşünü söyler.","2.Kendisine görüşü sorulduğunda konuşur.","3.Belirttiği görüşler ve verdiği örnekler özgündür","4.Yeni ve özgün sorular sorar.","5.Dersi iyi dinlediği izlenimi veren sorular sorar","1.Bilgi toplamak için çeşitli kaynaklara başvurur","2.Kendisine verilen kaynaklarla yetinmeyip başka kaynaklar araştırır.","3.İnceleme ve araştırma ödevlerini özenerek yapar.","4.Gözlemleri sonucunda mantıksal çıkarımlarda bulunur","5.Araştırma ve incelemeleri sonucunda genellemeler yapar","1.Verilenlerden grafik ve çizelgeler oluşturur","2.Yönteme uygun deney yapar","1. Derslere zamanında girer","2. Dersin akışını bozmaz","3. Ödevlerini zamanında hazırlayarak  sunar.",null,"PERFORMANS GÖREV PUANI"]
[null,null,"1: Zayıf           ","     3:Orta         4:İyi "]
[null,"SIRA ","ÖĞ NO","AD SOYAD "]
[null,1,{"$f":"eokul!$A2","v":24},{"$f":"eokul!B2","v":"ABBASALİ İREK"},{"$f":"Sayfa5!H5","v":" "},{"$f":"Sayfa5!I5","v":" "},{"$f":"Sayfa5!J5","v":" "},{"$f":"Sayfa5!K5","v":" "},{"$f":"Sayfa5!L5","v":" "},{"$f":"Sayfa5!N5","v":" "},{"$f":"Sayfa5!O5","v":" "},{"$f":"Sayfa5!P5","v":" "},{"$f":"Sayfa5!Q5","v":" "},{"$f":"Sayfa5!R5","v":" "},{"$f":"Sayfa5!T5","v":" "},{"$f":"Sayfa5!U5","v":" "},{"$f":"Sayfa5!V5","v":" "},{"$f":"Sayfa5!W5","v":" "},{"$f":"Sayfa5!X5","v":" "},{"$f":"Sayfa5!Z5","v":" "},{"$f":"Sayfa5!AA5","v":" "},{"$f":"Sayfa5!AC5","v":" "},{"$f":"Sayfa5!AD5","v":" "},{"$f":"Sayfa5!AE5","v":" "},null,{"$f":"eokul!$J2","v":0}]
[null,2,{"$f":"eokul!$A3","v":25},{"$f":"eokul!B3","v":"ADEM ŞAYRAN"},{"$f":"Sayfa5!H6","v":" "},{"$f":"Sayfa5!I6","v":" "},{"$f":"Sayfa5!J6","v":" "},{"$f":"Sayfa5!K6","v":" "},{"$f":"Sayfa5!L6","v":" "},{"$f":"Sayfa5!N6","v":" "},{"$f":"Sayfa5!O6","v":" "},{"$f":"Sayfa5!P6","v":" "},{"$f":"Sayfa5!Q6","v":" "},{"$f":"Sayfa5!R6","v":" "},{"$f":"Sayfa5!T6","v":" "},{"$f":"Sayfa5!U6","v":" "},{"$f":"Sayfa5!V6","v":" "},{"$f":"Sayfa5!W6","v":" "},{"$f":"Sayfa5!X6","v":" "},{"$f":"Sayfa5!Z6","v":" "},{"$f":"Sayfa5!AA6","v":" "},{"$f":"Sayfa5!AC6","v":" "},{"$f":"Sayfa5!AD6","v":" "},{"$f":"Sayfa5!AE6","v":" "},null,{"$f":"eokul!$J3","v":0}]
[null,3,{"$f":"eokul!$A4","v":26},{"$f":"eokul!B4","v":"AYŞE ŞEYRAN"},{"$f":"Sayfa5!H7","v":" "},{"$f":"Sayfa5!I7","v":" "},{"$f":"Sayfa5!J7","v":" "},{"$f":"Sayfa5!K7","v":" "},{"$f":"Sayfa5!L7","v":" "},{"$f":"Sayfa5!N7","v":" "},{"$f":"Sayfa5!O7","v":" "},{"$f":"Sayfa5!P7","v":" "},{"$f":"Sayfa5!Q7","v":" "},{"$f":"Sayfa5!R7","v":" "},{"$f":"Sayfa5!T7","v":" "},{"$f":"Sayfa5!U7","v":" "},{"$f":"Sayfa5!V7","v":" "},{"$f":"Sayfa5!W7","v":" "},{"$f":"Sayfa5!X7","v":" "},{"$f":"Sayfa5!Z7","v":" "},{"$f":"Sayfa5!AA7","v":" "},{"$f":"Sayfa5!AC7","v":" "},{"$f":"Sayfa5!AD7","v":" "},{"$f":"Sayfa5!AE7","v":" "},null,{"$f":"eokul!$J4","v":0}]
[null,4,{"$f":"eokul!$A5","v":28},{"$f":"eokul!B5","v":"CANERCAN İREK"},{"$f":"Sayfa5!H8","v":" "},{"$f":"Sayfa5!I8","v":" "},{"$f":"Sayfa5!J8","v":" "},{"$f":"Sayfa5!K8","v":" "},{"$f":"Sayfa5!L8","v":" "},{"$f":"Sayfa5!N8","v":" "},{"$f":"Sayfa5!O8","v":" "},{"$f":"Sayfa5!P8","v":" "},{"$f":"Sayfa5!Q8","v":" "},{"$f":"Sayfa5!R8","v":" "},{"$f":"Sayfa5!T8","v":" "},{"$f":"Sayfa5!U8","v":" "},{"$f":"Sayfa5!V8","v":" "},{"$f":"Sayfa5!W8","v":" "},{"$f":"Sayfa5!X8","v":" "},{"$f":"Sayfa5!Z8","v":" "},{"$f":"Sayfa5!AA8","v":" "},{"$f":"Sayfa5!AC8","v":" "},{"$f":"Sayfa5!AD8","v":" "},{"$f":"Sayfa5!AE8","v":" "},null,{"$f":"eokul!$J5","v":0}]
[null,5,{"$f":"eokul!$A6","v":31},{"$f":"eokul!B6","v":"DİLARA BURAK"},{"$f":"Sayfa5!H9","v":" "},{"$f":"Sayfa5!I9","v":" "},{"$f":"Sayfa5!J9","v":" "},{"$f":"Sayfa5!K9","v":" "},{"$f":"Sayfa5!L9","v":" "},{"$f":"Sayfa5!N9","v":" "},{"$f":"Sayfa5!O9","v":" "},{"$f":"Sayfa5!P9","v":" "},{"$f":"Sayfa5!Q9","v":" "},{"$f":"Sayfa5!R9","v":" "},{"$f":"Sayfa5!T9","v":" "},{"$f":"Sayfa5!U9","v":" "},{"$f":"Sayfa5!V9","v":" "},{"$f":"Sayfa5!W9","v":" "},{"$f":"Sayfa5!X9","v":" "},{"$f":"Sayfa5!Z9","v":" "},{"$f":"Sayfa5!AA9","v":" "},{"$f":"Sayfa5!AC9","v":" "},{"$f":"Sayfa5!AD9","v":" "},{"$f":"Sayfa5!AE9","v":" "},null,{"$f":"eokul!$J6","v":0}]
[null,6,{"$f":"eokul!$A7","v":32},{"$f":"eokul!B7","v":"EDA ŞEYRAN"},{"$f":"Sayfa5!H10","v":" "},{"$f":"Sayfa5!I10","v":" "},{"$f":"Sayfa5!J10","v":" "},{"$f":"Sayfa5!K10","v":" "},{"$f":"Sayfa5!L10","v":" "},{"$f":"Sayfa5!N10","v":" "},{"$f":"Sayfa5!O10","v":" "},{"$f":"Sayfa5!P10","v":" "},{"$f":"Sayfa5!Q10","v":" "},{"$f":"Sayfa5!R10","v":" "},{"$f":"Sayfa5!T10","v":" "},{"$f":"Sayfa5!U10","v":" "},{"$f":"Sayfa5!V10","v":" "},{"$f":"Sayfa5!W10","v":" "},{"$f":"Sayfa5!X10","v":" "},{"$f":"Sayfa5!Z10","v":" "},{"$f":"Sayfa5!AA10","v":" "},{"$f":"Sayfa5!AC10","v":" "},{"$f":"Sayfa5!AD10","v":" "},{"$f":"Sayfa5!AE10","v":" "},null,{"$f":"eokul!$J7","v":0}]
[null,7,{"$f":"eokul!$A8","v":33},{"$f":"eokul!B8","v":"ENES BAYILMAZ"},{"$f":"Sayfa5!H11","v":" "},{"$f":"Sayfa5!I11","v":" "},{"$f":"Sayfa5!J11","v":" "},{"$f":"Sayfa5!K11","v":" "},{"$f":"Sayfa5!L11","v":" "},{"$f":"Sayfa5!N11","v":" "},{"$f":"Sayfa5!O11","v":" "},{"$f":"Sayfa5!P11","v":" "},{"$f":"Sayfa5!Q11","v":" "},{"$f":"Sayfa5!R11","v":" "},{"$f":"Sayfa5!T11","v":" "},{"$f":"Sayfa5!U11","v":" "},{"$f":"Sayfa5!V11","v":" "},{"$f":"Sayfa5!W11","v":" "},{"$f":"Sayfa5!X11","v":" "},{"$f":"Sayfa5!Z11","v":" "},{"$f":"Sayfa5!AA11","v":" "},{"$f":"Sayfa5!AC11","v":" "},{"$f":"Sayfa5!AD11","v":" "},{"$f":"Sayfa5!AE11","v":" "},null,{"$f":"eokul!$J8","v":0}]
[null,8,{"$f":"eokul!$A9","v":34},{"$f":"eokul!B9","v":"FURKAN GÜNEŞ"},{"$f":"Sayfa5!H12","v":" "},{"$f":"Sayfa5!I12","v":" "},{"$f":"Sayfa5!J12","v":" "},{"$f":"Sayfa5!K12","v":" "},{"$f":"Sayfa5!L12","v":" "},{"$f":"Sayfa5!N12","v":" "},{"$f":"Sayfa5!O12","v":" "},{"$f":"Sayfa5!P12","v":" "},{"$f":"Sayfa5!Q12","v":" "},{"$f":"Sayfa5!R12","v":" "},{"$f":"Sayfa5!T12","v":" "},{"$f":"Sayfa5!U12","v":" "},{"$f":"Sayfa5!V12","v":" "},{"$f":"Sayfa5!W12","v":" "},{"$f":"Sayfa5!X12","v":" "},{"$f":"Sayfa5!Z12","v":" "},{"$f":"Sayfa5!AA12","v":" "},{"$f":"Sayfa5!AC12","v":" "},{"$f":"Sayfa5!AD12","v":" "},{"$f":"Sayfa5!AE12","v":" "},null,{"$f":"eokul!$J9","v":0}]
[null,9,{"$f":"eokul!$A10","v":36},{"$f":"eokul!B10","v":"HASAN HÜSEYİN ŞEYRAN"},{"$f":"Sayfa5!H13","v":" "},{"$f":"Sayfa5!I13","v":" "},{"$f":"Sayfa5!J13","v":" "},{"$f":"Sayfa5!K13","v":" "},{"$f":"Sayfa5!L13","v":" "},{"$f":"Sayfa5!N13","v":" "},{"$f":"Sayfa5!O13","v":" "},{"$f":"Sayfa5!P13","v":" "},{"$f":"Sayfa5!Q13","v":" "},{"$f":"Sayfa5!R13","v":" "},{"$f":"Sayfa5!T13","v":" "},{"$f":"Sayfa5!U13","v":" "},{"$f":"Sayfa5!V13","v":" "},{"$f":"Sayfa5!W13","v":" "},{"$f":"Sayfa5!X13","v":" "},{"$f":"Sayfa5!Z13","v":" "},{"$f":"Sayfa5!AA13","v":" "},{"$f":"Sayfa5!AC13","v":" "},{"$f":"Sayfa5!AD13","v":" "},{"$f":"Sayfa5!AE13","v":" "},null,{"$f":"eokul!$J10","v":0}]
[null,10,{"$f":"eokul!$A11","v":46},{"$f":"eokul!B11","v":"HELİN BURAK"},{"$f":"Sayfa5!H14","v":" "},{"$f":"Sayfa5!I14","v":" "},{"$f":"Sayfa5!J14","v":" "},{"$f":"Sayfa5!K14","v":" "},{"$f":"Sayfa5!L14","v":" "},{"$f":"Sayfa5!N14","v":" "},{"$f":"Sayfa5!O14","v":" "},{"$f":"Sayfa5!P14","v":" "},{"$f":"Sayfa5!Q14","v":" "},{"$f":"Sayfa5!R14","v":" "},{"$f":"Sayfa5!T14","v":" "},{"$f":"Sayfa5!U14","v":" "},{"$f":"Sayfa5!V14","v":" "},{"$f":"Sayfa5!W14","v":" "},{"$f":"Sayfa5!X14","v":" "},{"$f":"Sayfa5!Z14","v":" "},{"$f":"Sayfa5!AA14","v":" "},{"$f":"Sayfa5!AC14","v":" "},{"$f":"Sayfa5!AD14","v":" "},{"$f":"Sayfa5!AE14","v":" "},null,{"$f":"eokul!$J11","v":0}]
[null,11,{"$f":"eokul!$A12","v":47},{"$f":"eokul!B12","v":"İKLİM YAZAR"},{"$f":"Sayfa5!H15","v":" "},{"$f":"Sayfa5!I15","v":" "},{"$f":"Sayfa5!J15","v":" "},{"$f":"Sayfa5!K15","v":" "},{"$f":"Sayfa5!L15","v":" "},{"$f":"Sayfa5!N15","v":" "},{"$f":"Sayfa5!O15","v":" "},{"$f":"Sayfa5!P15","v":" "},{"$f":"Sayfa5!Q15","v":" "},{"$f":"Sayfa5!R15","v":" "},{"$f":"Sayfa5!T15","v":" "},{"$f":"Sayfa5!U15","v":" "},{"$f":"Sayfa5!V15","v":" "},{"$f":"Sayfa5!W15","v":" "},{"$f":"Sayfa5!X15","v":" "},{"$f":"Sayfa5!Z15","v":" "},{"$f":"Sayfa5!AA15","v":" "},{"$f":"Sayfa5!AC15","v":" "},{"$f":"Sayfa5!AD15","v":" "},{"$f":"Sayfa5!AE15","v":" "},null,{"$f":"eokul!$J12","v":0}]
[null,12,{"$f":"eokul!$A13","v":63},{"$f":"eokul!B13","v":"İSMAİL HAKKI VURMAZ"},{"$f":"Sayfa5!H16","v":" "},{"$f":"Sayfa5!I16","v":" "},{"$f":"Sayfa5!J16","v":" "},{"$f":"Sayfa5!K16","v":" "},{"$f":"Sayfa5!L16","v":" "},{"$f":"Sayfa5!N16","v":" "},{"$f":"Sayfa5!O16","v":" "},{"$f":"Sayfa5!P16","v":" "},{"$f":"Sayfa5!Q16","v":" "},{"$f":"Sayfa5!R16","v":" "},{"$f":"Sayfa5!T16","v":" "},{"$f":"Sayfa5!U16","v":" "},{"$f":"Sayfa5!V16","v":" "},{"$f":"Sayfa5!W16","v":" "},{"$f":"Sayfa5!X16","v":" "},{"$f":"Sayfa5!Z16","v":" "},{"$f":"Sayfa5!AA16","v":" "},{"$f":"Sayfa5!AC16","v":" "},{"$f":"Sayfa5!AD16","v":" "},{"$f":"Sayfa5!AE16","v":" "},null,{"$f":"eokul!$J13","v":0}]
[null,13,{"$f":"eokul!$A14","v":64},{"$f":"eokul!B14","v":"MÜTALİP GÜL"},{"$f":"Sayfa5!H17","v":" "},{"$f":"Sayfa5!I17","v":" "},{"$f":"Sayfa5!J17","v":" "},{"$f":"Sayfa5!K17","v":" "},{"$f":"Sayfa5!L17","v":" "},{"$f":"Sayfa5!N17","v":" "},{"$f":"Sayfa5!O17","v":" "},{"$f":"Sayfa5!P17","v":" "},{"$f":"Sayfa5!Q17","v":" "},{"$f":"Sayfa5!R17","v":" "},{"$f":"Sayfa5!T17","v":" "},{"$f":"Sayfa5!U17","v":" "},{"$f":"Sayfa5!V17","v":" "},{"$f":"Sayfa5!W17","v":" "},{"$f":"Sayfa5!X17","v":" "},{"$f":"Sayfa5!Z17","v":" "},{"$f":"Sayfa5!AA17","v":" "},{"$f":"Sayfa5!AC17","v":" "},{"$f":"Sayfa5!AD17","v":" "},{"$f":"Sayfa5!AE17","v":" "},null,{"$f":"eokul!$J14","v":0}]
[null,14,{"$f":"eokul!$A15","v":69},{"$f":"eokul!B15","v":"NEHİR YAZAR"},{"$f":"Sayfa5!H18","v":" "},{"$f":"Sayfa5!I18","v":" "},{"$f":"Sayfa5!J18","v":" "},{"$f":"Sayfa5!K18","v":" "},{"$f":"Sayfa5!L18","v":" "},{"$f":"Sayfa5!N18","v":" "},{"$f":"Sayfa5!O18","v":" "},{"$f":"Sayfa5!P18","v":" "},{"$f":"Sayfa5!Q18","v":" "},{"$f":"Sayfa5!R18","v":" "},{"$f":"Sayfa5!T18","v":" "},{"$f":"Sayfa5!U18","v":" "},{"$f":"Sayfa5!V18","v":" "},{"$f":"Sayfa5!W18","v":" "},{"$f":"Sayfa5!X18","v":" "},{"$f":"Sayfa5!Z18","v":" "},{"$f":"Sayfa5!AA18","v":" "},{"$f":"Sayfa5!AC18","v":" "},{"$f":"Sayfa5!AD18","v":" "},{"$f":"Sayfa5!AE18","v":" "},null,{"$f":"eokul!$J15","v":0}]
[null,15,{"$f":"eokul!$A16","v":71},{"$f":"eokul!B16","v":"NEVRUZ BURAK"},{"$f":"Sayfa5!H19","v":" "},{"$f":"Sayfa5!I19","v":" "},{"$f":"Sayfa5!J19","v":" "},{"$f":"Sayfa5!K19","v":" "},{"$f":"Sayfa5!L19","v":" "},{"$f":"Sayfa5!N19","v":" "},{"$f":"Sayfa5!O19","v":" "},{"$f":"Sayfa5!P19","v":" "},{"$f":"Sayfa5!Q19","v":" "},{"$f":"Sayfa5!R19","v":" "},{"$f":"Sayfa5!T19","v":" "},{"$f":"Sayfa5!U19","v":" "},{"$f":"Sayfa5!V19","v":" "},{"$f":"Sayfa5!W19","v":" "},{"$f":"Sayfa5!X19","v":" "},{"$f":"Sayfa5!Z19","v":" "},{"$f":"Sayfa5!AA19","v":" "},{"$f":"Sayfa5!AC19","v":" "},{"$f":"Sayfa5!AD19","v":" "},{"$f":"Sayfa5!AE19","v":" "},null,{"$f":"eokul!$J16","v":0}]
[null,16,{"$f":"eokul!$A17","v":73},{"$f":"eokul!B17","v":"REZAN ÇAKMAKÇI"},{"$f":"Sayfa5!H20","v":" "},{"$f":"Sayfa5!I20","v":" "},{"$f":"Sayfa5!J20","v":" "},{"$f":"Sayfa5!K20","v":" "},{"$f":"Sayfa5!L20","v":" "},{"$f":"Sayfa5!N20","v":" "},{"$f":"Sayfa5!O20","v":" "},{"$f":"Sayfa5!P20","v":" "},{"$f":"Sayfa5!Q20","v":" "},{"$f":"Sayfa5!R20","v":" "},{"$f":"Sayfa5!T20","v":" "},{"$f":"Sayfa5!U20","v":" "},{"$f":"Sayfa5!V20","v":" "},{"$f":"Sayfa5!W20","v":" "},{"$f":"Sayfa5!X20","v":" "},{"$f":"Sayfa5!Z20","v":" "},{"$f":"Sayfa5!AA20","v":" "},{"$f":"Sayfa5!AC20","v":" "},{"$f":"Sayfa5!AD20","v":" "},{"$f":"Sayfa5!AE20","v":" "},null,{"$f":"eokul!$J17","v":0}]
[null,17,{"$f":"eokul!$A18","v":76},{"$f":"eokul!B18","v":"RIFAT YİĞİT"},{"$f":"Sayfa5!H21","v":" "},{"$f":"Sayfa5!I21","v":" "},{"$f":"Sayfa5!J21","v":" "},{"$f":"Sayfa5!K21","v":" "},{"$f":"Sayfa5!L21","v":" "},{"$f":"Sayfa5!N21","v":" "},{"$f":"Sayfa5!O21","v":" "},{"$f":"Sayfa5!P21","v":" "},{"$f":"Sayfa5!Q21","v":" "},{"$f":"Sayfa5!R21","v":" "},{"$f":"Sayfa5!T21","v":" "},{"$f":"Sayfa5!U21","v":" "},{"$f":"Sayfa5!V21","v":" "},{"$f":"Sayfa5!W21","v":" "},{"$f":"Sayfa5!X21","v":" "},{"$f":"Sayfa5!Z21","v":" "},{"$f":"Sayfa5!AA21","v":" "},{"$f":"Sayfa5!AC21","v":" "},{"$f":"Sayfa5!AD21","v":" "},{"$f":"Sayfa5!AE21","v":" "},null,{"$f":"eokul!$J18","v":0}]
[null,18,{"$f":"eokul!$A19","v":87},{"$f":"eokul!B19","v":"RUMEYSA MENDİ"},{"$f":"Sayfa5!H22","v":" "},{"$f":"Sayfa5!I22","v":" "},{"$f":"Sayfa5!J22","v":" "},{"$f":"Sayfa5!K22","v":" "},{"$f":"Sayfa5!L22","v":" "},{"$f":"Sayfa5!N22","v":" "},{"$f":"Sayfa5!O22","v":" "},{"$f":"Sayfa5!P22","v":" "},{"$f":"Sayfa5!Q22","v":" "},{"$f":"Sayfa5!R22","v":" "},{"$f":"Sayfa5!T22","v":" "},{"$f":"Sayfa5!U22","v":" "},{"$f":"Sayfa5!V22","v":" "},{"$f":"Sayfa5!W22","v":" "},{"$f":"Sayfa5!X22","v":" "},{"$f":"Sayfa5!Z22","v":" "},{"$f":"Sayfa5!AA22","v":" "},{"$f":"Sayfa5!AC22","v":" "},{"$f":"Sayfa5!AD22","v":" "},{"$f":"Sayfa5!AE22","v":" "},null,{"$f":"eokul!$J19","v":0}]
[null,19,{"$f":"eokul!$A20","v":91},{"$f":"eokul!B20","v":"SÜLEYMAN İŞİK"},{"$f":"Sayfa5!H23","v":" "},{"$f":"Sayfa5!I23","v":" "},{"$f":"Sayfa5!J23","v":" "},{"$f":"Sayfa5!K23","v":" "},{"$f":"Sayfa5!L23","v":" "},{"$f":"Sayfa5!N23","v":" "},{"$f":"Sayfa5!O23","v":" "},{"$f":"Sayfa5!P23","v":" "},{"$f":"Sayfa5!Q23","v":" "},{"$f":"Sayfa5!R23","v":" "},{"$f":"Sayfa5!T23","v":" "},{"$f":"Sayfa5!U23","v":" "},{"$f":"Sayfa5!V23","v":" "},{"$f":"Sayfa5!W23","v":" "},{"$f":"Sayfa5!X23","v":" "},{"$f":"Sayfa5!Z23","v":" "},{"$f":"Sayfa5!AA23","v":" "},{"$f":"Sayfa5!AC23","v":" "},{"$f":"Sayfa5!AD23","v":" "},{"$f":"Sayfa5!AE23","v":" "},null,{"$f":"eokul!$J20","v":0}]
[null,20,{"$f":"eokul!$A21","v":93},{"$f":"eokul!B21","v":"ŞİYAR BAYILMAZ"},{"$f":"Sayfa5!H24","v":" "},{"$f":"Sayfa5!I24","v":" "},{"$f":"Sayfa5!J24","v":" "},{"$f":"Sayfa5!K24","v":" "},{"$f":"Sayfa5!L24","v":" "},{"$f":"Sayfa5!N24","v":" "},{"$f":"Sayfa5!O24","v":" "},{"$f":"Sayfa5!P24","v":" "},{"$f":"Sayfa5!Q24","v":" "},{"$f":"Sayfa5!R24","v":" "},{"$f":"Sayfa5!T24","v":" "},{"$f":"Sayfa5!U24","v":" "},{"$f":"Sayfa5!V24","v":" "},{"$f":"Sayfa5!W24","v":" "},{"$f":"Sayfa5!X24","v":" "},{"$f":"Sayfa5!Z24","v":" "},{"$f":"Sayfa5!AA24","v":" "},{"$f":"Sayfa5!AC24","v":" "},{"$f":"Sayfa5!AD24","v":" "},{"$f":"Sayfa5!AE24","v":" "},null,{"$f":"eokul!$J21","v":0}]
[null,21,{"$f":"eokul!$A22","v":94},{"$f":"eokul!B22","v":"TUĞBA ECE"},{"$f":"Sayfa5!H25","v":" "},{"$f":"Sayfa5!I25","v":" "},{"$f":"Sayfa5!J25","v":" "},{"$f":"Sayfa5!K25","v":" "},{"$f":"Sayfa5!L25","v":" "},{"$f":"Sayfa5!N25","v":" "},{"$f":"Sayfa5!O25","v":" "},{"$f":"Sayfa5!P25","v":" "},{"$f":"Sayfa5!Q25","v":" "},{"$f":"Sayfa5!R25","v":" "},{"$f":"Sayfa5!T25","v":" "},{"$f":"Sayfa5!U25","v":" "},{"$f":"Sayfa5!V25","v":" "},{"$f":"Sayfa5!W25","v":" "},{"$f":"Sayfa5!X25","v":" "},{"$f":"Sayfa5!Z25","v":" "},{"$f":"Sayfa5!AA25","v":" "},{"$f":"Sayfa5!AC25","v":" "},{"$f":"Sayfa5!AD25","v":" "},{"$f":"Sayfa5!AE25","v":" "},null,{"$f":"eokul!$J22","v":0}]
[null,22,{"$f":"eokul!$A23","v":95},{"$f":"eokul!B23","v":"UMUT ÇATMA"},{"$f":"Sayfa5!H26","v":" "},{"$f":"Sayfa5!I26","v":" "},{"$f":"Sayfa5!J26","v":" "},{"$f":"Sayfa5!K26","v":" "},{"$f":"Sayfa5!L26","v":" "},{"$f":"Sayfa5!N26","v":" "},{"$f":"Sayfa5!O26","v":" "},{"$f":"Sayfa5!P26","v":" "},{"$f":"Sayfa5!Q26","v":" "},{"$f":"Sayfa5!R26","v":" "},{"$f":"Sayfa5!T26","v":" "},{"$f":"Sayfa5!U26","v":" "},{"$f":"Sayfa5!V26","v":" "},{"$f":"Sayfa5!W26","v":" "},{"$f":"Sayfa5!X26","v":" "},{"$f":"Sayfa5!Z26","v":" "},{"$f":"Sayfa5!AA26","v":" "},{"$f":"Sayfa5!AC26","v":" "},{"$f":"Sayfa5!AD26","v":" "},{"$f":"Sayfa5!AE26","v":" "},null,{"$f":"eokul!$J23","v":0}]
[null,23,{"$f":"eokul!$A24","v":96},{"$f":"eokul!B24","v":"YILMAZ ŞEYRAN"},{"$f":"Sayfa5!H27","v":" "},{"$f":"Sayfa5!I27","v":" "},{"$f":"Sayfa5!J27","v":" "},{"$f":"Sayfa5!K27","v":" "},{"$f":"Sayfa5!L27","v":" "},{"$f":"Sayfa5!N27","v":" "},{"$f":"Sayfa5!O27","v":" "},{"$f":"Sayfa5!P27","v":" "},{"$f":"Sayfa5!Q27","v":" "},{"$f":"Sayfa5!R27","v":" "},{"$f":"Sayfa5!T27","v":" "},{"$f":"Sayfa5!U27","v":" "},{"$f":"Sayfa5!V27","v":" "},{"$f":"Sayfa5!W27","v":" "},{"$f":"Sayfa5!X27","v":" "},{"$f":"Sayfa5!Z27","v":" "},{"$f":"Sayfa5!AA27","v":" "},{"$f":"Sayfa5!AC27","v":" "},{"$f":"Sayfa5!AD27","v":" "},{"$f":"Sayfa5!AE27","v":" "},null,{"$f":"eokul!$J24","v":0}]
[null,24,{"$f":"eokul!$A25","v":100},{"$f":"eokul!B25","v":"HATİCE VURMAZ"},{"$f":"Sayfa5!H28","v":" "},{"$f":"Sayfa5!I28","v":" "},{"$f":"Sayfa5!J28","v":" "},{"$f":"Sayfa5!K28","v":" "},{"$f":"Sayfa5!L28","v":" "},{"$f":"Sayfa5!N28","v":" "},{"$f":"Sayfa5!O28","v":" "},{"$f":"Sayfa5!P28","v":" "},{"$f":"Sayfa5!Q28","v":" "},{"$f":"Sayfa5!R28","v":" "},{"$f":"Sayfa5!T28","v":" "},{"$f":"Sayfa5!U28","v":" "},{"$f":"Sayfa5!V28","v":" "},{"$f":"Sayfa5!W28","v":" "},{"$f":"Sayfa5!X28","v":" "},{"$f":"Sayfa5!Z28","v":" "},{"$f":"Sayfa5!AA28","v":" "},{"$f":"Sayfa5!AC28","v":" "},{"$f":"Sayfa5!AD28","v":" "},{"$f":"Sayfa5!AE28","v":" "},null,{"$f":"eokul!$J25","v":0}]
[null,25,{"$f":"eokul!$A26","v":0},{"$f":"eokul!B26","v":0},{"$f":"Sayfa5!H29","v":" "},{"$f":"Sayfa5!I29","v":" "},{"$f":"Sayfa5!J29","v":" "},{"$f":"Sayfa5!K29","v":" "},{"$f":"Sayfa5!L29","v":" "},{"$f":"Sayfa5!N29","v":" "},{"$f":"Sayfa5!O29","v":" "},{"$f":"Sayfa5!P29","v":" "},{"$f":"Sayfa5!Q29","v":" "},{"$f":"Sayfa5!R29","v":" "},{"$f":"Sayfa5!T29","v":" "},{"$f":"Sayfa5!U29","v":" "},{"$f":"Sayfa5!V29","v":" "},{"$f":"Sayfa5!W29","v":" "},{"$f":"Sayfa5!X29","v":" "},{"$f":"Sayfa5!Z29","v":" "},{"$f":"Sayfa5!AA29","v":" "},{"$f":"Sayfa5!AC29","v":" "},{"$f":"Sayfa5!AD29","v":" "},{"$f":"Sayfa5!AE29","v":" "},null,{"$f":"eokul!$J26","v":0}]
[null,26,{"$f":"eokul!$A27","v":0},{"$f":"eokul!B27","v":0},{"$f":"Sayfa5!H30","v":" "},{"$f":"Sayfa5!I30","v":" "},{"$f":"Sayfa5!J30","v":" "},{"$f":"Sayfa5!K30","v":" "},{"$f":"Sayfa5!L30","v":" "},{"$f":"Sayfa5!N30","v":" "},{"$f":"Sayfa5!O30","v":" "},{"$f":"Sayfa5!P30","v":" "},{"$f":"Sayfa5!Q30","v":" "},{"$f":"Sayfa5!R30","v":" "},{"$f":"Sayfa5!T30","v":" "},{"$f":"Sayfa5!U30","v":" "},{"$f":"Sayfa5!V30","v":" "},{"$f":"Sayfa5!W30","v":" "},{"$f":"Sayfa5!X30","v":" "},{"$f":"Sayfa5!Z30","v":" "},{"$f":"Sayfa5!AA30","v":" "},{"$f":"Sayfa5!AC30","v":" "},{"$f":"Sayfa5!AD30","v":" "},{"$f":"Sayfa5!AE30","v":" "},null,{"$f":"eokul!$J27","v":0}]
[null,27,{"$f":"eokul!$A28","v":0},{"$f":"eokul!B28","v":0},{"$f":"Sayfa5!H31","v":" "},{"$f":"Sayfa5!I31","v":" "},{"$f":"Sayfa5!J31","v":" "},{"$f":"Sayfa5!K31","v":" "},{"$f":"Sayfa5!L31","v":" "},{"$f":"Sayfa5!N31","v":" "},{"$f":"Sayfa5!O31","v":" "},{"$f":"Sayfa5!P31","v":" "},{"$f":"Sayfa5!Q31","v":" "},{"$f":"Sayfa5!R31","v":" "},{"$f":"Sayfa5!T31","v":" "},{"$f":"Sayfa5!U31","v":" "},{"$f":"Sayfa5!V31","v":" "},{"$f":"Sayfa5!W31","v":" "},{"$f":"Sayfa5!X31","v":" "},{"$f":"Sayfa5!Z31","v":" "},{"$f":"Sayfa5!AA31","v":" "},{"$f":"Sayfa5!AC31","v":" "},{"$f":"Sayfa5!AD31","v":" "},{"$f":"Sayfa5!AE31","v":" "},null,{"$f":"eokul!$J28","v":0}]
[null,28,{"$f":"eokul!$A29","v":0},{"$f":"eokul!B29","v":0},{"$f":"Sayfa5!H32","v":" "},{"$f":"Sayfa5!I32","v":" "},{"$f":"Sayfa5!J32","v":" "},{"$f":"Sayfa5!K32","v":" "},{"$f":"Sayfa5!L32","v":" "},{"$f":"Sayfa5!N32","v":" "},{"$f":"Sayfa5!O32","v":" "},{"$f":"Sayfa5!P32","v":" "},{"$f":"Sayfa5!Q32","v":" "},{"$f":"Sayfa5!R32","v":" "},{"$f":"Sayfa5!T32","v":" "},{"$f":"Sayfa5!U32","v":" "},{"$f":"Sayfa5!V32","v":" "},{"$f":"Sayfa5!W32","v":" "},{"$f":"Sayfa5!X32","v":" "},{"$f":"Sayfa5!Z32","v":" "},{"$f":"Sayfa5!AA32","v":" "},{"$f":"Sayfa5!AC32","v":" "},{"$f":"Sayfa5!AD32","v":" "},{"$f":"Sayfa5!AE32","v":" "},null,{"$f":"eokul!$J29","v":0}]
[null,29,{"$f":"eokul!$A30","v":0},{"$f":"eokul!B30","v":0},{"$f":"Sayfa5!H33","v":" "},{"$f":"Sayfa5!I33","v":" "},{"$f":"Sayfa5!J33","v":" "},{"$f":"Sayfa5!K33","v":" "},{"$f":"Sayfa5!L33","v":" "},{"$f":"Sayfa5!N33","v":" "},{"$f":"Sayfa5!O33","v":" "},{"$f":"Sayfa5!P33","v":" "},{"$f":"Sayfa5!Q33","v":" "},{"$f":"Sayfa5!R33","v":" "},{"$f":"Sayfa5!T33","v":" "},{"$f":"Sayfa5!U33","v":" "},{"$f":"Sayfa5!V33","v":" "},{"$f":"Sayfa5!W33","v":" "},{"$f":"Sayfa5!X33","v":" "},{"$f":"Sayfa5!Z33","v":" "},{"$f":"Sayfa5!AA33","v":" "},{"$f":"Sayfa5!AC33","v":" "},{"$f":"Sayfa5!AD33","v":" "},{"$f":"Sayfa5!AE33","v":" "},null,{"$f":"eokul!$J30","v":0}]
[null,30,{"$f":"eokul!$A31","v":0},{"$f":"eokul!B31","v":0},{"$f":"Sayfa5!H34","v":" "},{"$f":"Sayfa5!I34","v":" "},{"$f":"Sayfa5!J34","v":" "},{"$f":"Sayfa5!K34","v":" "},{"$f":"Sayfa5!L34","v":" "},{"$f":"Sayfa5!N34","v":" "},{"$f":"Sayfa5!O34","v":" "},{"$f":"Sayfa5!P34","v":" "},{"$f":"Sayfa5!Q34","v":" "},{"$f":"Sayfa5!R34","v":" "},{"$f":"Sayfa5!T34","v":" "},{"$f":"Sayfa5!U34","v":" "},{"$f":"Sayfa5!V34","v":" "},{"$f":"Sayfa5!W34","v":" "},{"$f":"Sayfa5!X34","v":" "},{"$f":"Sayfa5!Z34","v":" "},{"$f":"Sayfa5!AA34","v":" "},{"$f":"Sayfa5!AC34","v":" "},{"$f":"Sayfa5!AD34","v":" "},{"$f":"Sayfa5!AE34","v":" "},null,{"$f":"eokul!$J31","v":0}]
[null,31,{"$f":"eokul!$A32","v":0},{"$f":"eokul!B32","v":0},{"$f":"Sayfa5!H35","v":" "},{"$f":"Sayfa5!I35","v":" "},{"$f":"Sayfa5!J35","v":" "},{"$f":"Sayfa5!K35","v":" "},{"$f":"Sayfa5!L35","v":" "},{"$f":"Sayfa5!N35","v":" "},{"$f":"Sayfa5!O35","v":" "},{"$f":"Sayfa5!P35","v":" "},{"$f":"Sayfa5!Q35","v":" "},{"$f":"Sayfa5!R35","v":" "},{"$f":"Sayfa5!T35","v":" "},{"$f":"Sayfa5!U35","v":" "},{"$f":"Sayfa5!V35","v":" "},{"$f":"Sayfa5!W35","v":" "},{"$f":"Sayfa5!X35","v":" "},{"$f":"Sayfa5!Z35","v":" "},{"$f":"Sayfa5!AA35","v":" "},{"$f":"Sayfa5!AC35","v":" "},{"$f":"Sayfa5!AD35","v":" "},{"$f":"Sayfa5!AE35","v":" "},null,{"$f":"eokul!$J32","v":0}]
[null,32,{"$f":"eokul!$A33","v":0},{"$f":"eokul!B33","v":0},{"$f":"Sayfa5!H36","v":" "},{"$f":"Sayfa5!I36","v":" "},{"$f":"Sayfa5!J36","v":" "},{"$f":"Sayfa5!K36","v":" "},{"$f":"Sayfa5!L36","v":" "},{"$f":"Sayfa5!N36","v":" "},{"$f":"Sayfa5!O36","v":" "},{"$f":"Sayfa5!P36","v":" "},{"$f":"Sayfa5!Q36","v":" "},{"$f":"Sayfa5!R36","v":" "},{"$f":"Sayfa5!T36","v":" "},{"$f":"Sayfa5!U36","v":" "},{"$f":"Sayfa5!V36","v":" "},{"$f":"Sayfa5!W36","v":" "},{"$f":"Sayfa5!X36","v":" "},{"$f":"Sayfa5!Z36","v":" "},{"$f":"Sayfa5!AA36","v":" "},{"$f":"Sayfa5!AC36","v":" "},{"$f":"Sayfa5!AD36","v":" "},{"$f":"Sayfa5!AE36","v":" "},null,{"$f":"eokul!$J33","v":0}]
[null,33,{"$f":"eokul!$A34","v":0},{"$f":"eokul!B34","v":0},{"$f":"Sayfa5!H37","v":" "},{"$f":"Sayfa5!I37","v":" "},{"$f":"Sayfa5!J37","v":" "},{"$f":"Sayfa5!K37","v":" "},{"$f":"Sayfa5!L37","v":" "},{"$f":"Sayfa5!N37","v":" "},{"$f":"Sayfa5!O37","v":" "},{"$f":"Sayfa5!P37","v":" "},{"$f":"Sayfa5!Q37","v":" "},{"$f":"Sayfa5!R37","v":" "},{"$f":"Sayfa5!T37","v":" "},{"$f":"Sayfa5!U37","v":" "},{"$f":"Sayfa5!V37","v":" "},{"$f":"Sayfa5!W37","v":" "},{"$f":"Sayfa5!X37","v":" "},{"$f":"Sayfa5!Z37","v":" "},{"$f":"Sayfa5!AA37","v":" "},{"$f":"Sayfa5!AC37","v":" "},{"$f":"Sayfa5!AD37","v":" "},{"$f":"Sayfa5!AE37","v":" "},null,{"$f":"eokul!$J34","v":0}]
[null,34,{"$f":"eokul!$A35","v":0},{"$f":"eokul!B35","v":0},{"$f":"Sayfa5!H38","v":" "},{"$f":"Sayfa5!I38","v":" "},{"$f":"Sayfa5!J38","v":" "},{"$f":"Sayfa5!K38","v":" "},{"$f":"Sayfa5!L38","v":" "},{"$f":"Sayfa5!N38","v":" "},{"$f":"Sayfa5!O38","v":" "},{"$f":"Sayfa5!P38","v":" "},{"$f":"Sayfa5!Q38","v":" "},{"$f":"Sayfa5!R38","v":" "},{"$f":"Sayfa5!T38","v":" "},{"$f":"Sayfa5!U38","v":" "},{"$f":"Sayfa5!V38","v":" "},{"$f":"Sayfa5!W38","v":" "},{"$f":"Sayfa5!X38","v":" "},{"$f":"Sayfa5!Z38","v":" "},{"$f":"Sayfa5!AA38","v":" "},{"$f":"Sayfa5!AC38","v":" "},{"$f":"Sayfa5!AD38","v":" "},{"$f":"Sayfa5!AE38","v":" "},null,{"$f":"eokul!$J35","v":0}]
[null,35,{"$f":"eokul!$A36","v":0},{"$f":"eokul!B36","v":0},{"$f":"Sayfa5!H39","v":" "},{"$f":"Sayfa5!I39","v":" "},{"$f":"Sayfa5!J39","v":" "},{"$f":"Sayfa5!K39","v":" "},{"$f":"Sayfa5!L39","v":" "},{"$f":"Sayfa5!N39","v":" "},{"$f":"Sayfa5!O39","v":" "},{"$f":"Sayfa5!P39","v":" "},{"$f":"Sayfa5!Q39","v":" "},{"$f":"Sayfa5!R39","v":" "},{"$f":"Sayfa5!T39","v":" "},{"$f":"Sayfa5!U39","v":" "},{"$f":"Sayfa5!V39","v":" "},{"$f":"Sayfa5!W39","v":" "},{"$f":"Sayfa5!X39","v":" "},{"$f":"Sayfa5!Z39","v":" "},{"$f":"Sayfa5!AA39","v":" "},{"$f":"Sayfa5!AC39","v":" "},{"$f":"Sayfa5!AD39","v":" "},{"$f":"Sayfa5!AE39","v":" "},null,{"$f":"eokul!$J36","v":0}]
[null,36,{"$f":"eokul!$A37","v":0},{"$f":"eokul!B37","v":0},{"$f":"Sayfa5!H40","v":" "},{"$f":"Sayfa5!I40","v":" "},{"$f":"Sayfa5!J40","v":" "},{"$f":"Sayfa5!K40","v":" "},{"$f":"Sayfa5!L40","v":" "},{"$f":"Sayfa5!N40","v":" "},{"$f":"Sayfa5!O40","v":" "},{"$f":"Sayfa5!P40","v":" "},{"$f":"Sayfa5!Q40","v":" "},{"$f":"Sayfa5!R40","v":" "},{"$f":"Sayfa5!T40","v":" "},{"$f":"Sayfa5!U40","v":" "},{"$f":"Sayfa5!V40","v":" "},{"$f":"Sayfa5!W40","v":" "},{"$f":"Sayfa5!X40","v":" "},{"$f":"Sayfa5!Z40","v":" "},{"$f":"Sayfa5!AA40","v":" "},{"$f":"Sayfa5!AC40","v":" "},{"$f":"Sayfa5!AD40","v":" "},{"$f":"Sayfa5!AE40","v":" "},null,{"$f":"eokul!$J37","v":0}]
[null,37,{"$f":"eokul!$A38","v":0},{"$f":"eokul!B38","v":0},{"$f":"Sayfa5!H41","v":" "},{"$f":"Sayfa5!I41","v":" "},{"$f":"Sayfa5!J41","v":" "},{"$f":"Sayfa5!K41","v":" "},{"$f":"Sayfa5!L41","v":" "},{"$f":"Sayfa5!N41","v":" "},{"$f":"Sayfa5!O41","v":" "},{"$f":"Sayfa5!P41","v":" "},{"$f":"Sayfa5!Q41","v":" "},{"$f":"Sayfa5!R41","v":" "},{"$f":"Sayfa5!T41","v":" "},{"$f":"Sayfa5!U41","v":" "},{"$f":"Sayfa5!V41","v":" "},{"$f":"Sayfa5!W41","v":" "},{"$f":"Sayfa5!X41","v":" "},{"$f":"Sayfa5!Z41","v":" "},{"$f":"Sayfa5!AA41","v":" "},{"$f":"Sayfa5!AC41","v":" "},{"$f":"Sayfa5!AD41","v":" "},{"$f":"Sayfa5!AE41","v":" "},null,{"$f":"eokul!$J38","v":0}]
[null,38,{"$f":"eokul!$A39","v":0},{"$f":"eokul!B39","v":0},{"$f":"Sayfa5!H42","v":" "},{"$f":"Sayfa5!I42","v":" "},{"$f":"Sayfa5!J42","v":" "},{"$f":"Sayfa5!K42","v":" "},{"$f":"Sayfa5!L42","v":" "},{"$f":"Sayfa5!N42","v":" "},{"$f":"Sayfa5!O42","v":" "},{"$f":"Sayfa5!P42","v":" "},{"$f":"Sayfa5!Q42","v":" "},{"$f":"Sayfa5!R42","v":" "},{"$f":"Sayfa5!T42","v":" "},{"$f":"Sayfa5!U42","v":" "},{"$f":"Sayfa5!V42","v":" "},{"$f":"Sayfa5!W42","v":" "},{"$f":"Sayfa5!X42","v":" "},{"$f":"Sayfa5!Z42","v":" "},{"$f":"Sayfa5!AA42","v":" "},{"$f":"Sayfa5!AC42","v":" "},{"$f":"Sayfa5!AD42","v":" "},{"$f":"Sayfa5!AE42","v":" "},null,{"$f":"eokul!$J39","v":0}]
[null,39,{"$f":"eokul!$A40","v":0},{"$f":"eokul!B40","v":0},{"$f":"Sayfa5!H43","v":" "},{"$f":"Sayfa5!I43","v":" "},{"$f":"Sayfa5!J43","v":" "},{"$f":"Sayfa5!K43","v":" "},{"$f":"Sayfa5!L43","v":" "},{"$f":"Sayfa5!N43","v":" "},{"$f":"Sayfa5!O43","v":" "},{"$f":"Sayfa5!P43","v":" "},{"$f":"Sayfa5!Q43","v":" "},{"$f":"Sayfa5!R43","v":" "},{"$f":"Sayfa5!T43","v":" "},{"$f":"Sayfa5!U43","v":" "},{"$f":"Sayfa5!V43","v":" "},{"$f":"Sayfa5!W43","v":" "},{"$f":"Sayfa5!X43","v":" "},{"$f":"Sayfa5!Z43","v":" "},{"$f":"Sayfa5!AA43","v":" "},{"$f":"Sayfa5!AC43","v":" "},{"$f":"Sayfa5!AD43","v":" "},{"$f":"Sayfa5!AE43","v":" "},null,{"$f":"eokul!$J40","v":0}]
[null,40,{"$f":"eokul!$A41","v":0},{"$f":"eokul!B41","v":0},{"$f":"Sayfa5!H44","v":" "},{"$f":"Sayfa5!I44","v":" "},{"$f":"Sayfa5!J44","v":" "},{"$f":"Sayfa5!K44","v":" "},{"$f":"Sayfa5!L44","v":" "},{"$f":"Sayfa5!N44","v":" "},{"$f":"Sayfa5!O44","v":" "},{"$f":"Sayfa5!P44","v":" "},{"$f":"Sayfa5!Q44","v":" "},{"$f":"Sayfa5!R44","v":" "},{"$f":"Sayfa5!T44","v":" "},{"$f":"Sayfa5!U44","v":" "},{"$f":"Sayfa5!V44","v":" "},{"$f":"Sayfa5!W44","v":" "},{"$f":"Sayfa5!X44","v":" "},{"$f":"Sayfa5!Z44","v":" "},{"$f":"Sayfa5!AA44","v":" "},{"$f":"Sayfa5!AC44","v":" "},{"$f":"Sayfa5!AD44","v":" "},{"$f":"Sayfa5!AE44","v":" "},null,{"$f":"eokul!$J41","v":0}]
[]
[]
[]
[]
[]
[]
[]
[]
[null,null,null,{"$f":"ANASAYFA!D7","v":"  KENDİNİZİ YAZINIZ"},null,null,null,null,null,null,null,null,null,null,null,null,{"$f":"ANASAYFA!D9","v":" KURUMUNUZUN MÜDÜRÜNÜ YAZINIZ"}]
[null,null,null,{"$f":"ANASAYFA!D8","v":" DERS ÖĞRETMENİ"},null,null,null,null,null,null,null,null,null,null,null,null,{"$f":"ANASAYFA!D10","v":"OKUL MÜDÜRÜ"}]

{"sheet":"dersiçiperformans (3)","index":9,"n_rows":60,"n_cols":26,"rows_kept":60,"cut":false,"hidden":false,"merged":[[4,1,4,25],[6,4,6,8],[6,9,6,13],[6,14,6,18],[6,19,6,20],[6,21,6,23],[7,1,8,1],[7,4,9,4],[7,5,9,5],[7,6,9,6],[7,7,9,7],[7,24,9,24],[7,25,9,25],[58,3,58,4],[58,16,58,20],[7,15,9,15],[7,16,9,16],[7,17,9,17],[7,18,9,18],[7,19,9,19],[7,20,9,20],[7,9,9,9],[7,10,9,10],[7,11,9,11],[7,12,9,12],[7,13,9,13],[7,14,9,14],[59,3,59,4],[59,16,59,20],[7,21,9,21],[7,22,9,22],[7,23,9,23],[7,8,9,8]]}
[]
[]
[]
[]
[null,{"$f":"CONCATENATE(ANASAYFA!D5,\" \",ANASAYFA!D11,\" \",\"SINIFI\",\"  \",ANASAYFA!D6,\"  \",\"DERSİ DERS ETKİNLİKLERİNE KATILIM 3. NOTU DEĞERLENDİRME ÖLÇEĞİ\")","v":"………….ORTAOKULU 5/A SINIFI   TÜRKÇE ÖĞRETMENİ  DERSİ DERS ETKİNLİKLERİNE KATILIM 3. NOTU DEĞERLENDİRME ÖLÇEĞİ"}]
[]
[null,null,null,null,"I. Derse Hazırlık",null,null,null,null,"II. Etkinliklere Katılım",null,null,null,null,"III. İnceleme – Araştırma – Gözlem",null,null,null,null,"III.Sunum",null,"V. Bilim Uygulamaları"]
[null,"DEĞERLENDİRME ÖLÇEĞİ"," 2: Kabul Edilebilir","5:Çok iyi                               ","1.Hangi kaynaklara başvurup hazırlanacağı hakkında bilgi ister","2. Bilgi kaynaklarını kendisi bulur.","3. Bilgiyi nereden edineceğini bildiğini söyler.","4.Derse değişik yardımcı kaynaklarla gelir.","5.Derse hazırlıklı gelir.","1.Kendiliğinden söz alarak görüşünü söyler.","2.Kendisine görüşü sorulduğunda konuşur.","3.Belirttiği görüşler ve verdiği örnekler özgündür","4.Yeni ve özgün sorular sorar.","5.Dersi iyi dinlediği izlenimi veren sorular sorar","1.Bilgi toplamak için çeşitli kaynaklara başvurur","2.Kendisine verilen kaynaklarla yetinmeyip başka kaynaklar araştırır.","3.İnceleme ve araştırma ödevlerini özenerek yapar.","4.Gözlemleri sonucunda mantıksal çıkarımlarda bulunur","5.Araştırma ve incelemeleri sonucunda genellemeler yapar","1.Verilenlerden grafik ve çizelgeler oluşturur","2.Yönteme uygun deney yapar","1. Derslere zamanında girer","2. Dersin akışını bozmaz","3. Ödevlerini zamanında hazırlayarak  sunar.",null,"PERFORMANS GÖREV PUANI"]
[null,null,"1: Zayıf           ","     3:Orta         4:İyi "]
[null,"SIRA ","ÖĞ NO","AD SOYAD "]
[null,1,{"$f":"eokul!$A2","v":24},{"$f":"eokul!B2","v":"ABBASALİ İREK"},{"$f":"Sayfa6!H5","v":" "},{"$f":"Sayfa6!I5","v":" "},{"$f":"Sayfa6!J5","v":" "},{"$f":"Sayfa6!K5","v":" "},{"$f":"Sayfa6!L5","v":" "},{"$f":"Sayfa6!N5","v":" "},{"$f":"Sayfa6!O5","v":" "},{"$f":"Sayfa6!P5","v":" "},{"$f":"Sayfa6!Q5","v":" "},{"$f":"Sayfa6!R5","v":" "},{"$f":"Sayfa6!T5","v":" "},{"$f":"Sayfa6!U5","v":" "},{"$f":"Sayfa6!V5","v":" "},{"$f":"Sayfa6!W5","v":" "},{"$f":"Sayfa6!X5","v":" "},{"$f":"Sayfa6!Z5","v":" "},{"$f":"Sayfa6!AA5","v":" "},{"$f":"Sayfa6!AC5","v":" "},{"$f":"Sayfa6!AD5","v":" "},{"$f":"Sayfa6!AE5","v":" "},null,{"$f":"eokul!$K2","v":0}]
[null,2,{"$f":"eokul!$A3","v":25},{"$f":"eokul!B3","v":"ADEM ŞAYRAN"},{"$f":"Sayfa6!H6","v":" "},{"$f":"Sayfa6!I6","v":" "},{"$f":"Sayfa6!J6","v":" "},{"$f":"Sayfa6!K6","v":" "},{"$f":"Sayfa6!L6","v":" "},{"$f":"Sayfa6!N6","v":" "},{"$f":"Sayfa6!O6","v":" "},{"$f":"Sayfa6!P6","v":" "},{"$f":"Sayfa6!Q6","v":" "},{"$f":"Sayfa6!R6","v":" "},{"$f":"Sayfa6!T6","v":" "},{"$f":"Sayfa6!U6","v":" "},{"$f":"Sayfa6!V6","v":" "},{"$f":"Sayfa6!W6","v":" "},{"$f":"Sayfa6!X6","v":" "},{"$f":"Sayfa6!Z6","v":" "},{"$f":"Sayfa6!AA6","v":" "},{"$f":"Sayfa6!AC6","v":" "},{"$f":"Sayfa6!AD6","v":" "},{"$f":"Sayfa6!AE6","v":" "},null,{"$f":"eokul!$K3","v":0}]
[null,3,{"$f":"eokul!$A4","v":26},{"$f":"eokul!B4","v":"AYŞE ŞEYRAN"},{"$f":"Sayfa6!H7","v":" "},{"$f":"Sayfa6!I7","v":" "},{"$f":"Sayfa6!J7","v":" "},{"$f":"Sayfa6!K7","v":" "},{"$f":"Sayfa6!L7","v":" "},{"$f":"Sayfa6!N7","v":" "},{"$f":"Sayfa6!O7","v":" "},{"$f":"Sayfa6!P7","v":" "},{"$f":"Sayfa6!Q7","v":" "},{"$f":"Sayfa6!R7","v":" "},{"$f":"Sayfa6!T7","v":" "},{"$f":"Sayfa6!U7","v":" "},{"$f":"Sayfa6!V7","v":" "},{"$f":"Sayfa6!W7","v":" "},{"$f":"Sayfa6!X7","v":" "},{"$f":"Sayfa6!Z7","v":" "},{"$f":"Sayfa6!AA7","v":" "},{"$f":"Sayfa6!AC7","v":" "},{"$f":"Sayfa6!AD7","v":" "},{"$f":"Sayfa6!AE7","v":" "},null,{"$f":"eokul!$K4","v":0}]
[null,4,{"$f":"eokul!$A5","v":28},{"$f":"eokul!B5","v":"CANERCAN İREK"},{"$f":"Sayfa6!H8","v":" "},{"$f":"Sayfa6!I8","v":" "},{"$f":"Sayfa6!J8","v":" "},{"$f":"Sayfa6!K8","v":" "},{"$f":"Sayfa6!L8","v":" "},{"$f":"Sayfa6!N8","v":" "},{"$f":"Sayfa6!O8","v":" "},{"$f":"Sayfa6!P8","v":" "},{"$f":"Sayfa6!Q8","v":" "},{"$f":"Sayfa6!R8","v":" "},{"$f":"Sayfa6!T8","v":" "},{"$f":"Sayfa6!U8","v":" "},{"$f":"Sayfa6!V8","v":" "},{"$f":"Sayfa6!W8","v":" "},{"$f":"Sayfa6!X8","v":" "},{"$f":"Sayfa6!Z8","v":" "},{"$f":"Sayfa6!AA8","v":" "},{"$f":"Sayfa6!AC8","v":" "},{"$f":"Sayfa6!AD8","v":" "},{"$f":"Sayfa6!AE8","v":" "},null,{"$f":"eokul!$K5","v":0}]
[null,5,{"$f":"eokul!$A6","v":31},{"$f":"eokul!B6","v":"DİLARA BURAK"},{"$f":"Sayfa6!H9","v":" "},{"$f":"Sayfa6!I9","v":" "},{"$f":"Sayfa6!J9","v":" "},{"$f":"Sayfa6!K9","v":" "},{"$f":"Sayfa6!L9","v":" "},{"$f":"Sayfa6!N9","v":" "},{"$f":"Sayfa6!O9","v":" "},{"$f":"Sayfa6!P9","v":" "},{"$f":"Sayfa6!Q9","v":" "},{"$f":"Sayfa6!R9","v":" "},{"$f":"Sayfa6!T9","v":" "},{"$f":"Sayfa6!U9","v":" "},{"$f":"Sayfa6!V9","v":" "},{"$f":"Sayfa6!W9","v":" "},{"$f":"Sayfa6!X9","v":" "},{"$f":"Sayfa6!Z9","v":" "},{"$f":"Sayfa6!AA9","v":" "},{"$f":"Sayfa6!AC9","v":" "},{"$f":"Sayfa6!AD9","v":" "},{"$f":"Sayfa6!AE9","v":" "},null,{"$f":"eokul!$K6","v":0}]
[null,6,{"$f":"eokul!$A7","v":32},{"$f":"eokul!B7","v":"EDA ŞEYRAN"},{"$f":"Sayfa6!H10","v":" "},{"$f":"Sayfa6!I10","v":" "},{"$f":"Sayfa6!J10","v":" "},{"$f":"Sayfa6!K10","v":" "},{"$f":"Sayfa6!L10","v":" "},{"$f":"Sayfa6!N10","v":" "},{"$f":"Sayfa6!O10","v":" "},{"$f":"Sayfa6!P10","v":" "},{"$f":"Sayfa6!Q10","v":" "},{"$f":"Sayfa6!R10","v":" "},{"$f":"Sayfa6!T10","v":" "},{"$f":"Sayfa6!U10","v":" "},{"$f":"Sayfa6!V10","v":" "},{"$f":"Sayfa6!W10","v":" "},{"$f":"Sayfa6!X10","v":" "},{"$f":"Sayfa6!Z10","v":" "},{"$f":"Sayfa6!AA10","v":" "},{"$f":"Sayfa6!AC10","v":" "},{"$f":"Sayfa6!AD10","v":" "},{"$f":"Sayfa6!AE10","v":" "},null,{"$f":"eokul!$K7","v":0}]
[null,7,{"$f":"eokul!$A8","v":33},{"$f":"eokul!B8","v":"ENES BAYILMAZ"},{"$f":"Sayfa6!H11","v":" "},{"$f":"Sayfa6!I11","v":" "},{"$f":"Sayfa6!J11","v":" "},{"$f":"Sayfa6!K11","v":" "},{"$f":"Sayfa6!L11","v":" "},{"$f":"Sayfa6!N11","v":" "},{"$f":"Sayfa6!O11","v":" "},{"$f":"Sayfa6!P11","v":" "},{"$f":"Sayfa6!Q11","v":" "},{"$f":"Sayfa6!R11","v":" "},{"$f":"Sayfa6!T11","v":" "},{"$f":"Sayfa6!U11","v":" "},{"$f":"Sayfa6!V11","v":" "},{"$f":"Sayfa6!W11","v":" "},{"$f":"Sayfa6!X11","v":" "},{"$f":"Sayfa6!Z11","v":" "},{"$f":"Sayfa6!AA11","v":" "},{"$f":"Sayfa6!AC11","v":" "},{"$f":"Sayfa6!AD11","v":" "},{"$f":"Sayfa6!AE11","v":" "},null,{"$f":"eokul!$K8","v":0}]
[null,8,{"$f":"eokul!$A9","v":34},{"$f":"eokul!B9","v":"FURKAN GÜNEŞ"},{"$f":"Sayfa6!H12","v":" "},{"$f":"Sayfa6!I12","v":" "},{"$f":"Sayfa6!J12","v":" "},{"$f":"Sayfa6!K12","v":" "},{"$f":"Sayfa6!L12","v":" "},{"$f":"Sayfa6!N12","v":" "},{"$f":"Sayfa6!O12","v":" "},{"$f":"Sayfa6!P12","v":" "},{"$f":"Sayfa6!Q12","v":" "},{"$f":"Sayfa6!R12","v":" "},{"$f":"Sayfa6!T12","v":" "},{"$f":"Sayfa6!U12","v":" "},{"$f":"Sayfa6!V12","v":" "},{"$f":"Sayfa6!W12","v":" "},{"$f":"Sayfa6!X12","v":" "},{"$f":"Sayfa6!Z12","v":" "},{"$f":"Sayfa6!AA12","v":" "},{"$f":"Sayfa6!AC12","v":" "},{"$f":"Sayfa6!AD12","v":" "},{"$f":"Sayfa6!AE12","v":" "},null,{"$f":"eokul!$K9","v":0}]
[null,9,{"$f":"eokul!$A10","v":36},{"$f":"eokul!B10","v":"HASAN HÜSEYİN ŞEYRAN"},{"$f":"Sayfa6!H13","v":" "},{"$f":"Sayfa6!I13","v":" "},{"$f":"Sayfa6!J13","v":" "},{"$f":"Sayfa6!K13","v":" "},{"$f":"Sayfa6!L13","v":" "},{"$f":"Sayfa6!N13","v":" "},{"$f":"Sayfa6!O13","v":" "},{"$f":"Sayfa6!P13","v":" "},{"$f":"Sayfa6!Q13","v":" "},{"$f":"Sayfa6!R13","v":" "},{"$f":"Sayfa6!T13","v":" "},{"$f":"Sayfa6!U13","v":" "},{"$f":"Sayfa6!V13","v":" "},{"$f":"Sayfa6!W13","v":" "},{"$f":"Sayfa6!X13","v":" "},{"$f":"Sayfa6!Z13","v":" "},{"$f":"Sayfa6!AA13","v":" "},{"$f":"Sayfa6!AC13","v":" "},{"$f":"Sayfa6!AD13","v":" "},{"$f":"Sayfa6!AE13","v":" "},null,{"$f":"eokul!$K10","v":0}]
[null,10,{"$f":"eokul!$A11","v":46},{"$f":"eokul!B11","v":"HELİN BURAK"},{"$f":"Sayfa6!H14","v":" "},{"$f":"Sayfa6!I14","v":" "},{"$f":"Sayfa6!J14","v":" "},{"$f":"Sayfa6!K14","v":" "},{"$f":"Sayfa6!L14","v":" "},{"$f":"Sayfa6!N14","v":" "},{"$f":"Sayfa6!O14","v":" "},{"$f":"Sayfa6!P14","v":" "},{"$f":"Sayfa6!Q14","v":" "},{"$f":"Sayfa6!R14","v":" "},{"$f":"Sayfa6!T14","v":" "},{"$f":"Sayfa6!U14","v":" "},{"$f":"Sayfa6!V14","v":" "},{"$f":"Sayfa6!W14","v":" "},{"$f":"Sayfa6!X14","v":" "},{"$f":"Sayfa6!Z14","v":" "},{"$f":"Sayfa6!AA14","v":" "},{"$f":"Sayfa6!AC14","v":" "},{"$f":"Sayfa6!AD14","v":" "},{"$f":"Sayfa6!AE14","v":" "},null,{"$f":"eokul!$K11","v":0}]
[null,11,{"$f":"eokul!$A12","v":47},{"$f":"eokul!B12","v":"İKLİM YAZAR"},{"$f":"Sayfa6!H15","v":" "},{"$f":"Sayfa6!I15","v":" "},{"$f":"Sayfa6!J15","v":" "},{"$f":"Sayfa6!K15","v":" "},{"$f":"Sayfa6!L15","v":" "},{"$f":"Sayfa6!N15","v":" "},{"$f":"Sayfa6!O15","v":" "},{"$f":"Sayfa6!P15","v":" "},{"$f":"Sayfa6!Q15","v":" "},{"$f":"Sayfa6!R15","v":" "},{"$f":"Sayfa6!T15","v":" "},{"$f":"Sayfa6!U15","v":" "},{"$f":"Sayfa6!V15","v":" "},{"$f":"Sayfa6!W15","v":" "},{"$f":"Sayfa6!X15","v":" "},{"$f":"Sayfa6!Z15","v":" "},{"$f":"Sayfa6!AA15","v":" "},{"$f":"Sayfa6!AC15","v":" "},{"$f":"Sayfa6!AD15","v":" "},{"$f":"Sayfa6!AE15","v":" "},null,{"$f":"eokul!$K12","v":0}]
[null,12,{"$f":"eokul!$A13","v":63},{"$f":"eokul!B13","v":"İSMAİL HAKKI VURMAZ"},{"$f":"Sayfa6!H16","v":" "},{"$f":"Sayfa6!I16","v":" "},{"$f":"Sayfa6!J16","v":" "},{"$f":"Sayfa6!K16","v":" "},{"$f":"Sayfa6!L16","v":" "},{"$f":"Sayfa6!N16","v":" "},{"$f":"Sayfa6!O16","v":" "},{"$f":"Sayfa6!P16","v":" "},{"$f":"Sayfa6!Q16","v":" "},{"$f":"Sayfa6!R16","v":" "},{"$f":"Sayfa6!T16","v":" "},{"$f":"Sayfa6!U16","v":" "},{"$f":"Sayfa6!V16","v":" "},{"$f":"Sayfa6!W16","v":" "},{"$f":"Sayfa6!X16","v":" "},{"$f":"Sayfa6!Z16","v":" "},{"$f":"Sayfa6!AA16","v":" "},{"$f":"Sayfa6!AC16","v":" "},{"$f":"Sayfa6!AD16","v":" "},{"$f":"Sayfa6!AE16","v":" "},null,{"$f":"eokul!$K13","v":0}]
[null,13,{"$f":"eokul!$A14","v":64},{"$f":"eokul!B14","v":"MÜTALİP GÜL"},{"$f":"Sayfa6!H17","v":" "},{"$f":"Sayfa6!I17","v":" "},{"$f":"Sayfa6!J17","v":" "},{"$f":"Sayfa6!K17","v":" "},{"$f":"Sayfa6!L17","v":" "},{"$f":"Sayfa6!N17","v":" "},{"$f":"Sayfa6!O17","v":" "},{"$f":"Sayfa6!P17","v":" "},{"$f":"Sayfa6!Q17","v":" "},{"$f":"Sayfa6!R17","v":" "},{"$f":"Sayfa6!T17","v":" "},{"$f":"Sayfa6!U17","v":" "},{"$f":"Sayfa6!V17","v":" "},{"$f":"Sayfa6!W17","v":" "},{"$f":"Sayfa6!X17","v":" "},{"$f":"Sayfa6!Z17","v":" "},{"$f":"Sayfa6!AA17","v":" "},{"$f":"Sayfa6!AC17","v":" "},{"$f":"Sayfa6!AD17","v":" "},{"$f":"Sayfa6!AE17","v":" "},null,{"$f":"eokul!$K14","v":0}]
[null,14,{"$f":"eokul!$A15","v":69},{"$f":"eokul!B15","v":"NEHİR YAZAR"},{"$f":"Sayfa6!H18","v":" "},{"$f":"Sayfa6!I18","v":" "},{"$f":"Sayfa6!J18","v":" "},{"$f":"Sayfa6!K18","v":" "},{"$f":"Sayfa6!L18","v":" "},{"$f":"Sayfa6!N18","v":" "},{"$f":"Sayfa6!O18","v":" "},{"$f":"Sayfa6!P18","v":" "},{"$f":"Sayfa6!Q18","v":" "},{"$f":"Sayfa6!R18","v":" "},{"$f":"Sayfa6!T18","v":" "},{"$f":"Sayfa6!U18","v":" "},{"$f":"Sayfa6!V18","v":" "},{"$f":"Sayfa6!W18","v":" "},{"$f":"Sayfa6!X18","v":" "},{"$f":"Sayfa6!Z18","v":" "},{"$f":"Sayfa6!AA18","v":" "},{"$f":"Sayfa6!AC18","v":" "},{"$f":"Sayfa6!AD18","v":" "},{"$f":"Sayfa6!AE18","v":" "},null,{"$f":"eokul!$K15","v":0}]
[null,15,{"$f":"eokul!$A16","v":71},{"$f":"eokul!B16","v":"NEVRUZ BURAK"},{"$f":"Sayfa6!H19","v":" "},{"$f":"Sayfa6!I19","v":" "},{"$f":"Sayfa6!J19","v":" "},{"$f":"Sayfa6!K19","v":" "},{"$f":"Sayfa6!L19","v":" "},{"$f":"Sayfa6!N19","v":" "},{"$f":"Sayfa6!O19","v":" "},{"$f":"Sayfa6!P19","v":" "},{"$f":"Sayfa6!Q19","v":" "},{"$f":"Sayfa6!R19","v":" "},{"$f":"Sayfa6!T19","v":" "},{"$f":"Sayfa6!U19","v":" "},{"$f":"Sayfa6!V19","v":" "},{"$f":"Sayfa6!W19","v":" "},{"$f":"Sayfa6!X19","v":" "},{"$f":"Sayfa6!Z19","v":" "},{"$f":"Sayfa6!AA19","v":" "},{"$f":"Sayfa6!AC19","v":" "},{"$f":"Sayfa6!AD19","v":" "},{"$f":"Sayfa6!AE19","v":" "},null,{"$f":"eokul!$K16","v":0}]
[null,16,{"$f":"eokul!$A17","v":73},{"$f":"eokul!B17","v":"REZAN ÇAKMAKÇI"},{"$f":"Sayfa6!H20","v":" "},{"$f":"Sayfa6!I20","v":" "},{"$f":"Sayfa6!J20","v":" "},{"$f":"Sayfa6!K20","v":" "},{"$f":"Sayfa6!L20","v":" "},{"$f":"Sayfa6!N20","v":" "},{"$f":"Sayfa6!O20","v":" "},{"$f":"Sayfa6!P20","v":" "},{"$f":"Sayfa6!Q20","v":" "},{"$f":"Sayfa6!R20","v":" "},{"$f":"Sayfa6!T20","v":" "},{"$f":"Sayfa6!U20","v":" "},{"$f":"Sayfa6!V20","v":" "},{"$f":"Sayfa6!W20","v":" "},{"$f":"Sayfa6!X20","v":" "},{"$f":"Sayfa6!Z20","v":" "},{"$f":"Sayfa6!AA20","v":" "},{"$f":"Sayfa6!AC20","v":" "},{"$f":"Sayfa6!AD20","v":" "},{"$f":"Sayfa6!AE20","v":" "},null,{"$f":"eokul!$K17","v":0}]
[null,17,{"$f":"eokul!$A18","v":76},{"$f":"eokul!B18","v":"RIFAT YİĞİT"},{"$f":"Sayfa6!H21","v":" "},{"$f":"Sayfa6!I21","v":" "},{"$f":"Sayfa6!J21","v":" "},{"$f":"Sayfa6!K21","v":" "},{"$f":"Sayfa6!L21","v":" "},{"$f":"Sayfa6!N21","v":" "},{"$f":"Sayfa6!O21","v":" "},{"$f":"Sayfa6!P21","v":" "},{"$f":"Sayfa6!Q21","v":" "},{"$f":"Sayfa6!R21","v":" "},{"$f":"Sayfa6!T21","v":" "},{"$f":"Sayfa6!U21","v":" "},{"$f":"Sayfa6!V21","v":" "},{"$f":"Sayfa6!W21","v":" "},{"$f":"Sayfa6!X21","v":" "},{"$f":"Sayfa6!Z21","v":" "},{"$f":"Sayfa6!AA21","v":" "},{"$f":"Sayfa6!AC21","v":" "},{"$f":"Sayfa6!AD21","v":" "},{"$f":"Sayfa6!AE21","v":" "},null,{"$f":"eokul!$K18","v":0}]
[null,18,{"$f":"eokul!$A19","v":87},{"$f":"eokul!B19","v":"RUMEYSA MENDİ"},{"$f":"Sayfa6!H22","v":" "},{"$f":"Sayfa6!I22","v":" "},{"$f":"Sayfa6!J22","v":" "},{"$f":"Sayfa6!K22","v":" "},{"$f":"Sayfa6!L22","v":" "},{"$f":"Sayfa6!N22","v":" "},{"$f":"Sayfa6!O22","v":" "},{"$f":"Sayfa6!P22","v":" "},{"$f":"Sayfa6!Q22","v":" "},{"$f":"Sayfa6!R22","v":" "},{"$f":"Sayfa6!T22","v":" "},{"$f":"Sayfa6!U22","v":" "},{"$f":"Sayfa6!V22","v":" "},{"$f":"Sayfa6!W22","v":" "},{"$f":"Sayfa6!X22","v":" "},{"$f":"Sayfa6!Z22","v":" "},{"$f":"Sayfa6!AA22","v":" "},{"$f":"Sayfa6!AC22","v":" "},{"$f":"Sayfa6!AD22","v":" "},{"$f":"Sayfa6!AE22","v":" "},null,{"$f":"eokul!$K19","v":0}]
[null,19,{"$f":"eokul!$A20","v":91},{"$f":"eokul!B20","v":"SÜLEYMAN İŞİK"},{"$f":"Sayfa6!H23","v":" "},{"$f":"Sayfa6!I23","v":" "},{"$f":"Sayfa6!J23","v":" "},{"$f":"Sayfa6!K23","v":" "},{"$f":"Sayfa6!L23","v":" "},{"$f":"Sayfa6!N23","v":" "},{"$f":"Sayfa6!O23","v":" "},{"$f":"Sayfa6!P23","v":" "},{"$f":"Sayfa6!Q23","v":" "},{"$f":"Sayfa6!R23","v":" "},{"$f":"Sayfa6!T23","v":" "},{"$f":"Sayfa6!U23","v":" "},{"$f":"Sayfa6!V23","v":" "},{"$f":"Sayfa6!W23","v":" "},{"$f":"Sayfa6!X23","v":" "},{"$f":"Sayfa6!Z23","v":" "},{"$f":"Sayfa6!AA23","v":" "},{"$f":"Sayfa6!AC23","v":" "},{"$f":"Sayfa6!AD23","v":" "},{"$f":"Sayfa6!AE23","v":" "},null,{"$f":"eokul!$K20","v":0}]
[null,20,{"$f":"eokul!$A21","v":93},{"$f":"eokul!B21","v":"ŞİYAR BAYILMAZ"},{"$f":"Sayfa6!H24","v":" "},{"$f":"Sayfa6!I24","v":" "},{"$f":"Sayfa6!J24","v":" "},{"$f":"Sayfa6!K24","v":" "},{"$f":"Sayfa6!L24","v":" "},{"$f":"Sayfa6!N24","v":" "},{"$f":"Sayfa6!O24","v":" "},{"$f":"Sayfa6!P24","v":" "},{"$f":"Sayfa6!Q24","v":" "},{"$f":"Sayfa6!R24","v":" "},{"$f":"Sayfa6!T24","v":" "},{"$f":"Sayfa6!U24","v":" "},{"$f":"Sayfa6!V24","v":" "},{"$f":"Sayfa6!W24","v":" "},{"$f":"Sayfa6!X24","v":" "},{"$f":"Sayfa6!Z24","v":" "},{"$f":"Sayfa6!AA24","v":" "},{"$f":"Sayfa6!AC24","v":" "},{"$f":"Sayfa6!AD24","v":" "},{"$f":"Sayfa6!AE24","v":" "},null,{"$f":"eokul!$K21","v":0}]
[null,21,{"$f":"eokul!$A22","v":94},{"$f":"eokul!B22","v":"TUĞBA ECE"},{"$f":"Sayfa6!H25","v":" "},{"$f":"Sayfa6!I25","v":" "},{"$f":"Sayfa6!J25","v":" "},{"$f":"Sayfa6!K25","v":" "},{"$f":"Sayfa6!L25","v":" "},{"$f":"Sayfa6!N25","v":" "},{"$f":"Sayfa6!O25","v":" "},{"$f":"Sayfa6!P25","v":" "},{"$f":"Sayfa6!Q25","v":" "},{"$f":"Sayfa6!R25","v":" "},{"$f":"Sayfa6!T25","v":" "},{"$f":"Sayfa6!U25","v":" "},{"$f":"Sayfa6!V25","v":" "},{"$f":"Sayfa6!W25","v":" "},{"$f":"Sayfa6!X25","v":" "},{"$f":"Sayfa6!Z25","v":" "},{"$f":"Sayfa6!AA25","v":" "},{"$f":"Sayfa6!AC25","v":" "},{"$f":"Sayfa6!AD25","v":" "},{"$f":"Sayfa6!AE25","v":" "},null,{"$f":"eokul!$K22","v":0}]
[null,22,{"$f":"eokul!$A23","v":95},{"$f":"eokul!B23","v":"UMUT ÇATMA"},{"$f":"Sayfa6!H26","v":" "},{"$f":"Sayfa6!I26","v":" "},{"$f":"Sayfa6!J26","v":" "},{"$f":"Sayfa6!K26","v":" "},{"$f":"Sayfa6!L26","v":" "},{"$f":"Sayfa6!N26","v":" "},{"$f":"Sayfa6!O26","v":" "},{"$f":"Sayfa6!P26","v":" "},{"$f":"Sayfa6!Q26","v":" "},{"$f":"Sayfa6!R26","v":" "},{"$f":"Sayfa6!T26","v":" "},{"$f":"Sayfa6!U26","v":" "},{"$f":"Sayfa6!V26","v":" "},{"$f":"Sayfa6!W26","v":" "},{"$f":"Sayfa6!X26","v":" "},{"$f":"Sayfa6!Z26","v":" "},{"$f":"Sayfa6!AA26","v":" "},{"$f":"Sayfa6!AC26","v":" "},{"$f":"Sayfa6!AD26","v":" "},{"$f":"Sayfa6!AE26","v":" "},null,{"$f":"eokul!$K23","v":0}]
[null,23,{"$f":"eokul!$A24","v":96},{"$f":"eokul!B24","v":"YILMAZ ŞEYRAN"},{"$f":"Sayfa6!H27","v":" "},{"$f":"Sayfa6!I27","v":" "},{"$f":"Sayfa6!J27","v":" "},{"$f":"Sayfa6!K27","v":" "},{"$f":"Sayfa6!L27","v":" "},{"$f":"Sayfa6!N27","v":" "},{"$f":"Sayfa6!O27","v":" "},{"$f":"Sayfa6!P27","v":" "},{"$f":"Sayfa6!Q27","v":" "},{"$f":"Sayfa6!R27","v":" "},{"$f":"Sayfa6!T27","v":" "},{"$f":"Sayfa6!U27","v":" "},{"$f":"Sayfa6!V27","v":" "},{"$f":"Sayfa6!W27","v":" "},{"$f":"Sayfa6!X27","v":" "},{"$f":"Sayfa6!Z27","v":" "},{"$f":"Sayfa6!AA27","v":" "},{"$f":"Sayfa6!AC27","v":" "},{"$f":"Sayfa6!AD27","v":" "},{"$f":"Sayfa6!AE27","v":" "},null,{"$f":"eokul!$K24","v":0}]
[null,24,{"$f":"eokul!$A25","v":100},{"$f":"eokul!B25","v":"HATİCE VURMAZ"},{"$f":"Sayfa6!H28","v":" "},{"$f":"Sayfa6!I28","v":" "},{"$f":"Sayfa6!J28","v":" "},{"$f":"Sayfa6!K28","v":" "},{"$f":"Sayfa6!L28","v":" "},{"$f":"Sayfa6!N28","v":" "},{"$f":"Sayfa6!O28","v":" "},{"$f":"Sayfa6!P28","v":" "},{"$f":"Sayfa6!Q28","v":" "},{"$f":"Sayfa6!R28","v":" "},{"$f":"Sayfa6!T28","v":" "},{"$f":"Sayfa6!U28","v":" "},{"$f":"Sayfa6!V28","v":" "},{"$f":"Sayfa6!W28","v":" "},{"$f":"Sayfa6!X28","v":" "},{"$f":"Sayfa6!Z28","v":" "},{"$f":"Sayfa6!AA28","v":" "},{"$f":"Sayfa6!AC28","v":" "},{"$f":"Sayfa6!AD28","v":" "},{"$f":"Sayfa6!AE28","v":" "},null,{"$f":"eokul!$K25","v":0}]
[null,25,{"$f":"eokul!$A26","v":0},{"$f":"eokul!B26","v":0},{"$f":"Sayfa6!H29","v":" "},{"$f":"Sayfa6!I29","v":" "},{"$f":"Sayfa6!J29","v":" "},{"$f":"Sayfa6!K29","v":" "},{"$f":"Sayfa6!L29","v":" "},{"$f":"Sayfa6!N29","v":" "},{"$f":"Sayfa6!O29","v":" "},{"$f":"Sayfa6!P29","v":" "},{"$f":"Sayfa6!Q29","v":" "},{"$f":"Sayfa6!R29","v":" "},{"$f":"Sayfa6!T29","v":" "},{"$f":"Sayfa6!U29","v":" "},{"$f":"Sayfa6!V29","v":" "},{"$f":"Sayfa6!W29","v":" "},{"$f":"Sayfa6!X29","v":" "},{"$f":"Sayfa6!Z29","v":" "},{"$f":"Sayfa6!AA29","v":" "},{"$f":"Sayfa6!AC29","v":" "},{"$f":"Sayfa6!AD29","v":" "},{"$f":"Sayfa6!AE29","v":" "},null,{"$f":"eokul!$K26","v":0}]
[null,26,{"$f":"eokul!$A27","v":0},{"$f":"eokul!B27","v":0},{"$f":"Sayfa6!H30","v":" "},{"$f":"Sayfa6!I30","v":" "},{"$f":"Sayfa6!J30","v":" "},{"$f":"Sayfa6!K30","v":" "},{"$f":"Sayfa6!L30","v":" "},{"$f":"Sayfa6!N30","v":" "},{"$f":"Sayfa6!O30","v":" "},{"$f":"Sayfa6!P30","v":" "},{"$f":"Sayfa6!Q30","v":" "},{"$f":"Sayfa6!R30","v":" "},{"$f":"Sayfa6!T30","v":" "},{"$f":"Sayfa6!U30","v":" "},{"$f":"Sayfa6!V30","v":" "},{"$f":"Sayfa6!W30","v":" "},{"$f":"Sayfa6!X30","v":" "},{"$f":"Sayfa6!Z30","v":" "},{"$f":"Sayfa6!AA30","v":" "},{"$f":"Sayfa6!AC30","v":" "},{"$f":"Sayfa6!AD30","v":" "},{"$f":"Sayfa6!AE30","v":" "},null,{"$f":"eokul!$K27","v":0}]
[null,27,{"$f":"eokul!$A28","v":0},{"$f":"eokul!B28","v":0},{"$f":"Sayfa6!H31","v":" "},{"$f":"Sayfa6!I31","v":" "},{"$f":"Sayfa6!J31","v":" "},{"$f":"Sayfa6!K31","v":" "},{"$f":"Sayfa6!L31","v":" "},{"$f":"Sayfa6!N31","v":" "},{"$f":"Sayfa6!O31","v":" "},{"$f":"Sayfa6!P31","v":" "},{"$f":"Sayfa6!Q31","v":" "},{"$f":"Sayfa6!R31","v":" "},{"$f":"Sayfa6!T31","v":" "},{"$f":"Sayfa6!U31","v":" "},{"$f":"Sayfa6!V31","v":" "},{"$f":"Sayfa6!W31","v":" "},{"$f":"Sayfa6!X31","v":" "},{"$f":"Sayfa6!Z31","v":" "},{"$f":"Sayfa6!AA31","v":" "},{"$f":"Sayfa6!AC31","v":" "},{"$f":"Sayfa6!AD31","v":" "},{"$f":"Sayfa6!AE31","v":" "},null,{"$f":"eokul!$K28","v":0}]
[null,28,{"$f":"eokul!$A29","v":0},{"$f":"eokul!B29","v":0},{"$f":"Sayfa6!H32","v":" "},{"$f":"Sayfa6!I32","v":" "},{"$f":"Sayfa6!J32","v":" "},{"$f":"Sayfa6!K32","v":" "},{"$f":"Sayfa6!L32","v":" "},{"$f":"Sayfa6!N32","v":" "},{"$f":"Sayfa6!O32","v":" "},{"$f":"Sayfa6!P32","v":" "},{"$f":"Sayfa6!Q32","v":" "},{"$f":"Sayfa6!R32","v":" "},{"$f":"Sayfa6!T32","v":" "},{"$f":"Sayfa6!U32","v":" "},{"$f":"Sayfa6!V32","v":" "},{"$f":"Sayfa6!W32","v":" "},{"$f":"Sayfa6!X32","v":" "},{"$f":"Sayfa6!Z32","v":" "},{"$f":"Sayfa6!AA32","v":" "},{"$f":"Sayfa6!AC32","v":" "},{"$f":"Sayfa6!AD32","v":" "},{"$f":"Sayfa6!AE32","v":" "},null,{"$f":"eokul!$K29","v":0}]
[null,29,{"$f":"eokul!$A30","v":0},{"$f":"eokul!B30","v":0},{"$f":"Sayfa6!H33","v":" "},{"$f":"Sayfa6!I33","v":" "},{"$f":"Sayfa6!J33","v":" "},{"$f":"Sayfa6!K33","v":" "},{"$f":"Sayfa6!L33","v":" "},{"$f":"Sayfa6!N33","v":" "},{"$f":"Sayfa6!O33","v":" "},{"$f":"Sayfa6!P33","v":" "},{"$f":"Sayfa6!Q33","v":" "},{"$f":"Sayfa6!R33","v":" "},{"$f":"Sayfa6!T33","v":" "},{"$f":"Sayfa6!U33","v":" "},{"$f":"Sayfa6!V33","v":" "},{"$f":"Sayfa6!W33","v":" "},{"$f":"Sayfa6!X33","v":" "},{"$f":"Sayfa6!Z33","v":" "},{"$f":"Sayfa6!AA33","v":" "},{"$f":"Sayfa6!AC33","v":" "},{"$f":"Sayfa6!AD33","v":" "},{"$f":"Sayfa6!AE33","v":" "},null,{"$f":"eokul!$K30","v":0}]
[null,30,{"$f":"eokul!$A31","v":0},{"$f":"eokul!B31","v":0},{"$f":"Sayfa6!H34","v":" "},{"$f":"Sayfa6!I34","v":" "},{"$f":"Sayfa6!J34","v":" "},{"$f":"Sayfa6!K34","v":" "},{"$f":"Sayfa6!L34","v":" "},{"$f":"Sayfa6!N34","v":" "},{"$f":"Sayfa6!O34","v":" "},{"$f":"Sayfa6!P34","v":" "},{"$f":"Sayfa6!Q34","v":" "},{"$f":"Sayfa6!R34","v":" "},{"$f":"Sayfa6!T34","v":" "},{"$f":"Sayfa6!U34","v":" "},{"$f":"Sayfa6!V34","v":" "},{"$f":"Sayfa6!W34","v":" "},{"$f":"Sayfa6!X34","v":" "},{"$f":"Sayfa6!Z34","v":" "},{"$f":"Sayfa6!AA34","v":" "},{"$f":"Sayfa6!AC34","v":" "},{"$f":"Sayfa6!AD34","v":" "},{"$f":"Sayfa6!AE34","v":" "},null,{"$f":"eokul!$K31","v":0}]
[null,31,{"$f":"eokul!$A32","v":0},{"$f":"eokul!B32","v":0},{"$f":"Sayfa6!H35","v":" "},{"$f":"Sayfa6!I35","v":" "},{"$f":"Sayfa6!J35","v":" "},{"$f":"Sayfa6!K35","v":" "},{"$f":"Sayfa6!L35","v":" "},{"$f":"Sayfa6!N35","v":" "},{"$f":"Sayfa6!O35","v":" "},{"$f":"Sayfa6!P35","v":" "},{"$f":"Sayfa6!Q35","v":" "},{"$f":"Sayfa6!R35","v":" "},{"$f":"Sayfa6!T35","v":" "},{"$f":"Sayfa6!U35","v":" "},{"$f":"Sayfa6!V35","v":" "},{"$f":"Sayfa6!W35","v":" "},{"$f":"Sayfa6!X35","v":" "},{"$f":"Sayfa6!Z35","v":" "},{"$f":"Sayfa6!AA35","v":" "},{"$f":"Sayfa6!AC35","v":" "},{"$f":"Sayfa6!AD35","v":" "},{"$f":"Sayfa6!AE35","v":" "},null,{"$f":"eokul!$K32","v":0}]
[null,32,{"$f":"eokul!$A33","v":0},{"$f":"eokul!B33","v":0},{"$f":"Sayfa6!H36","v":" "},{"$f":"Sayfa6!I36","v":" "},{"$f":"Sayfa6!J36","v":" "},{"$f":"Sayfa6!K36","v":" "},{"$f":"Sayfa6!L36","v":" "},{"$f":"Sayfa6!N36","v":" "},{"$f":"Sayfa6!O36","v":" "},{"$f":"Sayfa6!P36","v":" "},{"$f":"Sayfa6!Q36","v":" "},{"$f":"Sayfa6!R36","v":" "},{"$f":"Sayfa6!T36","v":" "},{"$f":"Sayfa6!U36","v":" "},{"$f":"Sayfa6!V36","v":" "},{"$f":"Sayfa6!W36","v":" "},{"$f":"Sayfa6!X36","v":" "},{"$f":"Sayfa6!Z36","v":" "},{"$f":"Sayfa6!AA36","v":" "},{"$f":"Sayfa6!AC36","v":" "},{"$f":"Sayfa6!AD36","v":" "},{"$f":"Sayfa6!AE36","v":" "},null,{"$f":"eokul!$K33","v":0}]
[null,33,{"$f":"eokul!$A34","v":0},{"$f":"eokul!B34","v":0},{"$f":"Sayfa6!H37","v":" "},{"$f":"Sayfa6!I37","v":" "},{"$f":"Sayfa6!J37","v":" "},{"$f":"Sayfa6!K37","v":" "},{"$f":"Sayfa6!L37","v":" "},{"$f":"Sayfa6!N37","v":" "},{"$f":"Sayfa6!O37","v":" "},{"$f":"Sayfa6!P37","v":" "},{"$f":"Sayfa6!Q37","v":" "},{"$f":"Sayfa6!R37","v":" "},{"$f":"Sayfa6!T37","v":" "},{"$f":"Sayfa6!U37","v":" "},{"$f":"Sayfa6!V37","v":" "},{"$f":"Sayfa6!W37","v":" "},{"$f":"Sayfa6!X37","v":" "},{"$f":"Sayfa6!Z37","v":" "},{"$f":"Sayfa6!AA37","v":" "},{"$f":"Sayfa6!AC37","v":" "},{"$f":"Sayfa6!AD37","v":" "},{"$f":"Sayfa6!AE37","v":" "},null,{"$f":"eokul!$K34","v":0}]
[null,34,{"$f":"eokul!$A35","v":0},{"$f":"eokul!B35","v":0},{"$f":"Sayfa6!H38","v":" "},{"$f":"Sayfa6!I38","v":" "},{"$f":"Sayfa6!J38","v":" "},{"$f":"Sayfa6!K38","v":" "},{"$f":"Sayfa6!L38","v":" "},{"$f":"Sayfa6!N38","v":" "},{"$f":"Sayfa6!O38","v":" "},{"$f":"Sayfa6!P38","v":" "},{"$f":"Sayfa6!Q38","v":" "},{"$f":"Sayfa6!R38","v":" "},{"$f":"Sayfa6!T38","v":" "},{"$f":"Sayfa6!U38","v":" "},{"$f":"Sayfa6!V38","v":" "},{"$f":"Sayfa6!W38","v":" "},{"$f":"Sayfa6!X38","v":" "},{"$f":"Sayfa6!Z38","v":" "},{"$f":"Sayfa6!AA38","v":" "},{"$f":"Sayfa6!AC38","v":" "},{"$f":"Sayfa6!AD38","v":" "},{"$f":"Sayfa6!AE38","v":" "},null,{"$f":"eokul!$K35","v":0}]
[null,35,{"$f":"eokul!$A36","v":0},{"$f":"eokul!B36","v":0},{"$f":"Sayfa6!H39","v":" "},{"$f":"Sayfa6!I39","v":" "},{"$f":"Sayfa6!J39","v":" "},{"$f":"Sayfa6!K39","v":" "},{"$f":"Sayfa6!L39","v":" "},{"$f":"Sayfa6!N39","v":" "},{"$f":"Sayfa6!O39","v":" "},{"$f":"Sayfa6!P39","v":" "},{"$f":"Sayfa6!Q39","v":" "},{"$f":"Sayfa6!R39","v":" "},{"$f":"Sayfa6!T39","v":" "},{"$f":"Sayfa6!U39","v":" "},{"$f":"Sayfa6!V39","v":" "},{"$f":"Sayfa6!W39","v":" "},{"$f":"Sayfa6!X39","v":" "},{"$f":"Sayfa6!Z39","v":" "},{"$f":"Sayfa6!AA39","v":" "},{"$f":"Sayfa6!AC39","v":" "},{"$f":"Sayfa6!AD39","v":" "},{"$f":"Sayfa6!AE39","v":" "},null,{"$f":"eokul!$K36","v":0}]
[null,36,{"$f":"eokul!$A37","v":0},{"$f":"eokul!B37","v":0},{"$f":"Sayfa6!H40","v":" "},{"$f":"Sayfa6!I40","v":" "},{"$f":"Sayfa6!J40","v":" "},{"$f":"Sayfa6!K40","v":" "},{"$f":"Sayfa6!L40","v":" "},{"$f":"Sayfa6!N40","v":" "},{"$f":"Sayfa6!O40","v":" "},{"$f":"Sayfa6!P40","v":" "},{"$f":"Sayfa6!Q40","v":" "},{"$f":"Sayfa6!R40","v":" "},{"$f":"Sayfa6!T40","v":" "},{"$f":"Sayfa6!U40","v":" "},{"$f":"Sayfa6!V40","v":" "},{"$f":"Sayfa6!W40","v":" "},{"$f":"Sayfa6!X40","v":" "},{"$f":"Sayfa6!Z40","v":" "},{"$f":"Sayfa6!AA40","v":" "},{"$f":"Sayfa6!AC40","v":" "},{"$f":"Sayfa6!AD40","v":" "},{"$f":"Sayfa6!AE40","v":" "},null,{"$f":"eokul!$K37","v":0}]
[null,37,{"$f":"eokul!$A38","v":0},{"$f":"eokul!B38","v":0},{"$f":"Sayfa6!H41","v":" "},{"$f":"Sayfa6!I41","v":" "},{"$f":"Sayfa6!J41","v":" "},{"$f":"Sayfa6!K41","v":" "},{"$f":"Sayfa6!L41","v":" "},{"$f":"Sayfa6!N41","v":" "},{"$f":"Sayfa6!O41","v":" "},{"$f":"Sayfa6!P41","v":" "},{"$f":"Sayfa6!Q41","v":" "},{"$f":"Sayfa6!R41","v":" "},{"$f":"Sayfa6!T41","v":" "},{"$f":"Sayfa6!U41","v":" "},{"$f":"Sayfa6!V41","v":" "},{"$f":"Sayfa6!W41","v":" "},{"$f":"Sayfa6!X41","v":" "},{"$f":"Sayfa6!Z41","v":" "},{"$f":"Sayfa6!AA41","v":" "},{"$f":"Sayfa6!AC41","v":" "},{"$f":"Sayfa6!AD41","v":" "},{"$f":"Sayfa6!AE41","v":" "},null,{"$f":"eokul!$K38","v":0}]
[null,38,{"$f":"eokul!$A39","v":0},{"$f":"eokul!B39","v":0},{"$f":"Sayfa6!H42","v":" "},{"$f":"Sayfa6!I42","v":" "},{"$f":"Sayfa6!J42","v":" "},{"$f":"Sayfa6!K42","v":" "},{"$f":"Sayfa6!L42","v":" "},{"$f":"Sayfa6!N42","v":" "},{"$f":"Sayfa6!O42","v":" "},{"$f":"Sayfa6!P42","v":" "},{"$f":"Sayfa6!Q42","v":" "},{"$f":"Sayfa6!R42","v":" "},{"$f":"Sayfa6!T42","v":" "},{"$f":"Sayfa6!U42","v":" "},{"$f":"Sayfa6!V42","v":" "},{"$f":"Sayfa6!W42","v":" "},{"$f":"Sayfa6!X42","v":" "},{"$f":"Sayfa6!Z42","v":" "},{"$f":"Sayfa6!AA42","v":" "},{"$f":"Sayfa6!AC42","v":" "},{"$f":"Sayfa6!AD42","v":" "},{"$f":"Sayfa6!AE42","v":" "},null,{"$f":"eokul!$K39","v":0}]
[null,39,{"$f":"eokul!$A40","v":0},{"$f":"eokul!B40","v":0},{"$f":"Sayfa6!H43","v":" "},{"$f":"Sayfa6!I43","v":" "},{"$f":"Sayfa6!J43","v":" "},{"$f":"Sayfa6!K43","v":" "},{"$f":"Sayfa6!L43","v":" "},{"$f":"Sayfa6!N43","v":" "},{"$f":"Sayfa6!O43","v":" "},{"$f":"Sayfa6!P43","v":" "},{"$f":"Sayfa6!Q43","v":" "},{"$f":"Sayfa6!R43","v":" "},{"$f":"Sayfa6!T43","v":" "},{"$f":"Sayfa6!U43","v":" "},{"$f":"Sayfa6!V43","v":" "},{"$f":"Sayfa6!W43","v":" "},{"$f":"Sayfa6!X43","v":" "},{"$f":"Sayfa6!Z43","v":" "},{"$f":"Sayfa6!AA43","v":" "},{"$f":"Sayfa6!AC43","v":" "},{"$f":"Sayfa6!AD43","v":" "},{"$f":"Sayfa6!AE43","v":" "},null,{"$f":"eokul!$K40","v":0}]
[null,40,{"$f":"eokul!$A41","v":0},{"$f":"eokul!B41","v":0},{"$f":"Sayfa6!H44","v":" "},{"$f":"Sayfa6!I44","v":" "},{"$f":"Sayfa6!J44","v":" "},{"$f":"Sayfa6!K44","v":" "},{"$f":"Sayfa6!L44","v":" "},{"$f":"Sayfa6!N44","v":" "},{"$f":"Sayfa6!O44","v":" "},{"$f":"Sayfa6!P44","v":" "},{"$f":"Sayfa6!Q44","v":" "},{"$f":"Sayfa6!R44","v":" "},{"$f":"Sayfa6!T44","v":" "},{"$f":"Sayfa6!U44","v":" "},{"$f":"Sayfa6!V44","v":" "},{"$f":"Sayfa6!W44","v":" "},{"$f":"Sayfa6!X44","v":" "},{"$f":"Sayfa6!Z44","v":" "},{"$f":"Sayfa6!AA44","v":" "},{"$f":"Sayfa6!AC44","v":" "},{"$f":"Sayfa6!AD44","v":" "},{"$f":"Sayfa6!AE44","v":" "},null,{"$f":"eokul!$K41","v":0}]
[]
[]
[]
[]
[]
[]
[]
[]
[null,null,null,{"$f":"ANASAYFA!D7","v":"  KENDİNİZİ YAZINIZ"},null,null,null,null,null,null,null,null,null,null,null,null,{"$f":"ANASAYFA!D9","v":" KURUMUNUZUN MÜDÜRÜNÜ YAZINIZ"}]
[null,null,null,{"$f":"ANASAYFA!D8","v":" DERS ÖĞRETMENİ"},null,null,null,null,null,null,null,null,null,null,null,null,{"$f":"ANASAYFA!D10","v":"OKUL MÜDÜRÜ"}]